BEGIN:VCALENDAR
VERSION:2.0
PRODID:-//Uptown Saint John - ECPv6.15.20//NONSGML v1.0//EN
CALSCALE:GREGORIAN
METHOD:PUBLISH
X-ORIGINAL-URL:https://uptownsj.com
X-WR-CALDESC:Events for Uptown Saint John
REFRESH-INTERVAL;VALUE=DURATION:PT1H
X-Robots-Tag:noindex
X-PUBLISHED-TTL:PT1H
BEGIN:VTIMEZONE
TZID:America/Halifax
BEGIN:DAYLIGHT
TZOFFSETFROM:-0400
TZOFFSETTO:-0300
TZNAME:ADT
DTSTART:20220313T060000
END:DAYLIGHT
BEGIN:STANDARD
TZOFFSETFROM:-0300
TZOFFSETTO:-0400
TZNAME:AST
DTSTART:20221106T050000
END:STANDARD
BEGIN:DAYLIGHT
TZOFFSETFROM:-0400
TZOFFSETTO:-0300
TZNAME:ADT
DTSTART:20230312T060000
END:DAYLIGHT
BEGIN:STANDARD
TZOFFSETFROM:-0300
TZOFFSETTO:-0400
TZNAME:AST
DTSTART:20231105T050000
END:STANDARD
BEGIN:DAYLIGHT
TZOFFSETFROM:-0400
TZOFFSETTO:-0300
TZNAME:ADT
DTSTART:20240310T060000
END:DAYLIGHT
BEGIN:STANDARD
TZOFFSETFROM:-0300
TZOFFSETTO:-0400
TZNAME:AST
DTSTART:20241103T050000
END:STANDARD
END:VTIMEZONE
BEGIN:VEVENT
DTSTART;TZID=America/Halifax:20230610T100000
DTEND;TZID=America/Halifax:20230610T140000
DTSTAMP:20260420T070318
CREATED:20230523T171957Z
LAST-MODIFIED:20230523T171957Z
UID:10002494-1686391200-1686405600@uptownsj.com
SUMMARY:That's Mousestache Story Time & Mini Pride Market
DESCRIPTION:Join us from 10am to 12pm at The Kindness Closet to hear Mousetache\, the Maritime’s youngest drag king\, read some fun books\, sing some songs and do some crafts! But the fun doesn’t end there – stay around until 2pm and enjoy a market of local artisan and upcycled products + gather information from some local non-profit agencies. \nAll ages welcome! Family friendly! Inclusive & safe space.
URL:https://uptownsj.com/event/thats-mousestache-story-time-mini-pride-market/
LOCATION:The Kindness Closet\, 17 N Market St\, Saint John\, NB\, E2L 2W3\, Canada
CATEGORIES:Community,Food,Free
ORGANIZER;CN="The Kindness Closet":MAILTO:courtney@thekindnesscloset.ca
END:VEVENT
BEGIN:VEVENT
DTSTART;TZID=America/Halifax:20230527T110000
DTEND;TZID=America/Halifax:20230527T170000
DTSTAMP:20260420T070318
CREATED:20230524T170826Z
LAST-MODIFIED:20230524T170826Z
UID:10002509-1685185200-1685206800@uptownsj.com
SUMMARY:The Kindness Closet - Spring into Summer
DESCRIPTION:Pop into The Kindness Closet for a day of deals! \n$4 skirts & shorts!\n$12 NEW sunglasses!\n10% off the rest of your purchase! \nNew items will be hitting the racks all day long!
URL:https://uptownsj.com/event/the-kindness-closet-spring-into-summer/
LOCATION:The Kindness Closet\, 17 N Market St\, Saint John\, NB\, E2L 2W3\, Canada
CATEGORIES:Community,Uptown Saint John BIA Event
ORGANIZER;CN="The Kindness Closet":MAILTO:courtney@thekindnesscloset.ca
END:VEVENT
END:VCALENDAR