BEGIN:VCALENDAR
VERSION:2.0
PRODID:-//Uptown Saint John - ECPv6.15.20//NONSGML v1.0//EN
CALSCALE:GREGORIAN
METHOD:PUBLISH
X-WR-CALNAME:Uptown Saint John
X-ORIGINAL-URL:https://uptownsj.com
X-WR-CALDESC:Events for Uptown Saint John
REFRESH-INTERVAL;VALUE=DURATION:PT1H
X-Robots-Tag:noindex
X-PUBLISHED-TTL:PT1H
BEGIN:VTIMEZONE
TZID:America/Halifax
BEGIN:DAYLIGHT
TZOFFSETFROM:-0400
TZOFFSETTO:-0300
TZNAME:ADT
DTSTART:20220313T060000
END:DAYLIGHT
BEGIN:STANDARD
TZOFFSETFROM:-0300
TZOFFSETTO:-0400
TZNAME:AST
DTSTART:20221106T050000
END:STANDARD
BEGIN:DAYLIGHT
TZOFFSETFROM:-0400
TZOFFSETTO:-0300
TZNAME:ADT
DTSTART:20230312T060000
END:DAYLIGHT
BEGIN:STANDARD
TZOFFSETFROM:-0300
TZOFFSETTO:-0400
TZNAME:AST
DTSTART:20231105T050000
END:STANDARD
BEGIN:DAYLIGHT
TZOFFSETFROM:-0400
TZOFFSETTO:-0300
TZNAME:ADT
DTSTART:20240310T060000
END:DAYLIGHT
BEGIN:STANDARD
TZOFFSETFROM:-0300
TZOFFSETTO:-0400
TZNAME:AST
DTSTART:20241103T050000
END:STANDARD
BEGIN:DAYLIGHT
TZOFFSETFROM:-0400
TZOFFSETTO:-0300
TZNAME:ADT
DTSTART:20250309T060000
END:DAYLIGHT
BEGIN:STANDARD
TZOFFSETFROM:-0300
TZOFFSETTO:-0400
TZNAME:AST
DTSTART:20251102T050000
END:STANDARD
BEGIN:DAYLIGHT
TZOFFSETFROM:-0400
TZOFFSETTO:-0300
TZNAME:ADT
DTSTART:20260308T060000
END:DAYLIGHT
BEGIN:STANDARD
TZOFFSETFROM:-0300
TZOFFSETTO:-0400
TZNAME:AST
DTSTART:20261101T050000
END:STANDARD
END:VTIMEZONE
BEGIN:VEVENT
DTSTART;TZID=America/Halifax:20251024T160000
DTEND;TZID=America/Halifax:20251025T000000
DTSTAMP:20260425T204409
CREATED:20251007T141305Z
LAST-MODIFIED:20251007T141305Z
UID:10015169-1761321600-1761350400@uptownsj.com
SUMMARY:CARPE NOCTEM - Art vs. Fashion Exhibition
DESCRIPTION:Carpe Noctem\n-Art vs. Fashion Exhibition- \n📅 Friday October 24th 4pm – 12am\n📍 Mitote Gallery\n1 Charlotte St. Saint John NB \nMitote Gallery is back with our 4th annual exhibit where art meets fashion!\nJoin us for a epic night during the Saint John Gallery Hop! \nFeaturing: \n-Craig Gower\n@artistcraiggower\nReleasing all new\, unseen bold\, powerful artwork & a new line-up of clothing \n-Tyler Leblanc\n@nobodylistentotechno\nReleasing all new\, unseen graffiti artwork. \n-Exit98\n@exit98vtg\nReleasing a line of custom designed clothing & showcasing a line-up of curated vintage clothing. \n-Castlecarry\n@castlecarry_official\nTattooing live all night! \n-SoHeavnly\n@_soheavnly_\nFashion designer from Moncton New Brunswick will be showcasing new\, unseen clothing. \n-Tree’s Tees\n@treesteesmoncton\nOwner of Tree’s Tees from Moncton New Brunswick will be showcasing a line-up of curated vintage clothing. \n-Live music performance by Felix Fawkes & DJ Bedtime \n( Family & pet friendly! )
URL:https://uptownsj.com/event/carpe-noctem-art-vs-fashion-exhibition-2/
LOCATION:Mitote Art Gallery\, 1 Charlotte St\, Saint John\, New Brunswick\, E2L 2H3\, Canada
CATEGORIES:Art,Free,Live Music,Networking
ATTACH;FMTTYPE=image/jpeg:https://uptownsj.com/wp-content/uploads/2025/10/E67FCB93-61C3-40DC-829E-4EA4CBFD7DC3.jpeg
END:VEVENT
BEGIN:VEVENT
DTSTART;TZID=America/Halifax:20241025T180000
DTEND;TZID=America/Halifax:20241026T000000
DTSTAMP:20260425T204409
CREATED:20240927T122836Z
LAST-MODIFIED:20240927T122836Z
UID:10009610-1729879200-1729900800@uptownsj.com
SUMMARY:Carpe Noctem -Art vs. Fashion Exhibition-
DESCRIPTION:Carpe Noctem \n-Art vs. Fashion Exhibition- \nFriday October 25th 6pm – 12am\nMitote Gallery\n1 Charlotte St. Saint John NB \nJoin us on this epic night for our 3rd annual event where art meets fashion! \nFeaturing: \n– @artistcraiggower will be releasing a line of clothing\, bags and showcasing bold\, powerful artwork \n– @nobodylistentotechno will be showcasing new graffiti artwork \n– @rugmuncher902 from Nova Scotia will be showcasing custom designed handmade rugs. \n– @exit98vtg will be showcasing a line-up of curated vintage clothing. \n– Live tattooing by @castlecarry \n– @_soheavnly_ \, fashion designer from Moncton New Brunswick will be showcasing new\, unseen clothing. \n– Live music performance by DJ 4ME @willcblackmore  \n( Family & pet friendly! )
URL:https://uptownsj.com/event/carpe-noctem-art-vs-fashion-exhibition/
LOCATION:Mitote Art Gallery\, 1 Charlotte St\, Saint John\, New Brunswick\, E2L 2H3\, Canada
CATEGORIES:Art,Free,Live Music,Networking
END:VEVENT
BEGIN:VEVENT
DTSTART;TZID=America/Halifax:20241004T160000
DTEND;TZID=America/Halifax:20241004T230000
DTSTAMP:20260425T204409
CREATED:20240911T124621Z
LAST-MODIFIED:20240911T124621Z
UID:10009600-1728057600-1728082800@uptownsj.com
SUMMARY:Mitote Gallery Art Exhibition - Gallery Hop
DESCRIPTION:Mitote Gallery\nArt Exhibition\nFriday October 4th\n4pm – 11pm\n1 Charlotte St. Saint John NB \nCome join us during the amazing night of the Saint John Gallery Hop for this exhibition! \nFeaturing: \n-Craig Gower (IG: @artistcraiggower)\nReleasing all new\, never before seen\, bold\, powerful artwork. \n-Tyler Leblanc (IG: @nobodylistentotechno)\nReleasing all new\, never before seen graffiti artwork. \n-Kyle Go (IG: @kylegoworks)\nShowcasing a variety of impactful installations. \n-Tony Klipin (IG: @dachs_republic)\nReleasing all new wood works and artwork. \nProudly sponsored by:\n-The City Market Greengrocer\n-Oat Cake Society\n-Charlotte Street Bakery \n( Family & pet friendly! )
URL:https://uptownsj.com/event/mitote-gallery-art-exhibition-gallery-hop/
LOCATION:Mitote Art Gallery\, 1 Charlotte St\, Saint John\, New Brunswick\, E2L 2H3\, Canada
CATEGORIES:Art,Community,Free,Networking
ATTACH;FMTTYPE=image/jpeg:https://uptownsj.com/wp-content/uploads/2024/09/IMG_6492.jpeg
END:VEVENT
BEGIN:VEVENT
DTSTART;TZID=America/Halifax:20241004T160000
DTEND;TZID=America/Halifax:20241004T190000
DTSTAMP:20260425T204409
CREATED:20240909T122053Z
LAST-MODIFIED:20240909T122053Z
UID:10009599-1728057600-1728068400@uptownsj.com
SUMMARY:GALLERY HOP
DESCRIPTION:What better way to enjoy October than to explore the galleries of Uptown Saint John! Join us for an art filled evening from 4-7pm visiting our cities amazing galleries as we feature many new works and special exhibitions. \n-Participating Galleries-\nCobalt Gallery\nGlass Roots\nHandworks Gallery\nJones Gallery & Jones Auction House Mitote Gallery\nSaint John Art Club\nTrinity Gallery
URL:https://uptownsj.com/event/gallery-hop-3/
LOCATION:Jones Gallery\, 122 Prince William Street\, Saint John\, NB\, E2L 2B6\, Canada
CATEGORIES:Art,Community,Free,Networking
ATTACH;FMTTYPE=image/jpeg:https://uptownsj.com/wp-content/uploads/2024/09/IMG_6386.jpeg
END:VEVENT
BEGIN:VEVENT
DTSTART;TZID=America/Halifax:20240928T200000
DTEND;TZID=America/Halifax:20240929T000000
DTSTAMP:20260425T204409
CREATED:20240822T141503Z
LAST-MODIFIED:20240822T141503Z
UID:10009580-1727553600-1727568000@uptownsj.com
SUMMARY:JUNK - Live In Saint John
DESCRIPTION:For the first time ever Canadian legend and 2 x WCMA nominated rapper JUNK @mynameisjunk comes to Saint John\, NB!! \nYou wont want to miss out on this super intimate and interactive night of music and art at the one and only Mitote Gallery \nArtist Craig Gower @artistcraiggower and JUNK have been long time friends and collaborators and are joining forces to bring you a truly unique experience. \nFeaturing live performace by DJ Felix Fawkes @cheekyboyfawkes \nTickets available at:\nMitote Gallery @mitoteartgallery\nCastlecarry @castlecarry.sj \nOnline: https://www.showpass.com/junk-live-in-saint-john/
URL:https://uptownsj.com/event/junk-live-in-saint-john/
LOCATION:Mitote Art Gallery\, 1 Charlotte St\, Saint John\, New Brunswick\, E2L 2H3\, Canada
CATEGORIES:Art,Live Music
ATTACH;FMTTYPE=image/jpeg:https://uptownsj.com/wp-content/uploads/2024/08/IMG_6001.jpeg
END:VEVENT
BEGIN:VEVENT
DTSTART;TZID=America/Halifax:20240503T160000
DTEND;TZID=America/Halifax:20240503T160000
DTSTAMP:20260425T204409
CREATED:20240415T135941Z
LAST-MODIFIED:20240415T135941Z
UID:10007254-1714752000-1714752000@uptownsj.com
SUMMARY:Gallery Hop
DESCRIPTION:Saint John Gallery Hop is back for Spring 2024 edition!!\nVisit the Beautiful galleries of uptown SJ\nMitote Art Gallery\nCobalt Art Gallery\nGlass Roots Inc\nSaint John Arts Centre\nSaint John Art Club\nTrinity Galleries\nTuck Studio\nJones Gallery\nHandworks Gallery
URL:https://uptownsj.com/event/gallery-hop-2/
LOCATION:Mitote Art Gallery\, 1 Charlotte St\, Saint John\, New Brunswick\, E2L 2H3\, Canada
CATEGORIES:Art
END:VEVENT
BEGIN:VEVENT
DTSTART;TZID=America/Halifax:20240419T190000
DTEND;TZID=America/Halifax:20240419T210000
DTSTAMP:20260425T204409
CREATED:20240322T121823Z
LAST-MODIFIED:20240403T123709Z
UID:10006557-1713553200-1713560400@uptownsj.com
SUMMARY:In-Studio Abstract Paint Night
DESCRIPTION:Paint your own abstract painting using a variety of methods in an inspiring art studio!\nNo painting experience necessary. Go with the flow and create a beautiful and satisfying painting. \nIncludes:\nCanvas & All art supplies\nWine / Refreshments\nUse various tools\, custom pick your palette of colours\n$50 per person \nMitote Art Studio Gallery is located at 1 charlotte street uptown. Facebook /Instagram: @mitoteartgallery.
URL:https://uptownsj.com/event/in-studio-abstract-paint-night/
LOCATION:Mitote Art Gallery\, 1 Charlotte St\, Saint John\, New Brunswick\, E2L 2H3\, Canada
CATEGORIES:Art,Cultural Event,Workshop
ATTACH;FMTTYPE=image/jpeg:https://uptownsj.com/wp-content/uploads/2024/03/Art-night-Saint-john.jpg
END:VEVENT
BEGIN:VEVENT
DTSTART;TZID=America/Halifax:20240127T110000
DTEND;TZID=America/Halifax:20240127T180000
DTSTAMP:20260425T204409
CREATED:20240122T164918Z
LAST-MODIFIED:20240122T164918Z
UID:10005757-1706353200-1706378400@uptownsj.com
SUMMARY:Studio Saturday
DESCRIPTION:Drop into the gorgeous Mitote Art Gallery on the corner of Union and Charlote st. uptown to see the new works in progress\, meet the artists\, and shop original locally made artwork! See behind the scenes of how frames are built\, canvas is stretched and all artork is created in house. New paintings available everyday. Family friendly\, Pet freindly
URL:https://uptownsj.com/event/studio-saturday/
LOCATION:Mitote Art Gallery\, 1 Charlotte St\, Saint John\, New Brunswick\, E2L 2H3\, Canada
CATEGORIES:Art,Community
END:VEVENT
BEGIN:VEVENT
DTSTART;TZID=America/Halifax:20231216T100000
DTEND;TZID=America/Halifax:20231216T140000
DTSTAMP:20260425T204409
CREATED:20231208T141018Z
LAST-MODIFIED:20231208T141018Z
UID:10005732-1702720800-1702735200@uptownsj.com
SUMMARY:Holiday Tea at the Gallery
DESCRIPTION:Celebrate the season’s spirit with us at Mitote Art Gallery.. bring your friends or the whole family. \nFree event includes: tea & cider\, a self guided tour through the art studio\, a draw for door prizes\, special pricing on all original artwork in stock and more! \nEnjoy morning /afternoon tea surrounded by all original artwork featured in the Mitote Art Gallery exhibition space and artwork in progress in the studio. Holiday treats & each guest has a chance to win a door prize. Join us for tea at the gallery surrounded by art!!
URL:https://uptownsj.com/event/holiday-tea-at-the-gallery/
LOCATION:Mitote Art Gallery\, 1 Charlotte St\, Saint John\, New Brunswick\, E2L 2H3\, Canada
CATEGORIES:Art,Community,Free,Networking
END:VEVENT
BEGIN:VEVENT
DTSTART;TZID=America/Halifax:20231201T160000
DTEND;TZID=America/Halifax:20231201T210000
DTSTAMP:20260425T204409
CREATED:20231127T140825Z
LAST-MODIFIED:20231127T140825Z
UID:10005704-1701446400-1701464400@uptownsj.com
SUMMARY:Mitote Gallery - Uptown Sparkles
DESCRIPTION:Come join us for our 1 year anniversary during the magical night of Uptown Sparkles!\nFeaturing bold new releases from artists Craig Gower and Abigail Reinhart.\nAll ages welcome + pet friendly\nRefreshments provided!
URL:https://uptownsj.com/event/mitote-gallery-uptown-sparkles/
LOCATION:Mitote Art Gallery\, 1 Charlotte St\, Saint John\, New Brunswick\, E2L 2H3\, Canada
CATEGORIES:Art,Free,Uptown Sparkles
END:VEVENT
BEGIN:VEVENT
DTSTART;TZID=America/Halifax:20231027T160000
DTEND;TZID=America/Halifax:20231027T233000
DTSTAMP:20260425T204409
CREATED:20231012T141444Z
LAST-MODIFIED:20231012T141444Z
UID:10005656-1698422400-1698449400@uptownsj.com
SUMMARY:Art vs. Fashion 'Carpe Noctem'
DESCRIPTION:Carpe Noctem -Art vs. Fashion Exhibition-\nCome join us for this unique event where art meets fashion!\nFeaturing:\n-Abigail Reinhart and Craig Gower will be releasing all new\, never before seen\, bold\, powerful artwork.\n-Tyler Leblanc\, graffiti artist from Newfoundland\, will be showcasing all new\, never before seen artwork.\nThis will be Tyler’s debut showing!\n-Castlecarry will be showcasing all new\, unseen artwork and clothing.\n-Live tattooing by China Paul\n-Exit98 will be showcasing a line-up of curated vintage clothing.\n-SoHeavenly\, fashion designer from Moncton New Brunswick will be showcasing all new\, unseen clothing.\n-Live music performance by DJ 4ME \nFriday October 27th 4pm – 12am\nMitote Gallery\n1 Charlotte St. Saint John NB\n( Family & pet friendly! )
URL:https://uptownsj.com/event/art-vs-fashion-carpe-noctem/
LOCATION:Mitote Art Gallery\, 1 Charlotte St\, Saint John\, New Brunswick\, E2L 2H3\, Canada
CATEGORIES:Art
END:VEVENT
BEGIN:VEVENT
DTSTART;TZID=America/Halifax:20231020T160000
DTEND;TZID=America/Halifax:20231020T220000
DTSTAMP:20260425T204409
CREATED:20231012T141421Z
LAST-MODIFIED:20231012T141421Z
UID:10005655-1697817600-1697839200@uptownsj.com
SUMMARY:Art Exhibition 'Rise of The Divine'
DESCRIPTION:Mitote Art Gallery will feature all female artists with powerful and authentic multi-media artwork aimed to influence positive change in the world. The night of the Saint John Gallery HOP. \n1 Charlotte St. Uptown Saint John
URL:https://uptownsj.com/event/art-exhibition-rise-of-the-divine/
LOCATION:Mitote Art Gallery\, 1 Charlotte St\, Saint John\, New Brunswick\, E2L 2H3\, Canada
CATEGORIES:Art
ATTACH;FMTTYPE=image/jpeg:https://uptownsj.com/wp-content/uploads/2023/10/1.jpg
END:VEVENT
BEGIN:VEVENT
DTSTART;TZID=America/Halifax:20230818T180000
DTEND;TZID=America/Halifax:20230818T233000
DTSTAMP:20260425T204409
CREATED:20230814T122445Z
LAST-MODIFIED:20230814T122445Z
UID:10005545-1692381600-1692401400@uptownsj.com
SUMMARY:THIRDSHIFT Art Gallery Exhibit
DESCRIPTION:An all original Gallery Event on the magical night of ThirdShift Free Public Art Festival. Featuring bold new releases from visual artists Craig Gower and Abigail Reinhart.\nAll ages welcome + pet friendly\nRefreshments + snacks provided\n6:00pm – 12:00am
URL:https://uptownsj.com/event/thirdshift-art-gallery-exhibit/
LOCATION:Mitote Art Gallery\, 1 Charlotte St\, Saint John\, New Brunswick\, E2L 2H3\, Canada
CATEGORIES:Art
END:VEVENT
BEGIN:VEVENT
DTSTART;TZID=America/Halifax:20230811T160000
DTEND;TZID=America/Halifax:20230811T220000
DTSTAMP:20260425T204409
CREATED:20230724T121839Z
LAST-MODIFIED:20230724T121839Z
UID:10005499-1691769600-1691791200@uptownsj.com
SUMMARY:Mitote Art Gallery - Gallery Hop Exhibit
DESCRIPTION:We are thrilled to announce that Gallery Hop is back for the 2nd time this summer! Join us for an art filled evening in uptown Saint John at MITOTE Art Gallery for all new artwork by Abigail Reinhart and Craig Gower.
URL:https://uptownsj.com/event/mitote-art-gallery-gallery-hop-exhibit/
LOCATION:Mitote Art Gallery\, 1 Charlotte St\, Saint John\, New Brunswick\, E2L 2H3\, Canada
END:VEVENT
BEGIN:VEVENT
DTSTART;TZID=America/Halifax:20230628T160000
DTEND;TZID=America/Halifax:20230628T200000
DTSTAMP:20260425T204409
CREATED:20230621T121818Z
LAST-MODIFIED:20230621T121818Z
UID:10005389-1687968000-1687982400@uptownsj.com
SUMMARY:Youth ART SHOW
DESCRIPTION:Mitote Art Gallery is hosting its first ever art exhibit for children! \nWe believe providing kids with opportunities to exhibit their artwork makes a meaningful experience for them and showing their work in an art gallery instills pride and self-esteem!\nJoin us to celebrate the amazing young artists who have completed our Mitote Art Club Spring Term! \nTheir original artwork will be available for purchase with 100% to the artists.
URL:https://uptownsj.com/event/youth-art-show/
LOCATION:Mitote Art Gallery\, 1 Charlotte St\, Saint John\, New Brunswick\, E2L 2H3\, Canada
CATEGORIES:Art
END:VEVENT
BEGIN:VEVENT
DTSTART;VALUE=DATE:20230610
DTEND;VALUE=DATE:20230611
DTSTAMP:20260425T204409
CREATED:20230518T180448Z
LAST-MODIFIED:20230518T180448Z
UID:10002490-1686355200-1686441599@uptownsj.com
SUMMARY:STUDIO SATURDAYS @ Mitote
DESCRIPTION:Visit the open door studio/gallery at 1 Charlotte street\, meet the artists\, shop original local artwork and have a behind the scenes look at the creative process as artwork is created live! A bright\, spacious gallery space that features powerful new large scale canvas artworks – a must see in Saint John! \nAll ages welcome / family & pet friendly environment\n1 charlotte street\, Saint John\, NB
URL:https://uptownsj.com/event/studio-saturdays-mitote/2023-06-10/
LOCATION:Mitote Art Gallery\, 1 Charlotte St\, Saint John\, New Brunswick\, E2L 2H3\, Canada
CATEGORIES:Art
END:VEVENT
BEGIN:VEVENT
DTSTART;VALUE=DATE:20230603
DTEND;VALUE=DATE:20230604
DTSTAMP:20260425T204409
CREATED:20230518T180448Z
LAST-MODIFIED:20230518T180448Z
UID:10002489-1685750400-1685836799@uptownsj.com
SUMMARY:STUDIO SATURDAYS @ Mitote
DESCRIPTION:Visit the open door studio/gallery at 1 Charlotte street\, meet the artists\, shop original local artwork and have a behind the scenes look at the creative process as artwork is created live! A bright\, spacious gallery space that features powerful new large scale canvas artworks – a must see in Saint John! \nAll ages welcome / family & pet friendly environment\n1 charlotte street\, Saint John\, NB
URL:https://uptownsj.com/event/studio-saturdays-mitote/2023-06-03/
LOCATION:Mitote Art Gallery\, 1 Charlotte St\, Saint John\, New Brunswick\, E2L 2H3\, Canada
CATEGORIES:Art
END:VEVENT
BEGIN:VEVENT
DTSTART;TZID=America/Halifax:20230527T090000
DTEND;TZID=America/Halifax:20230527T180000
DTSTAMP:20260425T204409
CREATED:20230518T180530Z
LAST-MODIFIED:20230518T180530Z
UID:10002486-1685178000-1685210400@uptownsj.com
SUMMARY:Mitote Art Festival: Spring into summer
DESCRIPTION:Don’t miss any of the great Uptown Saint John activities on May 27 including ART FESTIVAL at Mitote Art Gallery\nAll Day – Art Show\, Shop local art\, Meet the artists\, See the new works in progress ❤️\nLIVE STREET ART\nFacepainting by Eva Palmer 1:30 – 3:30\nUptown Box Art unveiling on our corner at Union and Charlotte\nPet friendly\, family friendly
URL:https://uptownsj.com/event/mitote-art-festival-spring-into-summer/
LOCATION:Mitote Art Gallery\, 1 Charlotte St\, Saint John\, New Brunswick\, E2L 2H3\, Canada
CATEGORIES:Art
END:VEVENT
BEGIN:VEVENT
DTSTART;VALUE=DATE:20230527
DTEND;VALUE=DATE:20230528
DTSTAMP:20260425T204409
CREATED:20230518T180448Z
LAST-MODIFIED:20230518T180448Z
UID:10002488-1685145600-1685231999@uptownsj.com
SUMMARY:STUDIO SATURDAYS @ Mitote
DESCRIPTION:Visit the open door studio/gallery at 1 Charlotte street\, meet the artists\, shop original local artwork and have a behind the scenes look at the creative process as artwork is created live! A bright\, spacious gallery space that features powerful new large scale canvas artworks – a must see in Saint John! \nAll ages welcome / family & pet friendly environment\n1 charlotte street\, Saint John\, NB
URL:https://uptownsj.com/event/studio-saturdays-mitote/2023-05-27/
LOCATION:Mitote Art Gallery\, 1 Charlotte St\, Saint John\, New Brunswick\, E2L 2H3\, Canada
CATEGORIES:Art
END:VEVENT
BEGIN:VEVENT
DTSTART;VALUE=DATE:20230520
DTEND;VALUE=DATE:20230521
DTSTAMP:20260425T204409
CREATED:20230518T180448Z
LAST-MODIFIED:20230518T180448Z
UID:10002487-1684540800-1684627199@uptownsj.com
SUMMARY:STUDIO SATURDAYS @ Mitote
DESCRIPTION:Visit the open door studio/gallery at 1 Charlotte street\, meet the artists\, shop original local artwork and have a behind the scenes look at the creative process as artwork is created live! A bright\, spacious gallery space that features powerful new large scale canvas artworks – a must see in Saint John! \nAll ages welcome / family & pet friendly environment\n1 charlotte street\, Saint John\, NB
URL:https://uptownsj.com/event/studio-saturdays-mitote/2023-05-20/
LOCATION:Mitote Art Gallery\, 1 Charlotte St\, Saint John\, New Brunswick\, E2L 2H3\, Canada
CATEGORIES:Art
END:VEVENT
BEGIN:VEVENT
DTSTART;TZID=America/Halifax:20230505T040000
DTEND;TZID=America/Halifax:20230505T190000
DTSTAMP:20260425T204409
CREATED:20230406T131614Z
LAST-MODIFIED:20230406T131614Z
UID:10002434-1683259200-1683313200@uptownsj.com
SUMMARY:Gallery HOP Art Exhibit at Mitoté
DESCRIPTION:Join us for an art filled evening as the SJ Gallery Hop returns for the first time this year! Mitote Gallery will feature the bold new release of powerful large scale artworks by artists Abigail Reinhart and Craig Gower and guest artist Tony Klipin. 1 Charlotte Street\, Saint John. \nOther galleries included in the hop:\nCobalt Gallery\nGlass Roots Inc.\nHandworks Gallery\nJones Gallery\nSaint John Arts Centre\nSaint John Art Club\nArt of Sheila Howell\nSpicer Merrifield Gallery\nTuck Studio\nTrinity Galleries\nMitote Art Gallery
URL:https://uptownsj.com/event/gallery-hop-art-exhibit-at-mitote/
LOCATION:Mitote Art Gallery\, 1 Charlotte St\, Saint John\, New Brunswick\, E2L 2H3\, Canada
CATEGORIES:Art,Community,Cultural Event
END:VEVENT
BEGIN:VEVENT
DTSTART;TZID=America/Halifax:20230429T100000
DTEND;TZID=America/Halifax:20230429T160000
DTSTAMP:20260425T204409
CREATED:20230406T131548Z
LAST-MODIFIED:20230406T131548Z
UID:10002433-1682762400-1682784000@uptownsj.com
SUMMARY:Studio Saturdays at Mitoté
DESCRIPTION:Visit the open door studio/gallery at 1 Charlotte street\, meet the artists\, shop original local artwork and have a behind the scenes look at the creative process as artwork is created live! A bright\, spacious gallery space that features powerful new large scale canvas artworks – a must see in Saint John! \nAll ages welcome / family & pet friendly environment\n1 charlotte street\, Saint John\, NB \n 
URL:https://uptownsj.com/event/studio-saturdays-at-mitote/2023-04-29/
LOCATION:Mitote Art Gallery\, 1 Charlotte St\, Saint John\, New Brunswick\, E2L 2H3\, Canada
CATEGORIES:Art,Community,Cultural Event,Free
END:VEVENT
BEGIN:VEVENT
DTSTART;TZID=America/Halifax:20230422T100000
DTEND;TZID=America/Halifax:20230422T160000
DTSTAMP:20260425T204409
CREATED:20230406T131548Z
LAST-MODIFIED:20230406T131548Z
UID:10002432-1682157600-1682179200@uptownsj.com
SUMMARY:Studio Saturdays at Mitoté
DESCRIPTION:Visit the open door studio/gallery at 1 Charlotte street\, meet the artists\, shop original local artwork and have a behind the scenes look at the creative process as artwork is created live! A bright\, spacious gallery space that features powerful new large scale canvas artworks – a must see in Saint John! \nAll ages welcome / family & pet friendly environment\n1 charlotte street\, Saint John\, NB \n 
URL:https://uptownsj.com/event/studio-saturdays-at-mitote/2023-04-22/
LOCATION:Mitote Art Gallery\, 1 Charlotte St\, Saint John\, New Brunswick\, E2L 2H3\, Canada
CATEGORIES:Art,Community,Cultural Event,Free
END:VEVENT
BEGIN:VEVENT
DTSTART;TZID=America/Halifax:20230415T120000
DTEND;TZID=America/Halifax:20230415T200000
DTSTAMP:20260425T204409
CREATED:20230414T134558Z
LAST-MODIFIED:20230414T134558Z
UID:10002442-1681560000-1681588800@uptownsj.com
SUMMARY:SLOW ART DAY
DESCRIPTION:Join us on Saturday\, April 15\, 2023 for Slow Art Day\, a global event with a simple mission: to help more people discover the joy of looking at and loving art.\nat Mitote Art Studio Gallery
URL:https://uptownsj.com/event/slow-art-day/
LOCATION:Mitote Art Gallery\, 1 Charlotte St\, Saint John\, New Brunswick\, E2L 2H3\, Canada
CATEGORIES:Art,Community,Free
END:VEVENT
BEGIN:VEVENT
DTSTART;TZID=America/Halifax:20230415T100000
DTEND;TZID=America/Halifax:20230415T160000
DTSTAMP:20260425T204409
CREATED:20230406T131548Z
LAST-MODIFIED:20230406T131548Z
UID:10002431-1681552800-1681574400@uptownsj.com
SUMMARY:Studio Saturdays at Mitoté
DESCRIPTION:Visit the open door studio/gallery at 1 Charlotte street\, meet the artists\, shop original local artwork and have a behind the scenes look at the creative process as artwork is created live! A bright\, spacious gallery space that features powerful new large scale canvas artworks – a must see in Saint John! \nAll ages welcome / family & pet friendly environment\n1 charlotte street\, Saint John\, NB \n 
URL:https://uptownsj.com/event/studio-saturdays-at-mitote/2023-04-15/
LOCATION:Mitote Art Gallery\, 1 Charlotte St\, Saint John\, New Brunswick\, E2L 2H3\, Canada
CATEGORIES:Art,Community,Cultural Event,Free
END:VEVENT
BEGIN:VEVENT
DTSTART;TZID=America/Halifax:20230408T100000
DTEND;TZID=America/Halifax:20230408T160000
DTSTAMP:20260425T204409
CREATED:20230406T131548Z
LAST-MODIFIED:20230406T131548Z
UID:10002430-1680948000-1680969600@uptownsj.com
SUMMARY:Studio Saturdays at Mitoté
DESCRIPTION:Visit the open door studio/gallery at 1 Charlotte street\, meet the artists\, shop original local artwork and have a behind the scenes look at the creative process as artwork is created live! A bright\, spacious gallery space that features powerful new large scale canvas artworks – a must see in Saint John! \nAll ages welcome / family & pet friendly environment\n1 charlotte street\, Saint John\, NB \n 
URL:https://uptownsj.com/event/studio-saturdays-at-mitote/2023-04-08/
LOCATION:Mitote Art Gallery\, 1 Charlotte St\, Saint John\, New Brunswick\, E2L 2H3\, Canada
CATEGORIES:Art,Community,Cultural Event,Free
END:VEVENT
BEGIN:VEVENT
DTSTART;TZID=America/Halifax:20230214T160000
DTEND;TZID=America/Halifax:20230214T233000
DTSTAMP:20260425T204409
CREATED:20230127T131729Z
LAST-MODIFIED:20230127T131729Z
UID:10000231-1676390400-1676417400@uptownsj.com
SUMMARY:Valentines Art Exhibit
DESCRIPTION:Valentines Art Exhibit\nat Mitote Art Studio Gallery\n-Free Admission / Pet Friendly- \nEnjoy a truly special Valentine’s Day experience this year with an unforgettable evening surrounded by {never before seen} pieces by artists Craig Gower and Abigail Reinhart\,\nThe gallery will be open extended hours for a special 3 night event: Open 4pm to 12am on Feb 10th & 11th (Friday & Saturday) and again 4pm to 12am on Feb. 14th (Tuesday)\nImpress your date or loved ones this Valentine’s Day with a stroll through Saint John’s hottest new Art Studio Gallery!\nArt is both created and displayed at Mitote\, guests can expect to see completed large scale paintings and a view into the artists creative process as new artwork is being created. \n  \n 
URL:https://uptownsj.com/event/valentines-art-exhibit-2/
LOCATION:Mitote Art Gallery\, 1 Charlotte St\, Saint John\, New Brunswick\, E2L 2H3\, Canada
CATEGORIES:Art
END:VEVENT
BEGIN:VEVENT
DTSTART;TZID=America/Halifax:20230210T160000
DTEND;TZID=America/Halifax:20230211T233000
DTSTAMP:20260425T204409
CREATED:20230127T131710Z
LAST-MODIFIED:20230127T131710Z
UID:10000230-1676044800-1676158200@uptownsj.com
SUMMARY:Valentines Art Exhibit
DESCRIPTION:Valentines Art Exhibit\nat Mitote Art Studio Gallery\n-Free Admission / Pet Friendly- \nEnjoy a truly special Valentine’s Day experience this year with an unforgettable evening surrounded by {never before seen} pieces by artists Craig Gower and Abigail Reinhart\,\nThe gallery will be open extended hours for a special 3 night event: Open 4pm to 12am on Feb 10th & 11th (Friday & Saturday) and again 4pm to 12am on Feb. 14th (Tuesday)\nImpress your date or loved ones this Valentine’s Day with a stroll through Saint John’s hottest new Art Studio Gallery!\nArt is both created and displayed at Mitote\, guests can expect to see completed large scale paintings and a view into the artists creative process as new artwork is being created. \n 
URL:https://uptownsj.com/event/valentines-art-exhibit/
LOCATION:Mitote Art Gallery\, 1 Charlotte St\, Saint John\, New Brunswick\, E2L 2H3\, Canada
CATEGORIES:Art
END:VEVENT
END:VCALENDAR