BEGIN:VCALENDAR
VERSION:2.0
PRODID:-//Uptown Saint John - ECPv6.15.20//NONSGML v1.0//EN
CALSCALE:GREGORIAN
METHOD:PUBLISH
X-ORIGINAL-URL:https://uptownsj.com
X-WR-CALDESC:Events for Uptown Saint John
REFRESH-INTERVAL;VALUE=DURATION:PT1H
X-Robots-Tag:noindex
X-PUBLISHED-TTL:PT1H
BEGIN:VTIMEZONE
TZID:America/Halifax
BEGIN:DAYLIGHT
TZOFFSETFROM:-0400
TZOFFSETTO:-0300
TZNAME:ADT
DTSTART:20220313T060000
END:DAYLIGHT
BEGIN:STANDARD
TZOFFSETFROM:-0300
TZOFFSETTO:-0400
TZNAME:AST
DTSTART:20221106T050000
END:STANDARD
BEGIN:DAYLIGHT
TZOFFSETFROM:-0400
TZOFFSETTO:-0300
TZNAME:ADT
DTSTART:20230312T060000
END:DAYLIGHT
BEGIN:STANDARD
TZOFFSETFROM:-0300
TZOFFSETTO:-0400
TZNAME:AST
DTSTART:20231105T050000
END:STANDARD
BEGIN:DAYLIGHT
TZOFFSETFROM:-0400
TZOFFSETTO:-0300
TZNAME:ADT
DTSTART:20240310T060000
END:DAYLIGHT
BEGIN:STANDARD
TZOFFSETFROM:-0300
TZOFFSETTO:-0400
TZNAME:AST
DTSTART:20241103T050000
END:STANDARD
BEGIN:DAYLIGHT
TZOFFSETFROM:-0400
TZOFFSETTO:-0300
TZNAME:ADT
DTSTART:20250309T060000
END:DAYLIGHT
BEGIN:STANDARD
TZOFFSETFROM:-0300
TZOFFSETTO:-0400
TZNAME:AST
DTSTART:20251102T050000
END:STANDARD
BEGIN:DAYLIGHT
TZOFFSETFROM:-0400
TZOFFSETTO:-0300
TZNAME:ADT
DTSTART:20260308T060000
END:DAYLIGHT
BEGIN:STANDARD
TZOFFSETFROM:-0300
TZOFFSETTO:-0400
TZNAME:AST
DTSTART:20261101T050000
END:STANDARD
END:VTIMEZONE
BEGIN:VEVENT
DTSTART;TZID=America/Halifax:20251205T170000
DTEND;TZID=America/Halifax:20251205T173000
DTSTAMP:20260421T032749
CREATED:20251126T203705Z
LAST-MODIFIED:20251201T142322Z
UID:10015982-1764954000-1764955800@uptownsj.com
SUMMARY:MADD Canada Saint John and Area: Project Red Ribbon & Tree Lighting Ceremony
DESCRIPTION:Our mission is to stop impaired driving and to support victims of this violent crime. Project Red Ribbon targets the Christmas and New Year Holiday Season because it is the busiest time of year on most social calendars. It is also the time of high risk for impaired driving. We want to encourage all to celebrate responsibly. Join us in remembrance of those who have been injured or killed during an impaired driving accident. Location: Kings Square Bandstand.
URL:https://uptownsj.com/event/madd-canada-saint-john-and-area-project-red-ribbon-tree-lighting-ceremony/
LOCATION:King’s Square\, Saint John\, New Brunswick\, Canada
CATEGORIES:Uptown Sparkles
ATTACH;FMTTYPE=image/jpeg:https://uptownsj.com/wp-content/uploads/2025/11/prr.jpg
ORGANIZER;CN="MADD Canada Saint John &amp%3B Area":MAILTO:maddsaintjohnandareachapter@gmail.com
END:VEVENT
BEGIN:VEVENT
DTSTART;TZID=America/Halifax:20250815T180000
DTEND;TZID=America/Halifax:20250817T150000
DTSTAMP:20260421T032749
CREATED:20250520T133813Z
LAST-MODIFIED:20250520T133813Z
UID:10012589-1755280800-1755442800@uptownsj.com
SUMMARY:THIRD SHIFT Festival
DESCRIPTION:THIRD SHIFT is a contemporary art festival presented by Third Space\, a not-for-profit artist-run centre in Saint John\, New Brunswick\, that includes temporary installations\, interventions\, performances\, projections\, and events. Created as a platform for new experiences and communal exchange\, THIRD SHIFT has offered Saint John citizens and visitors to the city a unique opportunity to engage with contemporary art and re-imagine urban space for the past eleven years. \nTentative Schedule: \nAugust 15th 6-8:30PM: Third Watch (BMO Theatre) \nAugust 16th 5-10PM: THIRD SHIFT (King’s Square and Surrounding Area) \nAugust 17th: 12-3PM: Artist Talks (Imperial Theatre) \nTo keep up to date with information on the event\, follow the Instagram page @thirdspacegallery and follow the Facebook page THIRD SHIFT – Saint John.
URL:https://uptownsj.com/event/third-shift-festival/
LOCATION:King’s Square\, Saint John\, New Brunswick\, Canada
ORGANIZER;CN="Third Space Gallery":MAILTO:tiersespace@gmail.com
END:VEVENT
BEGIN:VEVENT
DTSTART;TZID=America/Halifax:20250614T110000
DTEND;TZID=America/Halifax:20250614T170000
DTSTAMP:20260421T032749
CREATED:20250612T193547Z
LAST-MODIFIED:20250612T193547Z
UID:10012602-1749898800-1749920400@uptownsj.com
SUMMARY:Milky The Mouse In Space Scavenger Hunt
DESCRIPTION:Come join us for a fun-filled day of hunting for clues with Milky the Mouse! This in-person event will take you on an exciting adventure around Uptown Saint John as you solve puzzles and riddles to uncover hidden treasures. Make sure to bring your friends and family along for a day of laughter and excitement. Don’t miss out on this thrilling scavenger hunt with Milky the Mouse!
URL:https://uptownsj.com/event/milky-the-mouse-in-space-scavenger-hunt/
LOCATION:King’s Square\, Saint John\, New Brunswick\, Canada
CATEGORIES:Free
ATTACH;FMTTYPE=image/png:https://uptownsj.com/wp-content/uploads/2025/06/Milky-The-Mouse-Banner.png
ORGANIZER;CN="Your Sweet Spot Life":MAILTO:hi@yoursweetspot.life
END:VEVENT
BEGIN:VEVENT
DTSTART;TZID=America/Halifax:20240816T190000
DTEND;TZID=America/Halifax:20240818T170000
DTSTAMP:20260421T032749
CREATED:20240527T122542Z
LAST-MODIFIED:20240527T122542Z
UID:10007784-1723834800-1724000400@uptownsj.com
SUMMARY:THIRD SHIFT 2024: PSYCHE
DESCRIPTION:Third Space Gallery is excited to present our 10-year-anniversary of THIRD SHIFT! Our theme for this year will be: PSYCHE. THIRD SHIFT aims to showcase works that plumb the depths of the human psyche. Psyche encompasses the entirety of our inner world. It is an invitation for artists to navigate the profound complexities of consciousness and the human condition\, transcending boundaries and creating new intersections of thought and expression. The event will be FREE\, all-ages\, and we encourage everyone to come on down and join us for a fun weekend filled with art installments from various amazing artists around the country! \nTHIRD SHIFT is a contemporary art festival presented by Third Space\, a not-for-profit artist-run centre in Saint John\, New Brunswick\, that includes temporary installations\, interventions\, performances\, projections\, and events. Created as a platform for new experiences and communal exchange\, THIRD SHIFT aims to offer Saint John citizens and visitors to the city a unique opportunity to engage with contemporary art and re-imagine urban space.
URL:https://uptownsj.com/event/third-shift-2024-psyche/
LOCATION:King’s Square\, Saint John\, New Brunswick\, Canada
CATEGORIES:Art,Community,Cultural Event,Free
ORGANIZER;CN="Third Space Gallery":MAILTO:tiersespace@gmail.com
END:VEVENT
BEGIN:VEVENT
DTSTART;TZID=America/Halifax:20240714T130000
DTEND;TZID=America/Halifax:20240714T190000
DTSTAMP:20260421T032749
CREATED:20240702T141742Z
LAST-MODIFIED:20240702T141742Z
UID:10008642-1720962000-1720983600@uptownsj.com
SUMMARY:Chalk City: Saint John (Art Weekend SJ)
DESCRIPTION:🗓 Date: Sunday\, July 14\, 2024\n⏰ Time: 1:00 PM – 7:00 PM\n📍 Location: King’s Square\n📋 Google Forms Link to pre-register: https://forms.gle/TfwgDEiVaZUEcimH8\nGet ready for a colorful day at Chalk City: Saint John! Whether you’re a seasoned artist or just love to doodle\, this event is for everyone. We’ll provide chalk\, or you can bring your own\, and you’ll have a designated space to create your chalk art masterpiece. Participate in our fun competition where the best chalk art will win a $500 prize!\nThis event is free and open to the public. Voluntary donations are appreciated and will go directly to the Saint John Regional Hospital Foundation.\n📋 Google Forms Link to pre-register: https://forms.gle/TfwgDEiVaZUEcimH8\nVolunteers Appreciated! Volunteer interest form: https://forms.gle/qRStpveAwc8bFFJFA
URL:https://uptownsj.com/event/chalk-city-saint-john-art-weekend-sj/
LOCATION:King’s Square\, Saint John\, New Brunswick\, Canada
CATEGORIES:Art,Community,Fundraiser
END:VEVENT
BEGIN:VEVENT
DTSTART;TZID=America/Halifax:20240713T130000
DTEND;TZID=America/Halifax:20240713T170000
DTSTAMP:20260421T032749
CREATED:20240702T141637Z
LAST-MODIFIED:20240702T141637Z
UID:10008641-1720875600-1720890000@uptownsj.com
SUMMARY:Outdoor Art Exhibit Competition featuring "The Beauty of New Brunswick" (Art Weekend)
DESCRIPTION:🗓 Date: Saturday\, July 13\, 2024\n⏰ Time: Exhibit 1PM-5PM\, Fundraiser Auction at 5PM\n📍 Location: King’s Square\n📋 Google Forms Link for artist registration: https://forms.gle/yyykLeyLVGXqnzNS6\nImmerse yourself in the beauty of New Brunswick as talented artists from around the province showcase their artwork in an open-air exhibit. Anyone in the public can register to share their art and have a chance to win the $500 prize for the best-judged artwork. At the end of the event\, we will hold an auction to sell the exhibited artwork (OPTIONAL for artists)\, with all proceeds going to the Saint John Regional Hospital Foundation.\nThere is no entrance fee\, but voluntary donations are welcome to support this great cause. Come and show your love for local art and the beauty of our province!\n📋 Google Forms Link for artist registration: https://forms.gle/yyykLeyLVGXqnzNS6\nVolunteers Appreciated! Volunteer interest form: https://forms.gle/qRStpveAwc8bFFJFA
URL:https://uptownsj.com/event/outdoor-art-exhibit-competition-featuring-the-beauty-of-new-brunswick-art-weekend/
LOCATION:King’s Square\, Saint John\, New Brunswick\, Canada
CATEGORIES:Art,Community,Cultural Event,Free,Fundraiser
END:VEVENT
BEGIN:VEVENT
DTSTART;TZID=America/Halifax:20240525T010000
DTEND;TZID=America/Halifax:20240525T150000
DTSTAMP:20260421T032749
CREATED:20240507T180526Z
LAST-MODIFIED:20240507T180526Z
UID:10007393-1716598800-1716649200@uptownsj.com
SUMMARY:UPTOWN BOX ART CELEBRATION 2024
DESCRIPTION:Join us on May 25th in King’s Square as we celebrate the unveiling of our new Art Installation on the corner of Canterbury Street and Princess Street.  This is phase 3 in of our Uptown Box Art project\, and we are super excited! \nWe have commissioned two local artists; Elizabeth Cook\, and Lisa-Ann Scichilone\, to transform the large SJ Energy Electrical Box into an artistic masterpiece.  One of the mandates of our BIA organization is to encourage and create placemaking.  This installation will bring a beautiful visual vibrancy to this corner of the uptown that we can be proud of.  Find out more about the artists and the project HERE. \nOn May 25th\, we will be celebrating this endeavour as we enjoy live music\, dance\, art\, and more.  Hope to see you there!
URL:https://uptownsj.com/event/uptown-box-art-celebration-2024/
LOCATION:King’s Square\, Saint John\, New Brunswick\, Canada
CATEGORIES:Community,Live Music,Uptown Saint John BIA Event
ATTACH;FMTTYPE=image/png:https://uptownsj.com/wp-content/uploads/2024/05/BOX-ART-EVENT-2024-1-2.png
END:VEVENT
BEGIN:VEVENT
DTSTART;TZID=America/Halifax:20231021T100000
DTEND;TZID=America/Halifax:20231021T170000
DTSTAMP:20260421T032749
CREATED:20231017T150647Z
LAST-MODIFIED:20231017T150647Z
UID:10005663-1697882400-1697907600@uptownsj.com
SUMMARY:Love is Louder: a Celebration of Diversity
DESCRIPTION:A free\, community-organized event for all ages.\nLive music + DJ\, vendors\, storytelling and more…! \nJoin us to help celebrate diversity and inclusion of families in our area. \nhttps://bit.ly/ns4hnb
URL:https://uptownsj.com/event/love-is-louder-a-celebration-of-diversity/
LOCATION:King’s Square\, Saint John\, New Brunswick\, Canada
CATEGORIES:Art,Community,Cultural Event,Free,Live Music
END:VEVENT
END:VCALENDAR