BEGIN:VCALENDAR
VERSION:2.0
PRODID:-//Uptown Saint John - ECPv6.15.20//NONSGML v1.0//EN
CALSCALE:GREGORIAN
METHOD:PUBLISH
X-ORIGINAL-URL:https://uptownsj.com
X-WR-CALDESC:Events for Uptown Saint John
REFRESH-INTERVAL;VALUE=DURATION:PT1H
X-Robots-Tag:noindex
X-PUBLISHED-TTL:PT1H
BEGIN:VTIMEZONE
TZID:America/Halifax
BEGIN:DAYLIGHT
TZOFFSETFROM:-0400
TZOFFSETTO:-0300
TZNAME:ADT
DTSTART:20210314T060000
END:DAYLIGHT
BEGIN:STANDARD
TZOFFSETFROM:-0300
TZOFFSETTO:-0400
TZNAME:AST
DTSTART:20211107T050000
END:STANDARD
BEGIN:DAYLIGHT
TZOFFSETFROM:-0400
TZOFFSETTO:-0300
TZNAME:ADT
DTSTART:20220313T060000
END:DAYLIGHT
BEGIN:STANDARD
TZOFFSETFROM:-0300
TZOFFSETTO:-0400
TZNAME:AST
DTSTART:20221106T050000
END:STANDARD
BEGIN:DAYLIGHT
TZOFFSETFROM:-0400
TZOFFSETTO:-0300
TZNAME:ADT
DTSTART:20230312T060000
END:DAYLIGHT
BEGIN:STANDARD
TZOFFSETFROM:-0300
TZOFFSETTO:-0400
TZNAME:AST
DTSTART:20231105T050000
END:STANDARD
BEGIN:DAYLIGHT
TZOFFSETFROM:-0400
TZOFFSETTO:-0300
TZNAME:ADT
DTSTART:20240310T060000
END:DAYLIGHT
BEGIN:STANDARD
TZOFFSETFROM:-0300
TZOFFSETTO:-0400
TZNAME:AST
DTSTART:20241103T050000
END:STANDARD
BEGIN:DAYLIGHT
TZOFFSETFROM:-0400
TZOFFSETTO:-0300
TZNAME:ADT
DTSTART:20250309T060000
END:DAYLIGHT
BEGIN:STANDARD
TZOFFSETFROM:-0300
TZOFFSETTO:-0400
TZNAME:AST
DTSTART:20251102T050000
END:STANDARD
BEGIN:DAYLIGHT
TZOFFSETFROM:-0400
TZOFFSETTO:-0300
TZNAME:ADT
DTSTART:20260308T060000
END:DAYLIGHT
BEGIN:STANDARD
TZOFFSETFROM:-0300
TZOFFSETTO:-0400
TZNAME:AST
DTSTART:20261101T050000
END:STANDARD
END:VTIMEZONE
BEGIN:VEVENT
DTSTART;TZID=America/Halifax:20250411T170000
DTEND;TZID=America/Halifax:20250411T190000
DTSTAMP:20260420T171613
CREATED:20250404T125926Z
LAST-MODIFIED:20250404T125926Z
UID:10011759-1744390800-1744398000@uptownsj.com
SUMMARY:Exhibition Opening | "Suspended Time": The Rick Burns Collection
DESCRIPTION:Join us for the opening of a special single-artist auction honouring New Brunswick artist\, Rick Burns (1949-2004).\n\nFree! Everyone is welcome. Refreshments will be provided.\n\nLearn more about this collection: https://www.jonesauctions.ca/burns
URL:https://uptownsj.com/event/exhibition-opening-suspended-time-the-rick-burns-collection/
LOCATION:Jones Gallery\, 122 Prince William Street\, Saint John\, NB\, E2L 2B6\, Canada
CATEGORIES:Art
ATTACH;FMTTYPE=image/jpeg:https://uptownsj.com/wp-content/uploads/2025/04/16-copy-scaled.jpg
ORGANIZER;CN="Jones Gallery":MAILTO:sarah@jonesgallery.ca
END:VEVENT
BEGIN:VEVENT
DTSTART;TZID=America/Halifax:20250305T183000
DTEND;TZID=America/Halifax:20250305T193000
DTSTAMP:20260420T171613
CREATED:20250227T155613Z
LAST-MODIFIED:20250227T155613Z
UID:10011328-1741199400-1741203000@uptownsj.com
SUMMARY:Free Webinar | Taking Care of Your Art Collection
DESCRIPTION:Do you have questions about insuring your artwork? Or how to store it properly? Can you hang a painting in direct sunlight? \nJoin Jones Auction House specialists for a free webinar about taking care of your art collection! We will talk about living with your artwork (hanging\, storage\, environment factors)\, protecting your collection (when and how to insure your artwork & appraisals)\, and cleaning\, repairing\, and conserving. \nRegister here: https://www.jonesauctions.ca/art-collection \nPresenters: \nCALEB JONES | Jones Auction House President\, ISA AM (International Society of Appraisers Accredited Member) \nSARAH JONES | Jones Auction House Curator\, BA MA Art History
URL:https://uptownsj.com/event/free-webinar-taking-care-of-your-art-collection/
LOCATION:Jones Gallery\, 122 Prince William Street\, Saint John\, NB\, E2L 2B6\, Canada
CATEGORIES:Art
ATTACH;FMTTYPE=image/jpeg:https://uptownsj.com/wp-content/uploads/2025/02/Caleb-and-Sarah-Jones_Maud-Lewis1-1-scaled.jpg
ORGANIZER;CN="Jones Gallery":MAILTO:sarah@jonesgallery.ca
END:VEVENT
BEGIN:VEVENT
DTSTART;TZID=America/Halifax:20241206T170000
DTEND;TZID=America/Halifax:20241206T200000
DTSTAMP:20260420T171613
CREATED:20241128T132226Z
LAST-MODIFIED:20241128T132226Z
UID:10010120-1733504400-1733515200@uptownsj.com
SUMMARY:Exhibition Opening | New Works by Sarah Jones
DESCRIPTION:Join us during Uptown Sparkles for the opening of an exhibition of new paintings by Sarah Jones. Holiday treats provided.
URL:https://uptownsj.com/event/exhibition-opening-new-works-by-sarah-jones/
LOCATION:Jones Gallery\, 122 Prince William Street\, Saint John\, NB\, E2L 2B6\, Canada
CATEGORIES:Art,Uptown Sparkles
ORGANIZER;CN="Jones Gallery":MAILTO:sarah@jonesgallery.ca
END:VEVENT
BEGIN:VEVENT
DTSTART;TZID=America/Halifax:20241004T160000
DTEND;TZID=America/Halifax:20241004T190000
DTSTAMP:20260420T171613
CREATED:20240909T122053Z
LAST-MODIFIED:20240909T122053Z
UID:10009599-1728057600-1728068400@uptownsj.com
SUMMARY:GALLERY HOP
DESCRIPTION:What better way to enjoy October than to explore the galleries of Uptown Saint John! Join us for an art filled evening from 4-7pm visiting our cities amazing galleries as we feature many new works and special exhibitions. \n-Participating Galleries-\nCobalt Gallery\nGlass Roots\nHandworks Gallery\nJones Gallery & Jones Auction House Mitote Gallery\nSaint John Art Club\nTrinity Gallery
URL:https://uptownsj.com/event/gallery-hop-3/
LOCATION:Jones Gallery\, 122 Prince William Street\, Saint John\, NB\, E2L 2B6\, Canada
CATEGORIES:Art,Community,Free,Networking
ATTACH;FMTTYPE=image/jpeg:https://uptownsj.com/wp-content/uploads/2024/09/IMG_6386.jpeg
END:VEVENT
BEGIN:VEVENT
DTSTART;TZID=America/Halifax:20240503T160000
DTEND;TZID=America/Halifax:20240503T160000
DTSTAMP:20260420T171613
CREATED:20240415T135941Z
LAST-MODIFIED:20240415T135941Z
UID:10007254-1714752000-1714752000@uptownsj.com
SUMMARY:Gallery Hop
DESCRIPTION:Saint John Gallery Hop is back for Spring 2024 edition!!\nVisit the Beautiful galleries of uptown SJ\nMitote Art Gallery\nCobalt Art Gallery\nGlass Roots Inc\nSaint John Arts Centre\nSaint John Art Club\nTrinity Galleries\nTuck Studio\nJones Gallery\nHandworks Gallery
URL:https://uptownsj.com/event/gallery-hop-2/
LOCATION:Mitote Art Gallery\, 1 Charlotte St\, Saint John\, New Brunswick\, E2L 2H3\, Canada
CATEGORIES:Art
END:VEVENT
BEGIN:VEVENT
DTSTART;TZID=America/Halifax:20231201T160000
DTEND;TZID=America/Halifax:20231201T200000
DTSTAMP:20260420T171613
CREATED:20231127T140839Z
LAST-MODIFIED:20231127T140839Z
UID:10005705-1701446400-1701460800@uptownsj.com
SUMMARY:Jones Gallery - Uptown Sparkles
DESCRIPTION:Stop by the gallery for a special viewing of our Canadian & International Art Auction\, as well as festive treats and a chance to win a $100 gift card.
URL:https://uptownsj.com/event/jones-gallery-uptown-sparkles/
LOCATION:Jones Gallery\, 122 Prince William Street\, Saint John\, NB\, E2L 2B6\, Canada
ORGANIZER;CN="Jones Gallery":MAILTO:sarah@jonesgallery.ca
END:VEVENT
BEGIN:VEVENT
DTSTART;TZID=America/Halifax:20230706T170000
DTEND;TZID=America/Halifax:20230706T190000
DTSTAMP:20260420T171613
CREATED:20230704T132640Z
LAST-MODIFIED:20230704T132640Z
UID:10005469-1688662800-1688670000@uptownsj.com
SUMMARY:field notes for collective regrowth: a solo exhibition by Amy Ash
DESCRIPTION:ABOUT THE EXHIBITION:\nfield notes for collective regrowth is a celebration of all that is vibrant\, vital and life-giving.\nFeaturing cyanotype dreamscapes with botanical and figurative imagery\, this new collection of artwork by Amy Ash is a gentle reminder that we belong to complex ecosystems. These works were made in collaboration with both community and place\, and reflect effervescent moments of togetherness\, awe\, wonder\, and instances of growth within the context of a shared experience.\nThe creation of this body of work was supported by the New Brunswick Arts Board and the Saint John Community Arts Board. \nABOUT THE ARTIST:\nAmy Ash (she/they) is a queer interdisciplinary artist engaged with collective care through processes of shared meaning-making.\nAmy has exhibited and curated programmes internationally\, with projects commissioned by the National Gallery London (UK)\, Platform Centre for Photographic and Digital Arts (Manitoba)\, and Third Space Gallery (New Brunswick). Their work has received the support of artsnb\, Art Council England\, Canada Council for the Arts and the Peter McKendrick Endowment Fund for Visual Artists\, and has been shared in publications such as Cmag\, Visual Arts News\, and CreatedHere.\nOf white settler ancestry\, they live in Menahqesk/Menagoesg/Saint John\, New Brunswick\, Canada\, which sits on unceded and unsurrendered lands that have been cared for by the Wolastoqiyik\, Peskotomuhkati\, and Mi’kmaq Peoples since the very beginning.
URL:https://uptownsj.com/event/field-notes-for-collective-regrowth-a-solo-exhibition-by-amy-ash/
LOCATION:Jones Gallery\, 122 Prince William Street\, Saint John\, NB\, E2L 2B6\, Canada
CATEGORIES:Art,Community,Cultural Event,Free
END:VEVENT
BEGIN:VEVENT
DTSTART;TZID=America/Halifax:20230412T190000
DTEND;TZID=America/Halifax:20230412T203000
DTSTAMP:20260420T171613
CREATED:20230320T124352Z
LAST-MODIFIED:20230320T124352Z
UID:10000637-1681326000-1681331400@uptownsj.com
SUMMARY:Jones Gallery Lecture Series | Maud Lewis: Technique and Approaches
DESCRIPTION:Sarah Jones\, Curator of Jones Contemporary and Jones Auction House\, presents a talk about Nova Scotia artist\, Maud Lewis (1901-1970). We will explore Lewis’ technique and materials\, her approach to painting and composition\, and common themes and motifs. \nABOUT THE SPEAKER \nSarah Jones (BA\, MA Art History\, Queen’s University) is a visual artist\, art historian\, and curator. She conducted her graduate research on twentieth-century Canadian art and Nova Scotia artist\, Maud Lewis\, and recently participated in a panel discussion at the Art Gallery of Nova Scotia about Lewis’ work in the marketplace. Sarah teaches art history occasionally at University of New Brunswick Saint John. \nDETAILS \nFREE | Wednesday\, April 12\, 7 PM AT (approx. 60 minutes)
URL:https://uptownsj.com/event/jones-gallery-lecture-series-maud-lewis-technique-and-approaches/
LOCATION:Jones Gallery\, 122 Prince William Street\, Saint John\, NB\, E2L 2B6\, Canada
CATEGORIES:Art
ORGANIZER;CN="Jones Gallery":MAILTO:sarah@jonesgallery.ca
END:VEVENT
BEGIN:VEVENT
DTSTART;TZID=America/Halifax:20221222T190000
DTEND;TZID=America/Halifax:20221222T200000
DTSTAMP:20260420T171613
CREATED:20221206T133928Z
LAST-MODIFIED:20221206T133928Z
UID:10000205-1671735600-1671739200@uptownsj.com
SUMMARY:Jones Gallery (Christmas) Lecture Series: Leonardo's Adoration of the Magi
DESCRIPTION:Join us for a special Christmas edition of our Lecture Series as we look at Leonardo da Vinci’s unfinished painting\, Adoration of the Magi. Jones Gallery curator Sarah Jones will share the story behind this commission and what this work tells us about Leonardo’s ideas and approach to painting. \nThe Jones Gallery Lecture Series is free and open to the public. Everyone is welcome!
URL:https://uptownsj.com/event/jones-gallery-christmas-lecture-series-leonardos-adoration-of-the-magi/
LOCATION:Jones Gallery\, 122 Prince William Street\, Saint John\, NB\, E2L 2B6\, Canada
CATEGORIES:Art
ORGANIZER;CN="Jones Gallery":MAILTO:sarah@jonesgallery.ca
END:VEVENT
BEGIN:VEVENT
DTSTART;TZID=America/Halifax:20221202T170000
DTEND;TZID=America/Halifax:20221202T200000
DTSTAMP:20260420T171613
CREATED:20221128T131641Z
LAST-MODIFIED:20221128T131641Z
UID:10000185-1670000400-1670011200@uptownsj.com
SUMMARY:Jones Gallery Uptown Sparkles: Exhibitions by Mike Gough and Emily Pittman
DESCRIPTION:Stop by Jones Gallery during Uptown Sparkles for exhibitions by Mike Gough\, “Passage.” and Emily Pittman\, “Papering Over.”
URL:https://uptownsj.com/event/jones-gallery-uptown-sparkles-exhibitions-by-mike-gough-and-emily-pittman/
LOCATION:Jones Gallery\, 122 Prince William Street\, Saint John\, NB\, E2L 2B6\, Canada
CATEGORIES:Art
ORGANIZER;CN="Jones Gallery":MAILTO:sarah@jonesgallery.ca
END:VEVENT
END:VCALENDAR