BEGIN:VCALENDAR
VERSION:2.0
PRODID:-//Uptown Saint John - ECPv6.15.20//NONSGML v1.0//EN
CALSCALE:GREGORIAN
METHOD:PUBLISH
X-WR-CALNAME:Uptown Saint John
X-ORIGINAL-URL:https://uptownsj.com
X-WR-CALDESC:Events for Uptown Saint John
REFRESH-INTERVAL;VALUE=DURATION:PT1H
X-Robots-Tag:noindex
X-PUBLISHED-TTL:PT1H
BEGIN:VTIMEZONE
TZID:America/Halifax
BEGIN:DAYLIGHT
TZOFFSETFROM:-0400
TZOFFSETTO:-0300
TZNAME:ADT
DTSTART:20220313T060000
END:DAYLIGHT
BEGIN:STANDARD
TZOFFSETFROM:-0300
TZOFFSETTO:-0400
TZNAME:AST
DTSTART:20221106T050000
END:STANDARD
BEGIN:DAYLIGHT
TZOFFSETFROM:-0400
TZOFFSETTO:-0300
TZNAME:ADT
DTSTART:20230312T060000
END:DAYLIGHT
BEGIN:STANDARD
TZOFFSETFROM:-0300
TZOFFSETTO:-0400
TZNAME:AST
DTSTART:20231105T050000
END:STANDARD
BEGIN:DAYLIGHT
TZOFFSETFROM:-0400
TZOFFSETTO:-0300
TZNAME:ADT
DTSTART:20240310T060000
END:DAYLIGHT
BEGIN:STANDARD
TZOFFSETFROM:-0300
TZOFFSETTO:-0400
TZNAME:AST
DTSTART:20241103T050000
END:STANDARD
BEGIN:DAYLIGHT
TZOFFSETFROM:-0400
TZOFFSETTO:-0300
TZNAME:ADT
DTSTART:20250309T060000
END:DAYLIGHT
BEGIN:STANDARD
TZOFFSETFROM:-0300
TZOFFSETTO:-0400
TZNAME:AST
DTSTART:20251102T050000
END:STANDARD
END:VTIMEZONE
BEGIN:VEVENT
DTSTART;TZID=America/Halifax:20240526T110000
DTEND;TZID=America/Halifax:20240526T170000
DTSTAMP:20260419T111110
CREATED:20240522T130353Z
LAST-MODIFIED:20240522T130353Z
UID:10007403-1716721200-1716742800@uptownsj.com
SUMMARY:Touch by Asoebigirl Spring Launch Pop-Up Shop at TUCK Studio!
DESCRIPTION:Join us at TUCK this Saturday for a one-day-only POP-UP shop in collaboration with Touch by Asoebigirl\, founded by fashion designer\, Ijeoma Onuoha. Come and explore a range of stunning and vibrant pieces as she launches her limited spring collection\, EMERGE! With a fusion of African prints and Western fabrics like linen and denim\, each piece embodies tradition and modernity. From chic dresses to versatile shorts and kimonos\, EMERGE offers bold yet effortless fashion for any occasion.
URL:https://uptownsj.com/event/touch-by-asoebigirl-spring-launch-pop-up-shop-at-tuck-studio/
LOCATION:TUCK Studio\, 115 Prince William Street\, Saint John\, NB\, E2L2B4\, Canada
ORGANIZER;CN="TUCK Studio":MAILTO:hello@tuckstudio.ca
END:VEVENT
BEGIN:VEVENT
DTSTART;TZID=America/Halifax:20230902T100000
DTEND;TZID=America/Halifax:20230902T170000
DTSTAMP:20260419T111110
CREATED:20230829T153305Z
LAST-MODIFIED:20230829T153305Z
UID:10005588-1693648800-1693674000@uptownsj.com
SUMMARY:TUCK Turns 11!
DESCRIPTION:Join us this Friday\, September 1st and Saturday\, September 2nd to celebrate 11 years in business serving our incredible Tuck community! Enjoy 20% OFF everything in-store (*excludes local art + special orders) during our two-day celebration\, PLUS everyone who visits us will receive a ballot for a chance to win one of our 11 fabulous door prizes!
URL:https://uptownsj.com/event/tuck-turns-11/2023-09-02/
LOCATION:TUCK Studio\, 115 Prince William Street\, Saint John\, NB\, E2L2B4\, Canada
ORGANIZER;CN="TUCK Studio":MAILTO:hello@tuckstudio.ca
END:VEVENT
BEGIN:VEVENT
DTSTART;TZID=America/Halifax:20230901T100000
DTEND;TZID=America/Halifax:20230901T173000
DTSTAMP:20260419T111110
CREATED:20230829T153305Z
LAST-MODIFIED:20230829T153305Z
UID:10005587-1693562400-1693589400@uptownsj.com
SUMMARY:TUCK Turns 11!
DESCRIPTION:Join us this Friday\, September 1st and Saturday\, September 2nd to celebrate 11 years in business serving our incredible Tuck community! Enjoy 20% OFF everything in-store (*excludes local art + special orders) during our two-day celebration\, PLUS everyone who visits us will receive a ballot for a chance to win one of our 11 fabulous door prizes!
URL:https://uptownsj.com/event/tuck-turns-11/2023-09-01/
LOCATION:TUCK Studio\, 115 Prince William Street\, Saint John\, NB\, E2L2B4\, Canada
ORGANIZER;CN="TUCK Studio":MAILTO:hello@tuckstudio.ca
END:VEVENT
END:VCALENDAR