BEGIN:VCALENDAR
VERSION:2.0
PRODID:-//Uptown Saint John - ECPv6.15.20//NONSGML v1.0//EN
CALSCALE:GREGORIAN
METHOD:PUBLISH
X-ORIGINAL-URL:https://uptownsj.com
X-WR-CALDESC:Events for Uptown Saint John
REFRESH-INTERVAL;VALUE=DURATION:PT1H
X-Robots-Tag:noindex
X-PUBLISHED-TTL:PT1H
BEGIN:VTIMEZONE
TZID:America/Halifax
BEGIN:DAYLIGHT
TZOFFSETFROM:-0400
TZOFFSETTO:-0300
TZNAME:ADT
DTSTART:20240310T060000
END:DAYLIGHT
BEGIN:STANDARD
TZOFFSETFROM:-0300
TZOFFSETTO:-0400
TZNAME:AST
DTSTART:20241103T050000
END:STANDARD
BEGIN:DAYLIGHT
TZOFFSETFROM:-0400
TZOFFSETTO:-0300
TZNAME:ADT
DTSTART:20250309T060000
END:DAYLIGHT
BEGIN:STANDARD
TZOFFSETFROM:-0300
TZOFFSETTO:-0400
TZNAME:AST
DTSTART:20251102T050000
END:STANDARD
BEGIN:DAYLIGHT
TZOFFSETFROM:-0400
TZOFFSETTO:-0300
TZNAME:ADT
DTSTART:20260308T060000
END:DAYLIGHT
BEGIN:STANDARD
TZOFFSETFROM:-0300
TZOFFSETTO:-0400
TZNAME:AST
DTSTART:20261101T050000
END:STANDARD
END:VTIMEZONE
BEGIN:VEVENT
DTSTART;TZID=America/Halifax:20251208T140000
DTEND;TZID=America/Halifax:20251208T170000
DTSTAMP:20260422T034241
CREATED:20250728T135016Z
LAST-MODIFIED:20250728T135016Z
UID:10013303-1765202400-1765213200@uptownsj.com
SUMMARY:Happy hour - Let's Hummas
DESCRIPTION:Happy hour 2-5pm \nenjoy any wrap and drink just for $9.99
URL:https://uptownsj.com/event/happy-hour-lets-hummas/2025-12-08/
LOCATION:LET’S HUMMUS\, 44 water street\, Saint john\, E2L 1J9
CATEGORIES:Restaurant Specials,Specials
ATTACH;FMTTYPE=image/jpeg:https://uptownsj.com/wp-content/uploads/2025/07/610f3321-e054-4223-9321-0ebe6ceb0882.jpeg
ORGANIZER;CN="Anuj Bansal":MAILTO:Letshummus@outlook.com
END:VEVENT
BEGIN:VEVENT
DTSTART;TZID=America/Halifax:20251208T190000
DTEND;TZID=America/Halifax:20251208T210000
DTSTAMP:20260422T034241
CREATED:20250617T134611Z
LAST-MODIFIED:20250617T134611Z
UID:10012627-1765220400-1765227600@uptownsj.com
SUMMARY:Retro Film: Muppet Christmas Carol
DESCRIPTION:The Muppets perform the classic Dickens holiday tale\, with Kermit the Frog playing Bob Cratchit\, the put-upon clerk of stingy Ebenezer Scrooge (Michael Caine). Other Muppets — Miss Piggy\, Gonzo\, Fozzie Bear and Sam the Eagle — weave in and out of the story\, while Scrooge receives visits from spirits of three Christmases — past\, present and future. They show him the error of his self-serving ways\, but the miserable old man seems to be past any hope of redemption and happiness.
URL:https://uptownsj.com/event/retro-film-muppet-christmas-carol/
LOCATION:Imperial Theatre\, 12 King Square S.\, Saint John
CATEGORIES:Community
ATTACH;FMTTYPE=image/jpeg:https://uptownsj.com/wp-content/uploads/2025/06/4.-Muppet-Christmas-Carol.jpg
END:VEVENT
BEGIN:VEVENT
DTSTART;TZID=America/Halifax:20251209T140000
DTEND;TZID=America/Halifax:20251209T170000
DTSTAMP:20260422T034241
CREATED:20250728T135016Z
LAST-MODIFIED:20250728T135016Z
UID:10013304-1765288800-1765299600@uptownsj.com
SUMMARY:Happy hour - Let's Hummas
DESCRIPTION:Happy hour 2-5pm \nenjoy any wrap and drink just for $9.99
URL:https://uptownsj.com/event/happy-hour-lets-hummas/2025-12-09/
LOCATION:LET’S HUMMUS\, 44 water street\, Saint john\, E2L 1J9
CATEGORIES:Restaurant Specials,Specials
ATTACH;FMTTYPE=image/jpeg:https://uptownsj.com/wp-content/uploads/2025/07/610f3321-e054-4223-9321-0ebe6ceb0882.jpeg
ORGANIZER;CN="Anuj Bansal":MAILTO:Letshummus@outlook.com
END:VEVENT
BEGIN:VEVENT
DTSTART;TZID=America/Halifax:20251210T140000
DTEND;TZID=America/Halifax:20251210T170000
DTSTAMP:20260422T034241
CREATED:20250728T135016Z
LAST-MODIFIED:20250728T135016Z
UID:10013305-1765375200-1765386000@uptownsj.com
SUMMARY:Happy hour - Let's Hummas
DESCRIPTION:Happy hour 2-5pm \nenjoy any wrap and drink just for $9.99
URL:https://uptownsj.com/event/happy-hour-lets-hummas/2025-12-10/
LOCATION:LET’S HUMMUS\, 44 water street\, Saint john\, E2L 1J9
CATEGORIES:Restaurant Specials,Specials
ATTACH;FMTTYPE=image/jpeg:https://uptownsj.com/wp-content/uploads/2025/07/610f3321-e054-4223-9321-0ebe6ceb0882.jpeg
ORGANIZER;CN="Anuj Bansal":MAILTO:Letshummus@outlook.com
END:VEVENT
BEGIN:VEVENT
DTSTART;TZID=America/Halifax:20251210T200000
DTEND;TZID=America/Halifax:20251211T000000
DTSTAMP:20260422T034241
CREATED:20250819T121317Z
LAST-MODIFIED:20250819T121317Z
UID:10013867-1765396800-1765411200@uptownsj.com
SUMMARY:Open Mic Night at O’Leary’s Pub
DESCRIPTION:Join us at O’Leary’s Pub for Open Mic Night\, hosted by Brent Mason and Aaron Gunn\, at Saint John’s oldest Irish pub! Whether you’re performing or just enjoying the local talent\, spend the evening immersed in music\, stories\, and East Coast charm. \nThis weekly tradition has been bringing local artists together since 1992\, promising surprises\, laughs\, and unforgettable performances. Grab a pint\, soak in the atmosphere\, and celebrate Saint John’s vibrant creative community.
URL:https://uptownsj.com/event/open-mic-night-at-olearys-pub-2/2025-12-10/
LOCATION:O’Leary’s Pub\, 46 Princess Street\, Saint John\, E2L 1K2
CATEGORIES:Live Music
ATTACH;FMTTYPE=image/png:https://uptownsj.com/wp-content/uploads/2025/08/Open-Mic-Night.png
ORGANIZER;CN="O'Leary's Pub":MAILTO:olearyspub@gmail.com
END:VEVENT
BEGIN:VEVENT
DTSTART;VALUE=DATE:20251211
DTEND;VALUE=DATE:20251212
DTSTAMP:20260422T034241
CREATED:20250729T175547Z
LAST-MODIFIED:20250729T175547Z
UID:10013586-1765411200-1765497599@uptownsj.com
SUMMARY:Beer Bread's 5\,6\,7\,10 Thursdays with Live Music
DESCRIPTION:Every Thursday Beer Bread restaurant offers Happy Hour all-day & all-night! \n$5 – 14oz Draught Beers \n$6 – 6oz Wine (Red\, White\, Rosé) \n$7 – BB Old Fashioned Cocktails \n$10 – Small Bites (All our small plate appetizers will be featured for $10) \nWe also will be offering the music stylings of Jamie Wright from 5:30pm-8:30pm.
URL:https://uptownsj.com/event/beer-breads-56710-thursdays-with-live-music/2025-12-11/
LOCATION:Beer Bread\, 7 Market Square\, Saint John\, E2l 1e8
CATEGORIES:Restaurant Specials,Specials
ATTACH;FMTTYPE=image/png:https://uptownsj.com/wp-content/uploads/2025/07/1.png
END:VEVENT
BEGIN:VEVENT
DTSTART;TZID=America/Halifax:20251211T140000
DTEND;TZID=America/Halifax:20251211T170000
DTSTAMP:20260422T034241
CREATED:20250728T135016Z
LAST-MODIFIED:20250728T135016Z
UID:10013306-1765461600-1765472400@uptownsj.com
SUMMARY:Happy hour - Let's Hummas
DESCRIPTION:Happy hour 2-5pm \nenjoy any wrap and drink just for $9.99
URL:https://uptownsj.com/event/happy-hour-lets-hummas/2025-12-11/
LOCATION:LET’S HUMMUS\, 44 water street\, Saint john\, E2L 1J9
CATEGORIES:Restaurant Specials,Specials
ATTACH;FMTTYPE=image/jpeg:https://uptownsj.com/wp-content/uploads/2025/07/610f3321-e054-4223-9321-0ebe6ceb0882.jpeg
ORGANIZER;CN="Anuj Bansal":MAILTO:Letshummus@outlook.com
END:VEVENT
BEGIN:VEVENT
DTSTART;TZID=America/Halifax:20251211T210000
DTEND;TZID=America/Halifax:20251212T000000
DTSTAMP:20260422T034241
CREATED:20250819T121248Z
LAST-MODIFIED:20250819T121248Z
UID:10014126-1765486800-1765497600@uptownsj.com
SUMMARY:Sarahtonein at O’Leary’s Pub
DESCRIPTION:Thursdays just got a whole lot better! Sarahtonein is taking the stage with raw vocals and infectious energy\, serving up a night full of music\, laughs\, and East Coast charm. Come for the tunes\, stay for the good times—and don’t forget your pint! \n19+ | No cover charge
URL:https://uptownsj.com/event/sarahtonein-at-olearys-pub/2025-12-11/
LOCATION:O’Leary’s Pub\, 46 Princess Street\, Saint John\, E2L 1K2
CATEGORIES:Live Music
ATTACH;FMTTYPE=image/png:https://uptownsj.com/wp-content/uploads/2025/08/Thursday-Sarahtonein.png
ORGANIZER;CN="O'Leary's Pub":MAILTO:olearyspub@gmail.com
END:VEVENT
BEGIN:VEVENT
DTSTART;TZID=America/Halifax:20251212T140000
DTEND;TZID=America/Halifax:20251212T170000
DTSTAMP:20260422T034241
CREATED:20250728T135016Z
LAST-MODIFIED:20250728T135016Z
UID:10013307-1765548000-1765558800@uptownsj.com
SUMMARY:Happy hour - Let's Hummas
DESCRIPTION:Happy hour 2-5pm \nenjoy any wrap and drink just for $9.99
URL:https://uptownsj.com/event/happy-hour-lets-hummas/2025-12-12/
LOCATION:LET’S HUMMUS\, 44 water street\, Saint john\, E2L 1J9
CATEGORIES:Restaurant Specials,Specials
ATTACH;FMTTYPE=image/jpeg:https://uptownsj.com/wp-content/uploads/2025/07/610f3321-e054-4223-9321-0ebe6ceb0882.jpeg
ORGANIZER;CN="Anuj Bansal":MAILTO:Letshummus@outlook.com
END:VEVENT
BEGIN:VEVENT
DTSTART;TZID=America/Halifax:20251212T190000
DTEND;TZID=America/Halifax:20251212T210000
DTSTAMP:20260422T034241
CREATED:20250213T150005Z
LAST-MODIFIED:20250213T150005Z
UID:10011087-1765566000-1765573200@uptownsj.com
SUMMARY:Live JAZZ at the Gallery
DESCRIPTION:Every Friday\, from 7 – 9\, join us for an amazing evening of Jazz music and feel like you are in NYC ! Trinity Galleries brings you the best in visual and musical arts in Atlantic Canada.
URL:https://uptownsj.com/event/live-jazz-at-the-gallery/2025-12-12/
LOCATION:Trinity Galleries\, 128 GERMAIN ST.\, SAINT JOHN\, New Brunswick\, E2L 2E7\, Canada
CATEGORIES:Art,Cultural Event,Live Music
ATTACH;FMTTYPE=image/jpeg:https://uptownsj.com/wp-content/uploads/2025/02/IMG_2367-3.jpg
ORGANIZER;CN="Trinity Galleries":MAILTO:art@trintygalleries.ca
END:VEVENT
BEGIN:VEVENT
DTSTART;TZID=America/Halifax:20251212T190000
DTEND;TZID=America/Halifax:20251212T210000
DTSTAMP:20260422T034241
CREATED:20251124T134004Z
LAST-MODIFIED:20251124T134004Z
UID:10015959-1765566000-1765573200@uptownsj.com
SUMMARY:Jazz at Trinity Galleriea - A Very Solina Christmas
DESCRIPTION:It’s Christmas time again\, and that means Solina is ready to celebrate with you. We’ve only got one Holiday show this year\, so make plans to be at Trinity Galleries in Uptown Saint John on 12 December. Tickets are $30 and can be purchased at the gallery or reserve by phoning 506-634-1611.
URL:https://uptownsj.com/event/jazz-at-trinity-galleriea-a-very-solina-christmas/
LOCATION:Trinity Galleries\, 128 GERMAIN ST.\, SAINT JOHN\, New Brunswick\, E2L 2E7\, Canada
CATEGORIES:Live Music
ATTACH;FMTTYPE=image/png:https://uptownsj.com/wp-content/uploads/2025/11/IMG_2701.png
END:VEVENT
BEGIN:VEVENT
DTSTART;TZID=America/Halifax:20251213T100000
DTEND;TZID=America/Halifax:20251213T140000
DTSTAMP:20260422T034241
CREATED:20250728T115843Z
LAST-MODIFIED:20250728T115843Z
UID:10012924-1765620000-1765634400@uptownsj.com
SUMMARY:The Saturday Bakery
DESCRIPTION:The Saturday Bakery is a pop-event that takes place weekly at East Coast Bistro. \nFeaturing a monthly menu of traditional French croissants\, nostalgic sweets\, loaves of sourdough and more\, our items go on sale via our website Fridays at 4pm. Upon loading your cart\, our system will prompt you to schedule a pick up time on Saturday between 10am and 2pm. \nWalk-in orders are welcome for remaining inventory on Saturdays starting at 10am. \nSign up for our newsletter via our website to receive a weekly email reminding you to place your order.
URL:https://uptownsj.com/event/the-saturday-bakery/2025-12-13/
LOCATION:East Coast Bistro\, 60 Prince William Street\, Saint John\, E2L 2B1
CATEGORIES:Restaurant Specials,Specials
ATTACH;FMTTYPE=image/jpeg:https://uptownsj.com/wp-content/uploads/2025/07/IMG_8062.jpg
ORGANIZER;CN="East Coast Bistro":MAILTO:eat@eastcoastbistro.com
END:VEVENT
BEGIN:VEVENT
DTSTART;TZID=America/Halifax:20251213T140000
DTEND;TZID=America/Halifax:20251213T170000
DTSTAMP:20260422T034241
CREATED:20250728T135016Z
LAST-MODIFIED:20250728T135016Z
UID:10013308-1765634400-1765645200@uptownsj.com
SUMMARY:Happy hour - Let's Hummas
DESCRIPTION:Happy hour 2-5pm \nenjoy any wrap and drink just for $9.99
URL:https://uptownsj.com/event/happy-hour-lets-hummas/2025-12-13/
LOCATION:LET’S HUMMUS\, 44 water street\, Saint john\, E2L 1J9
CATEGORIES:Restaurant Specials,Specials
ATTACH;FMTTYPE=image/jpeg:https://uptownsj.com/wp-content/uploads/2025/07/610f3321-e054-4223-9321-0ebe6ceb0882.jpeg
ORGANIZER;CN="Anuj Bansal":MAILTO:Letshummus@outlook.com
END:VEVENT
BEGIN:VEVENT
DTSTART;TZID=America/Halifax:20251214T140000
DTEND;TZID=America/Halifax:20251214T170000
DTSTAMP:20260422T034241
CREATED:20250728T135016Z
LAST-MODIFIED:20250728T135016Z
UID:10013309-1765720800-1765731600@uptownsj.com
SUMMARY:Happy hour - Let's Hummas
DESCRIPTION:Happy hour 2-5pm \nenjoy any wrap and drink just for $9.99
URL:https://uptownsj.com/event/happy-hour-lets-hummas/2025-12-14/
LOCATION:LET’S HUMMUS\, 44 water street\, Saint john\, E2L 1J9
CATEGORIES:Restaurant Specials,Specials
ATTACH;FMTTYPE=image/jpeg:https://uptownsj.com/wp-content/uploads/2025/07/610f3321-e054-4223-9321-0ebe6ceb0882.jpeg
ORGANIZER;CN="Anuj Bansal":MAILTO:Letshummus@outlook.com
END:VEVENT
END:VCALENDAR