BEGIN:VCALENDAR
VERSION:2.0
PRODID:-//Uptown Saint John - ECPv6.15.20//NONSGML v1.0//EN
CALSCALE:GREGORIAN
METHOD:PUBLISH
X-WR-CALNAME:Uptown Saint John
X-ORIGINAL-URL:https://uptownsj.com
X-WR-CALDESC:Events for Uptown Saint John
REFRESH-INTERVAL;VALUE=DURATION:PT1H
X-Robots-Tag:noindex
X-PUBLISHED-TTL:PT1H
BEGIN:VTIMEZONE
TZID:America/Halifax
BEGIN:DAYLIGHT
TZOFFSETFROM:-0400
TZOFFSETTO:-0300
TZNAME:ADT
DTSTART:20240310T060000
END:DAYLIGHT
BEGIN:STANDARD
TZOFFSETFROM:-0300
TZOFFSETTO:-0400
TZNAME:AST
DTSTART:20241103T050000
END:STANDARD
BEGIN:DAYLIGHT
TZOFFSETFROM:-0400
TZOFFSETTO:-0300
TZNAME:ADT
DTSTART:20250309T060000
END:DAYLIGHT
BEGIN:STANDARD
TZOFFSETFROM:-0300
TZOFFSETTO:-0400
TZNAME:AST
DTSTART:20251102T050000
END:STANDARD
BEGIN:DAYLIGHT
TZOFFSETFROM:-0400
TZOFFSETTO:-0300
TZNAME:ADT
DTSTART:20260308T060000
END:DAYLIGHT
BEGIN:STANDARD
TZOFFSETFROM:-0300
TZOFFSETTO:-0400
TZNAME:AST
DTSTART:20261101T050000
END:STANDARD
END:VTIMEZONE
BEGIN:VEVENT
DTSTART;TZID=America/Halifax:20250401T180000
DTEND;TZID=America/Halifax:20250401T200000
DTSTAMP:20260424T094155
CREATED:20250211T131432Z
LAST-MODIFIED:20250211T131432Z
UID:10010982-1743530400-1743537600@uptownsj.com
SUMMARY:Art Journaling Club
DESCRIPTION:Come join us from 6-8pm every week for 6 weeks as we explore the creative joy of art journaling.\nWe will learn how to mix media to create our own unique art journals. We will explore new techniques\, strategies and art mediums each week.\nWhat is included ?\nA spiral spined multimedia journalAll the art supplies you could imagineMagazinesScrapbooking paperPaint and new art materials to create beautiful collage and let your creativity run freely !\nLight refreshments each week and a chance to create a community of curious art friends !\nNo experience needed. All levels and interest in art welcome. All ages welcome.\n\nCost  200 for 6 weeks or 50 dollar drop in price.\nEmail : amdarttherapy@icloud.com for inquiries\n\n\n***non accessibility space *** please reach out if this might be an issue it is located on the 3rd floor at the moment.
URL:https://uptownsj.com/event/art-journaling-club/2025-04-01/
LOCATION:Divine Studios\, 87 Canterbury St. Suite 301\, saint john
ATTACH;FMTTYPE=image/jpeg:https://uptownsj.com/wp-content/uploads/2025/02/5DBB2D18-1904-4B5E-90DE-14B6576EAC3D.jpeg
END:VEVENT
BEGIN:VEVENT
DTSTART;TZID=America/Halifax:20250402T190000
DTEND;TZID=America/Halifax:20250402T210000
DTSTAMP:20260424T094155
CREATED:20250402T115434Z
LAST-MODIFIED:20250402T115434Z
UID:10011757-1743620400-1743627600@uptownsj.com
SUMMARY:Unwind Wednesday Jazz with Karine
DESCRIPTION:Join bilingual vocalist\, Karine\, along with her band for an unforgettable evening of soulful\, powerful and fun vocal jazz songs.
URL:https://uptownsj.com/event/unwind-wednesday-jazz-with-karine/
LOCATION:Wasted Day Brewing\, 36 Water Street\, Saint John\, New Brunswick\, E2L 2A5\, Canada
CATEGORIES:Art,Live Music
ATTACH;FMTTYPE=image/jpeg:https://uptownsj.com/wp-content/uploads/2025/04/IMG_3628-scaled.jpeg
END:VEVENT
BEGIN:VEVENT
DTSTART;TZID=America/Halifax:20250404T190000
DTEND;TZID=America/Halifax:20250404T210000
DTSTAMP:20260424T094155
CREATED:20250213T150005Z
LAST-MODIFIED:20250213T150005Z
UID:10011051-1743793200-1743800400@uptownsj.com
SUMMARY:Live JAZZ at the Gallery
DESCRIPTION:Every Friday\, from 7 – 9\, join us for an amazing evening of Jazz music and feel like you are in NYC ! Trinity Galleries brings you the best in visual and musical arts in Atlantic Canada.
URL:https://uptownsj.com/event/live-jazz-at-the-gallery/2025-04-04/
LOCATION:Trinity Galleries\, 128 GERMAIN ST.\, SAINT JOHN\, New Brunswick\, E2L 2E7\, Canada
CATEGORIES:Art,Cultural Event,Live Music
ATTACH;FMTTYPE=image/jpeg:https://uptownsj.com/wp-content/uploads/2025/02/IMG_2367-3.jpg
ORGANIZER;CN="Trinity Galleries":MAILTO:art@trintygalleries.ca
END:VEVENT
BEGIN:VEVENT
DTSTART;TZID=America/Halifax:20250404T200000
DTEND;TZID=America/Halifax:20250404T220000
DTSTAMP:20260424T094155
CREATED:20250313T122355Z
LAST-MODIFIED:20250313T122355Z
UID:10011359-1743796800-1743804000@uptownsj.com
SUMMARY:Darren Frost Live in Saint John
DESCRIPTION:Darren Frost has over 30 years of comedy experience. Appearances at Just For Laughs\, halifax comedy festival and CBC the Debaters. Also\, movies/tv such as Hairspray\, Don’t say a word\, Fever Pitch\, Mr. D and Murdoch Mysteries. for more info check out darrenfrost.com \nSPECIAL GUEST JON FORWARD AND MICHELLE PETITE
URL:https://uptownsj.com/event/darren-frost-live-in-saint-john/
LOCATION:Water Street Dinner Theatre\, 110 Water St\, Saint John\, E2L 5G1
CATEGORIES:Comedy
ATTACH;FMTTYPE=image/jpeg:https://uptownsj.com/wp-content/uploads/2025/03/Darren-Frost-jpg.jpg
ORGANIZER;CN="No Jokes Barred":MAILTO:jonforward@gmail.com
END:VEVENT
BEGIN:VEVENT
DTSTART;TZID=America/Halifax:20250405T100000
DTEND;TZID=America/Halifax:20250405T160000
DTSTAMP:20260424T094155
CREATED:20250402T193051Z
LAST-MODIFIED:20250402T193051Z
UID:10011758-1743847200-1743868800@uptownsj.com
SUMMARY:The Sewist Mastering the Art of Fabric: Fabric Store Grand Opening
DESCRIPTION:The Sewist’s brand new Fabric Store is having its Grand Opening on April 5th\, 2025 from 10 AM – 4 PM and you’re invited!  Opening Day Specials!  Spend $25+ and get entered to win a $200 gift card Just show up and you’re entered to win a $50 gift card (make a purchase and you’re entered twice!) Sign up for our email list and pick a fun prize — think fabric scraps\, pins\, pens & more! Fresh Off the Bolt Promo: Be the first to buy a fabric and get 30% off the first 3.0 meters!Come celebrate\, shop beautiful fabrics\, and kick off our grand opening with us!   \nSee less\n\n— at The Sewist Mastering the Art of Fabric.
URL:https://uptownsj.com/event/the-sewist-mastering-the-art-of-fabric-fabric-store-grand-opening/
LOCATION:62 Water St\, Saint John\, NB\, 62 Water Street\, Saint John\, E2L 5G1
CATEGORIES:Art
ATTACH;FMTTYPE=image/jpeg:https://uptownsj.com/wp-content/uploads/2025/04/Sewist_Grand_Opening.jpg
ORGANIZER;CN="The Sewist Mastering the Art of Fabric":MAILTO:hello@thesewist.ca
END:VEVENT
BEGIN:VEVENT
DTSTART;TZID=America/Halifax:20250405T110000
DTEND;TZID=America/Halifax:20250405T160000
DTSTAMP:20260424T094155
CREATED:20250120T160855Z
LAST-MODIFIED:20250120T160855Z
UID:10010957-1743850800-1743868800@uptownsj.com
SUMMARY:Lovely Little Spring Market @ Wasted Day Brewery
DESCRIPTION:Join us at the Lovely Little Spring Market at Wasted Day Brewery to shop Atlantic Canadian Vendors. Everyone is bringing their best spring goods\, many are bringing Easter goodies too! Hope to see you there.
URL:https://uptownsj.com/event/lovely-little-spring-market-wasted-day-brewery/
LOCATION:Wasted Day Brewing\, 36 Water Street\, Saint John\, New Brunswick\, E2L 2A5\, Canada
ORGANIZER;CN="Lovely Little Market":MAILTO:lovelylittlemarketsj@gmail.com
END:VEVENT
BEGIN:VEVENT
DTSTART;TZID=America/Halifax:20250405T200000
DTEND;TZID=America/Halifax:20250405T230000
DTSTAMP:20260424T094155
CREATED:20241218T131632Z
LAST-MODIFIED:20241218T131632Z
UID:10010535-1743883200-1743894000@uptownsj.com
SUMMARY:SANDMAN  OFFICIALLY LICENSED BY METALLICA
DESCRIPTION:Get Ready  Saint  John  For An Epic  Concert Experience  Out Of This World! \nWhen  International Touring Artists  Sandman  Comes To Town ” Nothing Else Matters”!  Band  has  toured and worked  with Metallica! \nSaint John Trade & Convention Centre  — Full Bar!  Doors  Open At  7pm  Concert At 8pm   General Admission Seating! \nAdvance  Tickets Now On Sale At   TDSTATION.COM
URL:https://uptownsj.com/event/sandman-officially-licensed-by-metallica-2/
LOCATION:Trade and Convention Centre\, 1 Market Square\, Saint John
CATEGORIES:Live Music
END:VEVENT
END:VCALENDAR