BEGIN:VCALENDAR
VERSION:2.0
PRODID:-//Uptown Saint John - ECPv6.15.20//NONSGML v1.0//EN
CALSCALE:GREGORIAN
METHOD:PUBLISH
X-ORIGINAL-URL:https://uptownsj.com
X-WR-CALDESC:Events for Uptown Saint John
REFRESH-INTERVAL;VALUE=DURATION:PT1H
X-Robots-Tag:noindex
X-PUBLISHED-TTL:PT1H
BEGIN:VTIMEZONE
TZID:America/Halifax
BEGIN:DAYLIGHT
TZOFFSETFROM:-0400
TZOFFSETTO:-0300
TZNAME:ADT
DTSTART:20230312T060000
END:DAYLIGHT
BEGIN:STANDARD
TZOFFSETFROM:-0300
TZOFFSETTO:-0400
TZNAME:AST
DTSTART:20231105T050000
END:STANDARD
BEGIN:DAYLIGHT
TZOFFSETFROM:-0400
TZOFFSETTO:-0300
TZNAME:ADT
DTSTART:20240310T060000
END:DAYLIGHT
BEGIN:STANDARD
TZOFFSETFROM:-0300
TZOFFSETTO:-0400
TZNAME:AST
DTSTART:20241103T050000
END:STANDARD
BEGIN:DAYLIGHT
TZOFFSETFROM:-0400
TZOFFSETTO:-0300
TZNAME:ADT
DTSTART:20250309T060000
END:DAYLIGHT
BEGIN:STANDARD
TZOFFSETFROM:-0300
TZOFFSETTO:-0400
TZNAME:AST
DTSTART:20251102T050000
END:STANDARD
END:VTIMEZONE
BEGIN:VEVENT
DTSTART;TZID=America/Halifax:20240429T080000
DTEND;TZID=America/Halifax:20240505T170000
DTSTAMP:20260423T063131
CREATED:20240416T152542Z
LAST-MODIFIED:20240416T152640Z
UID:10007255-1714377600-1714928400@uptownsj.com
SUMMARY:Uptown Burger Week - 10 years!
DESCRIPTION:Join us as we celebrate 10 years of burgers Uptown! April 29th to May 5th 2024 \nYou can find menus by visiting our Uptown Burger Week page\, check often as new menus are added as they are received \nUptown Burger Week 2026
URL:https://uptownsj.com/event/uptown-burger-week-10-years/
LOCATION:Uptown Saint John\, Saint John\, New Brunswick\, Canada
ATTACH;FMTTYPE=image/png:https://uptownsj.com/wp-content/uploads/2024/04/TV-SCREEN-1.png
END:VEVENT
BEGIN:VEVENT
DTSTART;TZID=America/Halifax:20240430T120000
DTEND;TZID=America/Halifax:20240430T130000
DTSTAMP:20260423T063131
CREATED:20240416T185202Z
LAST-MODIFIED:20240416T185202Z
UID:10007256-1714478400-1714482000@uptownsj.com
SUMMARY:On-Stage Yoga at Imperial Theatre
DESCRIPTION:Take a yoga class\, led by Sadie Webster from The Nest Yoga\, on-stage at Imperial Theatre!\nBring your own mat (or let us know if you need to borrow one!).\nLimited space available.
URL:https://uptownsj.com/event/on-stage-yoga-at-imperial-theatre/
LOCATION:Imperial Theatre\, 12 King Square S.\, Saint John
CATEGORIES:Workshop
END:VEVENT
BEGIN:VEVENT
DTSTART;TZID=America/Halifax:20240430T160000
DTEND;TZID=America/Halifax:20240430T180000
DTSTAMP:20260423T063131
CREATED:20240411T130015Z
LAST-MODIFIED:20240411T130015Z
UID:10006969-1714492800-1714500000@uptownsj.com
SUMMARY:Knowledge\, Process\, Impact (KPI) Program
DESCRIPTION:If you are a young entrepreneur this program is for you. The Knowledge\, Process\, and Impact (KPI) Program is an opportunity for you to learn the ins and outs of how to run a business. It is an 11-week program where you will meet like-minded peers\, industry experts\, and amazing mentors who can provide sound business guidance to help you overcome the challenges you might be facing and grow your business into a sustainable successful venture. \nThe KPI Program has an additional perk! For those who are eligible\, there will be an additional opportunity to apply for a microgrant of up to $5.000\, to help you get the support you need to grow your business. Eligible expenses include but are not limited to equipment\, marketing materials\, licenses and business registration fees\, software\, hardware\, etc. Non-eligible expenses include\, but are not limited to: raw materials\, staffing costs\, taxes\, repayment of other financial instruments\, leasing agreements\, swag etc. \nBuild key connections\nGain insights on Finances\, Marketing\, Branding\, Funding Opportunities\, Legal aspects\, and much more.\nHave a compelling pitch that will build your confidence and allow you to connect with potential customers\, funders\, and partners. Engage in networking activities and get the connections you need to keep your business growing.\nAll candidates for the KPI program and the grant opportunity will be interviewed\, and their acceptance will depend on the information provided during the application process.\nIt is NOT mandatory to be part of the KPI Program for you to apply for the grant. \nStarts on April 16th to June 24th – Every Tuesday from 4 to 6 pm \nELIGIBILITY CRITERIA \n15 – 18 years old \n– Having a business that is currently operating (Please submit your business URL / Facebook page / Instagram and business summary)\n– Have been part of the IDEA Centre or have taken at least one entrepreneurial course (Marks for your courses)\n– Interview \n​19 – 29 years old \n-Having a business that is currently operating (Please submit your business URL / Facebook page / Instagram and business summary)\n– Interview \nRegister for KPI Program now. Spots are limited and will go fast! \nGrant Criteria 15 to 29 years old \n– Business Summary\n– Financials and financial need\n– Business growth plans\n– Interview
URL:https://uptownsj.com/event/knowledge-process-impact-kpi-program/2024-04-30/
LOCATION:ConnexionWorks\, 1 Germain St - Suite 300 (ConnexionWorks)\, Saint John\, New Brunswick\, Canada
CATEGORIES:Free,Workshop
ORGANIZER;CN="ConnexionWorks":MAILTO:info@connexionworks.ca
END:VEVENT
BEGIN:VEVENT
DTSTART;TZID=America/Halifax:20240430T190000
DTEND;TZID=America/Halifax:20240430T190000
DTSTAMP:20260423T063131
CREATED:20230628T181336Z
LAST-MODIFIED:20230628T181336Z
UID:10005444-1714503600-1714503600@uptownsj.com
SUMMARY:TIFF Film Circuit: TBA April 2024
DESCRIPTION:Film to be announced
URL:https://uptownsj.com/event/tiff-film-circuit-tba-april-2024/
LOCATION:Imperial Theatre\, 12 King Square S.\, Saint John
CATEGORIES:Community,Theatre
END:VEVENT
BEGIN:VEVENT
DTSTART;TZID=America/Halifax:20240501T090000
DTEND;TZID=America/Halifax:20240501T120000
DTSTAMP:20260423T063131
CREATED:20240411T130054Z
LAST-MODIFIED:20240411T130054Z
UID:10006977-1714554000-1714564800@uptownsj.com
SUMMARY:DREAM Program
DESCRIPTION:Are you a budding entrepreneur with a big dream and a world-changing idea? Do you want to turn your vision into a thriving business\, but you’re not sure where to start? Look no further – the DREAM Program is here to guide you on your journey to success! \nThe DREAM Program\, short for Discover\, Research\, Explore\, Adapt\, and Manage\, is a 5-week cohort-based intensive IDEA and DISCOVERY program designed to nurture your entrepreneurial spirit. We provide a safe and collaborative environment where participants solidify their business vision\, laying the foundation for success. \nLet’s DREAM together! Don’t let your dreams remain dreams! \nJoin the DREAM Program. A FREE and in-person course that will help you take that first crucial step toward building your dream business. Embrace innovation\, seize opportunities\, and make your entrepreneurial aspirations a reality. \nTopics include \n– DISCOVER your business vision\, define problem statements\, and solidify your goals.\n– RESEARCH and gain tools to understand your potential market\, future customers\, and your business industry.\n– EXPLORE solutions and opportunities for your business.\n– ADAPT your initial business idea with everything you’ve gathered and build your roadmap.\n– MANAGE your time\, resources\, and knowledge to build your support network. \nEligibility \n– Entrepreneurial spirit\n– A business idea you’re ready to explore. \nOur next cohort will start in May 1st to May 29th\, 2024.\nEvery Wednesday from 9:00 AM to 12:00 PM. \nKeep an eye on our socials to learn more about it and make sure you secure your spot NOW!
URL:https://uptownsj.com/event/dream-program/2024-05-01/
LOCATION:ConnexionWorks\, 1 Germain St - Suite 300 (ConnexionWorks)\, Saint John\, New Brunswick\, Canada
CATEGORIES:Free,Workshop
ORGANIZER;CN="ConnexionWorks":MAILTO:info@connexionworks.ca
END:VEVENT
BEGIN:VEVENT
DTSTART;TZID=America/Halifax:20240501T173000
DTEND;TZID=America/Halifax:20240501T203000
DTSTAMP:20260423T063131
CREATED:20240411T130121Z
LAST-MODIFIED:20240411T130121Z
UID:10006983-1714584600-1714595400@uptownsj.com
SUMMARY:Market\, Value and Pitch (MVP) Program
DESCRIPTION:The Market\, Value and Pitch (MVP) course is a 10-week cohort-based\, practical learning program designed to push motivated\, driven entrepreneurs to fully explore their business and validate their market share\, their customer segment\, their minimum viable product/service\, and their financial sustainability. \nThis program is your first step when going into the VALIDATION stage of the entrepreneurial journey and the goal is to help entrepreneurs create a value proposition that customers will appreciate or pivot their offerings into something sustainable. The MVP will give participants the confidence and knowledge to pitch their business to potential allies\, partners\, customers\, or investors. \nMVP is the best next step for those who have gone through the ideation stage and believe their business ideas are ready to take on a new adventure! \nEntrepreneurial Evolution: The Market\, Value and Pitch (MVP) is an applied learning program\, designed to move entrepreneurs from talking about their business idea to launching their business. \nTopics include: \n– Idea validation\n– Customer development\n– Value proposition\n– Market research\n– Product development\n– Strategic communication\n– Marketing – Branding\n– Business model canvas\n– Finance Modelling\n– Pitch night \nEligibility \n18+ years of age \n– Entrepreneurial spirit\n– A business idea you’re ready to “test” \nOur next cohort will start in April 24\, 2024. \nMake sure you secure your spot NOW!
URL:https://uptownsj.com/event/market-value-and-pitch-mvp-program/2024-05-01/
LOCATION:ConnexionWorks\, 1 Germain St - Suite 300 (ConnexionWorks)\, Saint John\, New Brunswick\, Canada
CATEGORIES:Free,Workshop
ORGANIZER;CN="ConnexionWorks":MAILTO:info@connexionworks.ca
END:VEVENT
BEGIN:VEVENT
DTSTART;TZID=America/Halifax:20240503T160000
DTEND;TZID=America/Halifax:20240503T160000
DTSTAMP:20260423T063131
CREATED:20240415T135941Z
LAST-MODIFIED:20240415T135941Z
UID:10007254-1714752000-1714752000@uptownsj.com
SUMMARY:Gallery Hop
DESCRIPTION:Saint John Gallery Hop is back for Spring 2024 edition!!\nVisit the Beautiful galleries of uptown SJ\nMitote Art Gallery\nCobalt Art Gallery\nGlass Roots Inc\nSaint John Arts Centre\nSaint John Art Club\nTrinity Galleries\nTuck Studio\nJones Gallery\nHandworks Gallery
URL:https://uptownsj.com/event/gallery-hop-2/
LOCATION:Mitote Art Gallery\, 1 Charlotte St\, Saint John\, New Brunswick\, E2L 2H3\, Canada
CATEGORIES:Art
END:VEVENT
BEGIN:VEVENT
DTSTART;TZID=America/Halifax:20240503T190000
DTEND;TZID=America/Halifax:20240503T210000
DTSTAMP:20260423T063131
CREATED:20240412T141509Z
LAST-MODIFIED:20240627T143452Z
UID:10008601-1714762800-1714770000@uptownsj.com
SUMMARY:Live Jazz - Trinity Galleries
DESCRIPTION:Cozy up on Friday Nights and enjoy the soothing sounds of Jazz all while enjoying the beautiful art gallery ambiance.\nFeaturing different musicians each week. Visit https://www.trinitygalleries.ca/ to see who is playing this Friday.\n$10. Door. Seating is limited. Drop in – although reserving ahead is recommended.\nCall 506-634-1611
URL:https://uptownsj.com/event/live-jazz/2024-05-03/
LOCATION:Trinity Galleries\, 128 GERMAIN ST.\, SAINT JOHN\, New Brunswick\, E2L 2E7\, Canada
CATEGORIES:Live Music
ATTACH;FMTTYPE=image/jpeg:https://uptownsj.com/wp-content/uploads/2024/04/NIGHTs-2.jpg
END:VEVENT
BEGIN:VEVENT
DTSTART;TZID=America/Halifax:20240503T200000
DTEND;TZID=America/Halifax:20240503T220000
DTSTAMP:20260423T063131
CREATED:20240306T135815Z
LAST-MODIFIED:20240306T135815Z
UID:10006537-1714766400-1714773600@uptownsj.com
SUMMARY:Rob Pue returns to Punch Lines Comedy Club!
DESCRIPTION:Tickets on Sale now!\n📅 May 3rd-4th\n⏰️ 8pm doors at 7pm\n💸 $30/$35 (taxes incl.)\nPurchase online here—->\nhttps://www.eventbrite.ca/o/punch-lines-comedy-club-73322710133\nOr Text 506-647-8338 and pay by etransfer. \nA gregarious and dynamic comedian with a knack for telling it like it is\, Rob has become one of the brightest voices to hit the Canadian comedy scene.\nWith unmistakeable charm\, wit and trade-mark act-outs\, Rob is a must see performance.A gregarious and dynamic comedian with a knack for telling it like it is\, Rob has become one of the brightest voices to hit the Canadian comedy scene.\nWith unmistakeable charm\, wit and trade-mark act-outs\, Rob is a must see performance.\nRob has also appeared as a regular on the MTV series Punk’d and recently had his one hour “Comedy Now” special air on the Comedy Channel. In 2013 Rob performed at all 3 Major Canadian TV Comedy Festivals – Just For Laughs Montreal\, Ha! Halifax Comedy Fest and The Winnipeg Comedy Festival!\nRob is a “military brat”; he was born on a base in Halifax and moved with his military father to Edmonton. He has played various military bases throughout Canada and has been invovled with several Military Comedy Benefits.
URL:https://uptownsj.com/event/rob-pue-returns-to-punch-lines-comedy-club/2024-05-03/
LOCATION:Punch Lines Comedy Club
CATEGORIES:Comedy
END:VEVENT
BEGIN:VEVENT
DTSTART;TZID=America/Halifax:20240504T100000
DTEND;TZID=America/Halifax:20240504T220000
DTSTAMP:20260423T063131
CREATED:20240425T143056Z
LAST-MODIFIED:20240425T143056Z
UID:10007265-1714816800-1714860000@uptownsj.com
SUMMARY:Free Comic Book Day
DESCRIPTION:Celebrate the 12th annual Free Comic Book Day with us!\nIn addition to the selection of free comics we will have cake\, popcorn\, face painting (11am – 2pm) cosplayers\, and the biggest discounts of the year!
URL:https://uptownsj.com/event/free-comic-book-day-2/
LOCATION:Heroes’ Beacon\, 25 Charlotte St\, Saint John\, New Brunswick\, E2L 2H3\, Canada
CATEGORIES:Free
END:VEVENT
BEGIN:VEVENT
DTSTART;TZID=America/Halifax:20240504T193000
DTEND;TZID=America/Halifax:20240504T220000
DTSTAMP:20260423T063131
CREATED:20240423T133726Z
LAST-MODIFIED:20240423T133726Z
UID:10007264-1714851000-1714860000@uptownsj.com
SUMMARY:No Jokes Barred
DESCRIPTION:🎤 No Jokes Barred: Uncensored Comedy Showcase 🎤 \nGet ready for a galactic night of uproarious laughter at “No Jokes Barred” – Saint John’s fanciest and most daring stand-up comedy show! 🚀 \n📅 Date: May the 4th\, 2024\n🕖 Time: Doors at 7:30 PM / Show from 8:00 to 10:00 PM\n📍 Venue: Water Street Dinner Theatre \nJoin us for an unforgettable evening where comedy takes center stage amidst the elegance of Water Street Dinner Theatre. Since 2014\, “No Jokes Barred” has been pushing the boundaries of humor in Saint John\, offering raw\, unfiltered comedy that’s guaranteed to have you in stitches. \nAt “No Jokes Barred\,” comedians are encouraged to take risks and experiment on stage. Whether they’re Jedi masters of comedy or padawan newcomers\, our lineup features both seasoned veterans and fresh faces ready to deliver side-splitting performances that even Yoda would applaud. \nSo why not celebrate Star Wars Day with us? Dress to impress in your finest galactic attire\, grab a few drinks\, and prepare for a night of laughter that’s sure to be out of this world! 🌌\nRemember\, this is a “pay what you can” show\, so come as you are and contribute what you’re able to support our talented comedians. \nDon’t miss out on the comedy event of the season! Join us at Water Street Dinner Theatre for “No Jokes Barred” – where anything goes\, and laughter is always on the menu.\nHosted by Jon Forward (LOL Fest @ The Imperial Theatre\, Punchlines Comedy Club\, Bell TV and Rogers TV) \nFeaturing:\nMichelle Petite\nShane Ogden\nSebastien Doiron\nJeff Pinnell\nKatelin Dean\nMandy-Lynn Donovan\nLiam McNamara
URL:https://uptownsj.com/event/no-jokes-barred-2/
LOCATION:Steamers Lobster Company\, 110 Water Street\, Saint John\, New Brunswick\, E2l 5g1\, Canada
CATEGORIES:Comedy
ORGANIZER;CN="Jon Forward Comedy":MAILTO:jonforward@gmail.com
END:VEVENT
BEGIN:VEVENT
DTSTART;TZID=America/Halifax:20240504T200000
DTEND;TZID=America/Halifax:20240504T220000
DTSTAMP:20260423T063131
CREATED:20240306T135815Z
LAST-MODIFIED:20240306T135815Z
UID:10006538-1714852800-1714860000@uptownsj.com
SUMMARY:Rob Pue returns to Punch Lines Comedy Club!
DESCRIPTION:Tickets on Sale now!\n📅 May 3rd-4th\n⏰️ 8pm doors at 7pm\n💸 $30/$35 (taxes incl.)\nPurchase online here—->\nhttps://www.eventbrite.ca/o/punch-lines-comedy-club-73322710133\nOr Text 506-647-8338 and pay by etransfer. \nA gregarious and dynamic comedian with a knack for telling it like it is\, Rob has become one of the brightest voices to hit the Canadian comedy scene.\nWith unmistakeable charm\, wit and trade-mark act-outs\, Rob is a must see performance.A gregarious and dynamic comedian with a knack for telling it like it is\, Rob has become one of the brightest voices to hit the Canadian comedy scene.\nWith unmistakeable charm\, wit and trade-mark act-outs\, Rob is a must see performance.\nRob has also appeared as a regular on the MTV series Punk’d and recently had his one hour “Comedy Now” special air on the Comedy Channel. In 2013 Rob performed at all 3 Major Canadian TV Comedy Festivals – Just For Laughs Montreal\, Ha! Halifax Comedy Fest and The Winnipeg Comedy Festival!\nRob is a “military brat”; he was born on a base in Halifax and moved with his military father to Edmonton. He has played various military bases throughout Canada and has been invovled with several Military Comedy Benefits.
URL:https://uptownsj.com/event/rob-pue-returns-to-punch-lines-comedy-club/2024-05-04/
LOCATION:Punch Lines Comedy Club
CATEGORIES:Comedy
END:VEVENT
BEGIN:VEVENT
DTSTART;TZID=America/Halifax:20240505T140000
DTEND;TZID=America/Halifax:20240505T150000
DTSTAMP:20260423T063131
CREATED:20230628T165452Z
LAST-MODIFIED:20230628T165452Z
UID:10005442-1714917600-1714921200@uptownsj.com
SUMMARY:It's Okay to Be Different: Stories by Todd Parr
DESCRIPTION:Pay What You Can — Imperial Theatre’s new pricing model allows everyone to select a ticket price that works for them and to pay what you can to come and experience great performances \nDescription: This wonderful family show cleverly delivers the important messages of acceptance\, understanding\, and self-confidence. Todd Parr is the author and illustrator of more than 71 books for children\, including the New York Times bestsellers: The I Love You Book\, The Earth Book\, and The Thankful Book. His books are available in over forty countries throughout the world. He was the co-creator of the 3X EMMY-Nominated children’s television show ToddWorld™\, and he has created several short films for Sesame Street. \nMermaid’s new work is directed and adapted by Jim Morrow\, creator of numerous internationally-acclaimed Mermaid productions. The show features a diverse cast\, an innovative approach to puppetry manipulation and construction\, combined with playful original music for which the company has earned worldwide praise. \nIt’s Okay to Be Different – Stories by Todd Parr; Director / Production Designer – Jim Morrow; Composer – Asif Illyas
URL:https://uptownsj.com/event/its-okay-to-be-different-stories-by-todd-parr/
LOCATION:Imperial Theatre\, 12 King Square S.\, Saint John
CATEGORIES:Community,Theatre
END:VEVENT
END:VCALENDAR