BEGIN:VCALENDAR
VERSION:2.0
PRODID:-//Uptown Saint John - ECPv6.15.20//NONSGML v1.0//EN
CALSCALE:GREGORIAN
METHOD:PUBLISH
X-ORIGINAL-URL:https://uptownsj.com
X-WR-CALDESC:Events for Uptown Saint John
REFRESH-INTERVAL;VALUE=DURATION:PT1H
X-Robots-Tag:noindex
X-PUBLISHED-TTL:PT1H
BEGIN:VTIMEZONE
TZID:America/Halifax
BEGIN:DAYLIGHT
TZOFFSETFROM:-0400
TZOFFSETTO:-0300
TZNAME:ADT
DTSTART:20230312T060000
END:DAYLIGHT
BEGIN:STANDARD
TZOFFSETFROM:-0300
TZOFFSETTO:-0400
TZNAME:AST
DTSTART:20231105T050000
END:STANDARD
BEGIN:DAYLIGHT
TZOFFSETFROM:-0400
TZOFFSETTO:-0300
TZNAME:ADT
DTSTART:20240310T060000
END:DAYLIGHT
BEGIN:STANDARD
TZOFFSETFROM:-0300
TZOFFSETTO:-0400
TZNAME:AST
DTSTART:20241103T050000
END:STANDARD
BEGIN:DAYLIGHT
TZOFFSETFROM:-0400
TZOFFSETTO:-0300
TZNAME:ADT
DTSTART:20250309T060000
END:DAYLIGHT
BEGIN:STANDARD
TZOFFSETFROM:-0300
TZOFFSETTO:-0400
TZNAME:AST
DTSTART:20251102T050000
END:STANDARD
END:VTIMEZONE
BEGIN:VEVENT
DTSTART;TZID=America/Halifax:20240404T080000
DTEND;TZID=America/Halifax:20240404T230000
DTSTAMP:20260422T234856
CREATED:20240205T131921Z
LAST-MODIFIED:20240205T131921Z
UID:10006148-1712217600-1712271600@uptownsj.com
SUMMARY:Zed  Tribute To Led Zeppelin  Direct From London
DESCRIPTION:Live Concert Celebrating The Music & Legacy of Led Zeppelin www.zedtribute.ca
URL:https://uptownsj.com/event/zed-tribute-to-led-zeppelin-direct-from-london/
LOCATION:Imperial Theatre\, 12 King Square S.\, Saint John
END:VEVENT
BEGIN:VEVENT
DTSTART;TZID=America/Halifax:20240404T193000
DTEND;TZID=America/Halifax:20240404T213000
DTSTAMP:20260422T234856
CREATED:20240304T171604Z
LAST-MODIFIED:20240304T171604Z
UID:10006158-1712259000-1712266200@uptownsj.com
SUMMARY:Michael Kohlhaas
DESCRIPTION:Presented by Gerhart Hauptmann Theatre in Gorlitz\, Germany\nApril 4-6\, 2024 | 7:30 PM | BMO Studio Theatre\, 112 Princess St. \nThis standout production makes its way from the esteemed Gerhart Hauptmann Theatre in Gorlitz\, Germany. Michael Kohlhaas is a classic Medieval-era Western. A successful merchant raises an army and plunders cities to restore his rights. This is a fully German production with English subtitles. \nAge recommendations: 14+. Violence\, use of theatre-blood.\nPricing: $30 regular / $20 student For more information\, or to get your tickets visit www.saintjohntheatrecompany.com or call our box office at 506-652-7582.
URL:https://uptownsj.com/event/michael-kohlhaas/2024-04-04/
LOCATION:The BMO Studio Theatre\, 112 Princess St\, 112 Princess St\, Saint John\, NB\, E2L 1K4\, Canada
CATEGORIES:Theatre
ORGANIZER;CN="Saint John Theatre Company":MAILTO:lise.driscoll@saintjohntheatrecompany.com
END:VEVENT
BEGIN:VEVENT
DTSTART;TZID=America/Halifax:20240405T193000
DTEND;TZID=America/Halifax:20240405T213000
DTSTAMP:20260422T234856
CREATED:20240304T171604Z
LAST-MODIFIED:20240304T171604Z
UID:10006159-1712345400-1712352600@uptownsj.com
SUMMARY:Michael Kohlhaas
DESCRIPTION:Presented by Gerhart Hauptmann Theatre in Gorlitz\, Germany\nApril 4-6\, 2024 | 7:30 PM | BMO Studio Theatre\, 112 Princess St. \nThis standout production makes its way from the esteemed Gerhart Hauptmann Theatre in Gorlitz\, Germany. Michael Kohlhaas is a classic Medieval-era Western. A successful merchant raises an army and plunders cities to restore his rights. This is a fully German production with English subtitles. \nAge recommendations: 14+. Violence\, use of theatre-blood.\nPricing: $30 regular / $20 student For more information\, or to get your tickets visit www.saintjohntheatrecompany.com or call our box office at 506-652-7582.
URL:https://uptownsj.com/event/michael-kohlhaas/2024-04-05/
LOCATION:The BMO Studio Theatre\, 112 Princess St\, 112 Princess St\, Saint John\, NB\, E2L 1K4\, Canada
CATEGORIES:Theatre
ORGANIZER;CN="Saint John Theatre Company":MAILTO:lise.driscoll@saintjohntheatrecompany.com
END:VEVENT
BEGIN:VEVENT
DTSTART;TZID=America/Halifax:20240405T200000
DTEND;TZID=America/Halifax:20240405T220000
DTSTAMP:20260422T234856
CREATED:20240306T140053Z
LAST-MODIFIED:20240306T140053Z
UID:10006534-1712347200-1712354400@uptownsj.com
SUMMARY:Sean Collins LIVE at Punch Lines
DESCRIPTION:This show will sell out!\nSean Collins originally from Canada joining us from the UK for his ‘Smokin’ Funny’ tour. Featuring ‘Canada’s got talent’ Cathy Boyd\, Jeff Pinnell (Fri) and Liam McNamara (Sat) PLUS….Haligonian Chris Halef hosting!\n📅April 5th-6th\n⏰️8pm doors at 7pm\nPurchase tickets online here https://www.eventbrite.ca/o/punch-lines-comedy-club-73322710133\nOr Text 506-647-8338 and pay by etransfer.
URL:https://uptownsj.com/event/sean-collins-live-at-punch-lines/2024-04-05/
LOCATION:Punch Lines Comedy Club
CATEGORIES:Comedy
END:VEVENT
BEGIN:VEVENT
DTSTART;TZID=America/Halifax:20240405T200000
DTEND;TZID=America/Halifax:20240405T220000
DTSTAMP:20260422T234856
CREATED:20240403T162517Z
LAST-MODIFIED:20240403T162517Z
UID:10006955-1712347200-1712354400@uptownsj.com
SUMMARY:After Office Zumba Party
DESCRIPTION:Are you ready to dance to the hottest tunes from around the globe\, mixing the best of international and Latin American pop? Join us for an exhilarating Zumba session led by the dynamic duo fo instructors! Get ready to move\, groove\, and feel the rhythm as we promise a fun-filled workout that will leave you feeling energized\, joyful\, and sporting a big\, bright smile throughout. Don’t miss out on the chance to dance your worries away with us! \nGet your tickets here! https://www.eventbrite.ca/e/after-office-zumba-party-tickets-868571710367
URL:https://uptownsj.com/event/after-office-zumba-party/
LOCATION:Crave Lounge\, 32 Grannan St.\, Saint John\, New Brunswick\, Canada
CATEGORIES:Community,Cultural Event
END:VEVENT
BEGIN:VEVENT
DTSTART;TZID=America/Halifax:20240406T100000
DTEND;TZID=America/Halifax:20240406T150000
DTSTAMP:20260422T234856
CREATED:20240322T121919Z
LAST-MODIFIED:20240322T121919Z
UID:10006556-1712397600-1712415600@uptownsj.com
SUMMARY:Newcomer Business Showcase
DESCRIPTION:Join us on April 6th for our Newcomer Business Showcase\, an exciting event dedicated to highlighting and celebrating the diverse array of small entrepreneurs who are newcomers to Saint John. This event is a platform designed to provide visibility and recognition to these hardworking individuals who have brought their unique talents and business ventures to our community.\n​\nIf you’re a newcomer entrepreneur with a business to share\, this is your chance to step into the spotlight and showcase your journey\, products\, and services. Whether you run a small shop\, offer specialized services\, or have an innovative product to share\, we invite you to participate and connect with fellow entrepreneurs\, community members\, and potential customers.
URL:https://uptownsj.com/event/newcomer-business-showcase/
LOCATION:Saint John City Market\, 47 Charlotte St\, Saint John\, New Brunswick\, Canada
CATEGORIES:Community,Cultural Event,Food,Networking
ATTACH;FMTTYPE=image/png:https://uptownsj.com/wp-content/uploads/2024/03/1.png
ORGANIZER;CN="ConnexionWorks":MAILTO:info@connexionworks.ca
END:VEVENT
BEGIN:VEVENT
DTSTART;TZID=America/Halifax:20240406T193000
DTEND;TZID=America/Halifax:20240406T213000
DTSTAMP:20260422T234856
CREATED:20240304T171604Z
LAST-MODIFIED:20240304T171604Z
UID:10006160-1712431800-1712439000@uptownsj.com
SUMMARY:Michael Kohlhaas
DESCRIPTION:Presented by Gerhart Hauptmann Theatre in Gorlitz\, Germany\nApril 4-6\, 2024 | 7:30 PM | BMO Studio Theatre\, 112 Princess St. \nThis standout production makes its way from the esteemed Gerhart Hauptmann Theatre in Gorlitz\, Germany. Michael Kohlhaas is a classic Medieval-era Western. A successful merchant raises an army and plunders cities to restore his rights. This is a fully German production with English subtitles. \nAge recommendations: 14+. Violence\, use of theatre-blood.\nPricing: $30 regular / $20 student For more information\, or to get your tickets visit www.saintjohntheatrecompany.com or call our box office at 506-652-7582.
URL:https://uptownsj.com/event/michael-kohlhaas/2024-04-06/
LOCATION:The BMO Studio Theatre\, 112 Princess St\, 112 Princess St\, Saint John\, NB\, E2L 1K4\, Canada
CATEGORIES:Theatre
ORGANIZER;CN="Saint John Theatre Company":MAILTO:lise.driscoll@saintjohntheatrecompany.com
END:VEVENT
BEGIN:VEVENT
DTSTART;TZID=America/Halifax:20240406T200000
DTEND;TZID=America/Halifax:20240406T220000
DTSTAMP:20260422T234856
CREATED:20240306T140053Z
LAST-MODIFIED:20240306T140053Z
UID:10006535-1712433600-1712440800@uptownsj.com
SUMMARY:Sean Collins LIVE at Punch Lines
DESCRIPTION:This show will sell out!\nSean Collins originally from Canada joining us from the UK for his ‘Smokin’ Funny’ tour. Featuring ‘Canada’s got talent’ Cathy Boyd\, Jeff Pinnell (Fri) and Liam McNamara (Sat) PLUS….Haligonian Chris Halef hosting!\n📅April 5th-6th\n⏰️8pm doors at 7pm\nPurchase tickets online here https://www.eventbrite.ca/o/punch-lines-comedy-club-73322710133\nOr Text 506-647-8338 and pay by etransfer.
URL:https://uptownsj.com/event/sean-collins-live-at-punch-lines/2024-04-06/
LOCATION:Punch Lines Comedy Club
CATEGORIES:Comedy
END:VEVENT
END:VCALENDAR