BEGIN:VCALENDAR
VERSION:2.0
PRODID:-//Uptown Saint John - ECPv6.15.20//NONSGML v1.0//EN
CALSCALE:GREGORIAN
METHOD:PUBLISH
X-WR-CALNAME:Uptown Saint John
X-ORIGINAL-URL:https://uptownsj.com
X-WR-CALDESC:Events for Uptown Saint John
REFRESH-INTERVAL;VALUE=DURATION:PT1H
X-Robots-Tag:noindex
X-PUBLISHED-TTL:PT1H
BEGIN:VTIMEZONE
TZID:America/Halifax
BEGIN:DAYLIGHT
TZOFFSETFROM:-0400
TZOFFSETTO:-0300
TZNAME:ADT
DTSTART:20230312T060000
END:DAYLIGHT
BEGIN:STANDARD
TZOFFSETFROM:-0300
TZOFFSETTO:-0400
TZNAME:AST
DTSTART:20231105T050000
END:STANDARD
BEGIN:DAYLIGHT
TZOFFSETFROM:-0400
TZOFFSETTO:-0300
TZNAME:ADT
DTSTART:20240310T060000
END:DAYLIGHT
BEGIN:STANDARD
TZOFFSETFROM:-0300
TZOFFSETTO:-0400
TZNAME:AST
DTSTART:20241103T050000
END:STANDARD
BEGIN:DAYLIGHT
TZOFFSETFROM:-0400
TZOFFSETTO:-0300
TZNAME:ADT
DTSTART:20250309T060000
END:DAYLIGHT
BEGIN:STANDARD
TZOFFSETFROM:-0300
TZOFFSETTO:-0400
TZNAME:AST
DTSTART:20251102T050000
END:STANDARD
END:VTIMEZONE
BEGIN:VEVENT
DTSTART;TZID=America/Halifax:20240312T180000
DTEND;TZID=America/Halifax:20240312T210000
DTSTAMP:20260422T184712
CREATED:20240306T140255Z
LAST-MODIFIED:20240306T140255Z
UID:10006530-1710266400-1710277200@uptownsj.com
SUMMARY:Business Essentials Workshop: Safeguarding Against Online Threats
DESCRIPTION:Lead by Chris Boudreau – Chief Strategy Officer at Ispire \nIn today’s digital landscape\, where businesses thrive on digital platforms\, protecting your business online is a non-negotiable priority. This workshop is your personalized guide to understanding and implementing practical digital security strategies\, enabling you to shield your business from modern-day threats while maintaining your competitive edge.
URL:https://uptownsj.com/event/business-essentials-workshop-safeguarding-against-online-threats/
LOCATION:ConnexionWorks\, 1 Germain St - Suite 300 (ConnexionWorks)\, Saint John\, New Brunswick\, Canada
CATEGORIES:Workshop
ORGANIZER;CN="ConnexionWorks":MAILTO:info@connexionworks.ca
END:VEVENT
BEGIN:VEVENT
DTSTART;TZID=America/Halifax:20240314T100000
DTEND;TZID=America/Halifax:20240314T190000
DTSTAMP:20260422T184712
CREATED:20240312T122547Z
LAST-MODIFIED:20240312T122547Z
UID:10006545-1710410400-1710442800@uptownsj.com
SUMMARY:GET LUCKY UPTOWN
DESCRIPTION:We’re hosting a massive “Scratch & Save” event this Thursday March 14th and you’re invited!\nGET LUCKY UPTOWN is the perfect opportunity to come out and support all of your favorite Uptown businesses. Even better? You’ll be saving while you’re supporting!\nAll 36 businesses taking part have scratch cards on hand where you’ll be able to scratch and save UP TO 40% OFF your purchase! Don’t forget to pick up a passport on your route. Visit 5 participating businesses\, get a stamp and then ENTER TO WIN an incredible prize package valued at over $1600!\nEven better? Almost all businesses taking part will be OPEN EXTENDED HOURS on March 14th to ensure maximum participation! \nHave a look below at all the fine print and further details from all participating vendors:\nDate: March 14th\nTime: 10am – 7pm (see further details below)\nLocation: All Around Uptown \nBusinesses:\nPaddington Station\n36 Canterbury Street\nHours: 10am – 7pm\nPromotion: Scratch & Save up to 40% off \nIn Pursuit\n20 King Street\nHours: 10am – 7pm\nPromotion: Scratch & Save up to 40% off \nTuck Studio\n115 Prince William Street\nHours: 10am – 7pm\nPromotion: Scratch & Save up to 40% off \nThe Urban Shoe Myth\n78 King Street\nHours: 10am – 7pm\nPromotion: Scratch & Save Free Gift w/ Purchase \nThe Feel Good Store\n89 Germain Street\nHours: 10am – 7pm\nPromotion: Scratch & Save up to 40% off or a bath bomb! \nHats on the Square\n82 Germain Street\nHours: 11am – 7pm\nPromotion: Scratch & Save up to 40% off \nHeartbreak Boutique\n94 Germain Street\nHours: 10am – 7pm\nPromotion: Scratch & Save up to 40% off \nObscurity Shop\n88 Germain Street\nHours: 10am – 7pm\nPromotion: Scratch & Save up to 30% off \nHeroes’ Beacon\n25 Charlotte Street\nHours: 10am – 10pm\nPromotion: Scratch & Save up to 40% off \nTogether Designs\n175 Prince William Street\nHours: 10am – 7pm\nPromotion: Scratch & Save up to 40% off \nPicaroons\n32 Canterbury Street\nHours: 11am – 11pm\nPromotion: Scratch & Save up to 40% off (exclusion: canned beverages in fridge) \nJuniper\n80 Prince William Street\nHours: 11am – 7pm\nPromotion: Scratch & Save up to 25% off \nGlass Roots\n89 Canterbury Street\nHours: 10am – 7pm\nPromotion: Scratch & Save up to 40% off \nThe Nest Yoga\n22 King Street\nHours: 10am – 7pm\nPromotion: Spin the Wheel & Win! \nRefresh Wellness Studio\n91 Princess Street\nHours: 9am – 8pm\nPromotion: Scratch & Save up to 40% off retail product \nJava Moose\n84 Prince William Street\nHours: 7am – 4pm\nPromotion: Scratch & Save up to 40% off \nKeirstead’s Flower Shop\n143 Charlotte Street\nHours: 9am – 6pm\nPromotion: Scratch & Save up to 30% off \nTommy’s Superette\n120 Germain Street\nHours: 10am – 7pm\nPromotion: Scratch & Save up to 40% off \nHandworks Gallery\n12 King Street\nHours: 10am – 7pm\nPromotion: FREE PRINT with $50 Purchase ($75 Value) + enter a draw for original artwork (with purchase) \nBig Tide Brewing\n47 Princess Street\nHours: 11:30am – 10pm\nPromotion: Scratch & Save up to 40% off on any in house purchase (exclusions: take away cans) \nThe Art Warehouse:\n120 Prince William Street\nHours: 8:30am – 4:30pm\nPromotion: Scratch & Save up to 40% off \nWild Flours Sweets & Treats\n91 Prince William Street\nHours: 10am – 3pm\nPromotion: Scratch & Save up to 40% off \nScheherazade Books & Music\n97 Prince William Street\nHours: 10am – 7pm\nPromotion: Scratch & Save up to 40% off \nCastlecarry\n116 Germain Street\nHours:10am – 9pm\nPromotion: Scratch & Save up to 40% off PLUS in store promotions \nSophie’s Closet\n162 Princess Street\nHours: 10am – 5pm\nPromotion: Scratch & Save up to 40% off \nAlex & Lily’s Shoe Shoppe\n60 Charlotte Street (Admiral Beatty Building)\nHours: 10am – 7pm\nPromotion: FREE Mizuno Thermo Mid Socks with any purchase $100+ \nCobalt Art Gallery\n111 Prince William Street\nHours: 10am – 4pm\nPromotion: No Tax on all Purchases \nPomodori Pizzeria\n34 Canterbury Street\nHours 11am – 9pm\nPromotion: Scratch & Save up to 40% off \nDecor8\nBrunswick Square\nHours: 10am – 6pm\nPromotion: Scratch & Save up to 40% off \nCricket Cove\nBrunswick Square\nHours: 10am – 6pmPromotion: Scratch & Save up to 40% off \nElement5 Spa\nMarket Square\nHours: 9am – 9pm\nPromotion: Scratch & Save up to 40% off retail products \nWalsh Luggage\nMarket Square\nHours: 10am – 7pm\nPromotion: Scratch & Save up to $40 off \nUncorked Tours\nThe City Market\nHours: 11am – 8pm\nPromotion: Scratch & Save up to 25% off \nBlue Pelican\nThe City Market\nHours: 10am – 6pm\nPromotion: Scratch & Save up to 40% \nJeremiah’s Deli\nThe City Market\nHours: 10am – 6pm\nPromotion: Scratch & Win FREE ITEM with purchase or save up to 15% off \nThe Butcher’s Daughter Gift Shoppe\nThe City Market\nHours: 10am – 5:30pm\nPromotion: Save 10% off your purchase
URL:https://uptownsj.com/event/get-lucky-uptown/
LOCATION:NB
END:VEVENT
BEGIN:VEVENT
DTSTART;TZID=America/Halifax:20240314T190000
DTEND;TZID=America/Halifax:20240314T220000
DTSTAMP:20260422T184712
CREATED:20230915T170706Z
LAST-MODIFIED:20230915T170706Z
UID:10005634-1710442800-1710453600@uptownsj.com
SUMMARY:Sea Dogs VS. Acadie-Bathurst Titan
DESCRIPTION:🏒 Come watch the intense match-up between the Sea Dogs and the Acadie-Bathurst Titan! Expect nothing less than a fierce battle of skill and strategy as the Saint John Sea Dogs faces off against their formidable opponents. The rink will come alive with the clashing of sticks\, the echo of skates\, and the resounding cheers from enthusiastic fans! \n🎉Come enjoy family-friendly entertainment that is not just about the game; it’s a celebration of the community’s love for hockey. Bring your friends and family to enjoy an unforgettable evening of sportsmanship\, camaraderie\, and pure entertainment. From the pre-game festivities to the thrilling action on the ice\, every moment promises to be unforgettable. \n🎁 Fan Engagements & Giveaways:\nAs a token of appreciation for your unwavering support\, the Saint John Sea Dogs have prepared exciting fan engagement activities and fantastic giveaways throughout the game. Cheer on the Sea Dogs with your posters\, flags\, and team colours to stand a chance to win exclusive merchandise and other surprises! \n🚨 Get Your Tickets Now:\nDon’t miss the chance to be part of this heart-stopping hockey event! Grab your tickets early to secure the best seats in the house and avoid disappointment. Whether you’re a die-hard hockey enthusiast or a casual sports fan\, this game guarantees an experience you won’t want to miss. Tickets can be purchased online at www.tdstation.com\, or in person at the TD Station Box Office. \nMark your calendars\, set your alarms\, and join us for a memorable evening of hockey excellence as the Saint John Sea Dogs aim to conquer the ice and make their fans proud. See you there! 🏒🥅
URL:https://uptownsj.com/event/sea-dogs-vs-acadie-bathurst-titan-5/
LOCATION:TD Station\, 99 Station St\, Saint John\, New Brunswick\, E2L 4X4\, Canada
ORGANIZER;CN="Saint John Sea Dogs":MAILTO:info@sjseadogs.com
END:VEVENT
BEGIN:VEVENT
DTSTART;TZID=America/Halifax:20240315T193000
DTEND;TZID=America/Halifax:20240315T210000
DTSTAMP:20260422T184712
CREATED:20240131T195300Z
LAST-MODIFIED:20240131T195300Z
UID:10006137-1710531000-1710536400@uptownsj.com
SUMMARY:Nigel Harrison - Unreal
DESCRIPTION:For over 25 years\, illusionist Nigel Harrison has captivated audiences with his interactive and intimate approach to magic. As a creator and innovator of illusions\, he is celebrated worldwide\, and considered one of Canada’s top performers. \nBut Nigel is more than just a magician. He’s an entertainer who uses his illusions to create an unforgettable theatrical experience. Nigel breaks down the barrier between the performer and audience\, and transforms his illusions into a personal experience. This allows the audience to become a part of the show\, creating memories that will last a lifetime.
URL:https://uptownsj.com/event/nigel-harrison-unreal/
LOCATION:Imperial Theatre\, 12 King Square S.\, Saint John
CATEGORIES:Comedy,Theatre
END:VEVENT
BEGIN:VEVENT
DTSTART;TZID=America/Halifax:20240315T200000
DTEND;TZID=America/Halifax:20240315T220000
DTSTAMP:20260422T184712
CREATED:20240306T140158Z
LAST-MODIFIED:20240306T140158Z
UID:10006531-1710532800-1710540000@uptownsj.com
SUMMARY:Matt Wright LIVE at Punch Lines Comedy Club!
DESCRIPTION:Tickets on Sale now\n📅 March 15th-16th\n⏰️ 8pm doors at 7pm\n💸 $30/$35 (taxes incl.)\nPurchase online here——>\nhttps://www.eventbrite.ca/o/punch-lines-comedy-club-73322710133\nOr Text 506-647-8338 and pay by etransfer. \nMatt Wright is a two time JUNO Award losing Canadian stand-up comedian\, writer\, and actor who has appeared on televised galas for Just For Laughs\, CBC\, and CTV. He played The Weatherman on Season 2 of Son of a Critch. He opened for Jerry Seinfeld at the 2023 Great Outdoors Comedy Festival.\nMatt has written for six seasons of This Hour Has 22 Minutes where he was nominated for a Canadian Screen Award\, as well as two episodes of Still Standing. As a filmmaker\, his short “Snowstorm Roulette” was nominated for Best International Short at the Austin Comedy Festival.
URL:https://uptownsj.com/event/matt-wright-live-at-punch-lines-comedy-club/2024-03-15/
LOCATION:Punch Lines Comedy Club
CATEGORIES:Comedy
END:VEVENT
BEGIN:VEVENT
DTSTART;TZID=America/Halifax:20240316T080000
DTEND;TZID=America/Halifax:20240316T160000
DTSTAMP:20260422T184712
CREATED:20240102T133910Z
LAST-MODIFIED:20240102T133910Z
UID:10005742-1710576000-1710604800@uptownsj.com
SUMMARY:Empowering Women in Business 2024
DESCRIPTION:Join us for two days packed with empowerment and enlightenment tailored for women in business! \nThese extraordinary conferences\, usually priced between $500 to $1200 (CAD) in major cities like Toronto\, Montreal\, Vancouver\, and Halifax\, are now making their mark in Saint John\, NB\, thanks to our sponsors’ support in establishing it as a hub for women in business by 2024. \n🎁 It’s Christmas! Secure your seat at EWB2024 for only $150 during this early bird season! (Valid until December 31\, 2023) After that\, individual tickets will cost $175 CAD \nCorporate Packages and Diverse Community Packages (each for ten women) are available at a reduced price (see below). If you are an organization looking to sponsor your employees or your community\, take advantage of the special pricing and save! \n🎤 Inspiring speakers & cutting-edge insights await you! \n📈 10X your targets\, execution\, and success! \n👩‍💼 Learn how to be the protagonist of your success story in 2024! \nHere’s what’s in store at EWB2024: \n🌟 Incredible Speakers: Keynote speakers in the top 100 most powerful women in Canada coming from Toronto and the Atlantic Canada. \n🤝 Networking Opportunities: Connect\, collaborate\, and grow your circle! \n💡 Attend the 2024 Women L.E.A.D. Awards Ceremony! celebrates exceptional accomplishments within the realm of Female Entrepreneurs\, Female Business Owners\, and Corporate Women Leaders in Saint John. \n📚 Topics: Overcoming Economic Recession 2024\, Building Your Symphony in Marketing and Branding\, Creating a Great Workplace Environment\, Pioneering Digital Transformation and AI in Business\, Key Strategies for Entrepreneurs in the Saint John Region\, Building High-Performance Teams\, Financial Literacy in Business\, Women Driving Diversity and Inclusion in the Workplace\, Female Leaders Defining Arts and Culture Business\, Strategies for Female Excellence in Sales\, Women’s Contribution to Sustainability and CSR and Balancing Work and Life! \nThis comprehensive agenda focuses on professional growth\, skill development\, networking\, and empowerment for women in business at EWB2024. \nDon’t miss this pivotal event designed for Female Entrepreneurs\, Business Owners\, and Corporate Women Leaders. Reserve your seat now and empower your business in 2024! 🚀 \nLimited spots are available — act fast before they’re gone! 🎟️✨ \nThis conference is your gateway to new opportunities\, empowering connections\, and expert insights to elevate your business journey. Join us and make your mark in the vibrant landscape of women in business! ✨ \nTake advantage of this opportunity to: \nSecure your spot with an incredible offer tailor-made for women in business. \nSurprise yourself or a fellow entrepreneur with an empowering experience. \nPrepare for a successful 2024 by tackling challenges head-on. \nReserve your seat today! \n🎟️✨This is your ticket to a powerful start in 2024. Act fast! Limited spots available\, and priority access is yours. \nEmpower yourself and your business—grab your seat now! \nIf you represent a Company find our: \n🎟️✨Corporate Packages: \nSaint John Companies\, unlock better pricing! Secure up to 10 tickets now! \n🎟️✨Diverse Community Packages: Support the Community\, and provide Free Access to Women in Saint John. Purchase up to 10 tickets now!
URL:https://uptownsj.com/event/empowering-women-in-business-2024/2024-03-16/
LOCATION:Market Square Atrium\, 1 Market Square\, Saint John\, New Brunswick\, Canada
CATEGORIES:Networking,Workshop
END:VEVENT
BEGIN:VEVENT
DTSTART;TZID=America/Halifax:20240316T100000
DTEND;TZID=America/Halifax:20240316T170000
DTSTAMP:20260422T184712
CREATED:20240312T122630Z
LAST-MODIFIED:20240312T122630Z
UID:10006546-1710583200-1710608400@uptownsj.com
SUMMARY:THE URBAN SHOE MYTH CELEBRATES 13 YEARS
DESCRIPTION:This is how we roll 🎲 we’re celebrating 13 years THIS SATURDAY & you are all invited 🎰\n♠️ 13% off your entire purchase of $100 or more\n♥️ take a gamble and roll the dice for a different discount\n♣️ complimentary treats will be available\n♦️ check out our all new spring/summer collection
URL:https://uptownsj.com/event/the-urban-shoe-myth-celebrates-13-years/
LOCATION:The Urban Shoe Myth\, 78b Kiing St\, Saint John\, New Brunswick\, E2L 1G5\, Canada
END:VEVENT
BEGIN:VEVENT
DTSTART;TZID=America/Halifax:20240316T193000
DTEND;TZID=America/Halifax:20240316T220000
DTSTAMP:20260422T184712
CREATED:20240306T140347Z
LAST-MODIFIED:20240306T140347Z
UID:10006529-1710617400-1710626400@uptownsj.com
SUMMARY:No Jokes Barred
DESCRIPTION:🎤 No Jokes Barred: Uncensored Comedy Showcase! 🎤 \nGet ready for a night of uproarious laughter at “No Jokes Barred” – Saint John’s longest-running censorship-free comedy showcase! 🍀 \n📅 Date: March 16\, 2024\n🕖 Time: Doors 7:30 / Show 8-10pm\n📍 Venue: Water street Dinner Theatre \nNew and experienced New Brunswick comedians take the stage for an unforgettable evening of raw\, unfiltered humor. Kick off your St. Patrick’s Day weekend celebrations with us and enjoy a few drinks as you laugh the night away! \nThis is a “pay what you can” show\, so come as you are and contribute what you’re able to support our talented comedians. \nDon’t miss out on the comedy event of the season! Join us at Waterstreet Dinner Theatre for “No Jokes Barred” – where anything goes\, and laughter is always on the menu. \n#NoJokesBarred #UncensoredComedy #StandUpComedy #SaintJohnComedy #WaterstreetDinnerTheatre #StPatricksDay #ComedyShowcase #PayWhatYouCan #NewBrunswickComedians
URL:https://uptownsj.com/event/no-jokes-barred/
LOCATION:Steamers Lobster Company\, 110 Water Street\, Saint John\, New Brunswick\, E2l 5g1\, Canada
CATEGORIES:Comedy
ORGANIZER;CN="Jon Forward Comedy":MAILTO:jonforward@gmail.com
END:VEVENT
BEGIN:VEVENT
DTSTART;TZID=America/Halifax:20240316T200000
DTEND;TZID=America/Halifax:20240316T220000
DTSTAMP:20260422T184712
CREATED:20240306T140158Z
LAST-MODIFIED:20240306T140158Z
UID:10006532-1710619200-1710626400@uptownsj.com
SUMMARY:Matt Wright LIVE at Punch Lines Comedy Club!
DESCRIPTION:Tickets on Sale now\n📅 March 15th-16th\n⏰️ 8pm doors at 7pm\n💸 $30/$35 (taxes incl.)\nPurchase online here——>\nhttps://www.eventbrite.ca/o/punch-lines-comedy-club-73322710133\nOr Text 506-647-8338 and pay by etransfer. \nMatt Wright is a two time JUNO Award losing Canadian stand-up comedian\, writer\, and actor who has appeared on televised galas for Just For Laughs\, CBC\, and CTV. He played The Weatherman on Season 2 of Son of a Critch. He opened for Jerry Seinfeld at the 2023 Great Outdoors Comedy Festival.\nMatt has written for six seasons of This Hour Has 22 Minutes where he was nominated for a Canadian Screen Award\, as well as two episodes of Still Standing. As a filmmaker\, his short “Snowstorm Roulette” was nominated for Best International Short at the Austin Comedy Festival.
URL:https://uptownsj.com/event/matt-wright-live-at-punch-lines-comedy-club/2024-03-16/
LOCATION:Punch Lines Comedy Club
CATEGORIES:Comedy
END:VEVENT
BEGIN:VEVENT
DTSTART;TZID=America/Halifax:20240317T090000
DTEND;TZID=America/Halifax:20240317T120000
DTSTAMP:20260422T184712
CREATED:20240202T172757Z
LAST-MODIFIED:20240202T172757Z
UID:10006140-1710666000-1710676800@uptownsj.com
SUMMARY:Pete's Pub 31st Annual Shamrock Shuffle
DESCRIPTION:Fun run/ walk on Harbour passage.Sponsored by Alex and Lily’s Shoes and Picaroons.$20 registration fee includes chili back at Picaroons\, all proceeds to Red Head Strays stray cat rescue.This year the event is being held on March 17th\,meeting at Picaroons at 9a.m.\,event begins at 10a.m.Dogs are welcome\,open to everyone of all abilities.Registration at Alex and Lily’s or on run day.Start your day in one of Canada’s most Irish cities and support a great cause.
URL:https://uptownsj.com/event/petes-pub-31st-annual-shamrock-shuffle/
LOCATION:picaroons\, 32 canterbury St.\, Saint John
CATEGORIES:Community
END:VEVENT
BEGIN:VEVENT
DTSTART;TZID=America/Halifax:20240317T150000
DTEND;TZID=America/Halifax:20240317T180000
DTSTAMP:20260422T184712
CREATED:20230915T170638Z
LAST-MODIFIED:20230915T170638Z
UID:10005635-1710687600-1710698400@uptownsj.com
SUMMARY:Sea Dogs VS. Charlottetown Islanders
DESCRIPTION:🏒 Come watch the intense match-up between the Sea Dogs and the Charlottetown Islanders! Expect nothing less than a fierce battle of skill and strategy as the Saint John Sea Dogs faces off against their formidable opponents. The rink will come alive with the clashing of sticks\, the echo of skates\, and the resounding cheers from enthusiastic fans! \n🎉Come enjoy family-friendly entertainment that is not just about the game; it’s a celebration of the community’s love for hockey. Bring your friends and family to enjoy an unforgettable evening of sportsmanship\, camaraderie\, and pure entertainment. From the pre-game festivities to the thrilling action on the ice\, every moment promises to be unforgettable. \n🎁 Fan Engagements & Giveaways:\nAs a token of appreciation for your unwavering support\, the Saint John Sea Dogs have prepared exciting fan engagement activities and fantastic giveaways throughout the game. Cheer on the Sea Dogs with your posters\, flags\, and team colours to stand a chance to win exclusive merchandise and other surprises! \n🚨 Get Your Tickets Now:\nDon’t miss the chance to be part of this heart-stopping hockey event! Grab your tickets early to secure the best seats in the house and avoid disappointment. Whether you’re a die-hard hockey enthusiast or a casual sports fan\, this game guarantees an experience you won’t want to miss. Tickets can be purchased online at www.tdstation.com\, or in person at the TD Station Box Office. \nMark your calendars\, set your alarms\, and join us for a memorable evening of hockey excellence as the Saint John Sea Dogs aim to conquer the ice and make their fans proud. See you there! 🏒🥅
URL:https://uptownsj.com/event/sea-dogs-vs-charlottetown-islanders-6/
LOCATION:TD Station\, 99 Station St\, Saint John\, New Brunswick\, E2L 4X4\, Canada
ORGANIZER;CN="Saint John Sea Dogs":MAILTO:info@sjseadogs.com
END:VEVENT
BEGIN:VEVENT
DTSTART;TZID=America/Halifax:20240317T190000
DTEND;TZID=America/Halifax:20240317T210000
DTSTAMP:20260422T184712
CREATED:20240312T142238Z
LAST-MODIFIED:20240312T142238Z
UID:10006549-1710702000-1710709200@uptownsj.com
SUMMARY:Comedy@Crave in Support of Bobby's Hospice
DESCRIPTION:Want to help charity on St.Patricks Day and laugh till it hurts? For $5.00 a ticket you can see a great line up of comedians and a portion of the proceeds will go to Bobbys. Katelin Dean \, Jason Gary \, Matt Keenan and headliner Nathan Dimitroff. That is alot of funny. Show starts at 7pm so you’ll be home in time for a Good sleep before work on Monday and you can go to bed knowing you helped Bobby’s Hospice.We will see you Sunday
URL:https://uptownsj.com/event/comedycrave-in-support-of-bobbys-hospice/
LOCATION:Crave Lounge\, 32 Grannan St.\, Saint John\, New Brunswick\, Canada
CATEGORIES:Fundraiser
ORGANIZER;CN="new brunswick 7 Productions":MAILTO:civesstandup@gmail.com
END:VEVENT
END:VCALENDAR