BEGIN:VCALENDAR
VERSION:2.0
PRODID:-//Uptown Saint John - ECPv6.15.20//NONSGML v1.0//EN
CALSCALE:GREGORIAN
METHOD:PUBLISH
X-ORIGINAL-URL:https://uptownsj.com
X-WR-CALDESC:Events for Uptown Saint John
REFRESH-INTERVAL;VALUE=DURATION:PT1H
X-Robots-Tag:noindex
X-PUBLISHED-TTL:PT1H
BEGIN:VTIMEZONE
TZID:America/Halifax
BEGIN:DAYLIGHT
TZOFFSETFROM:-0400
TZOFFSETTO:-0300
TZNAME:ADT
DTSTART:20230312T060000
END:DAYLIGHT
BEGIN:STANDARD
TZOFFSETFROM:-0300
TZOFFSETTO:-0400
TZNAME:AST
DTSTART:20231105T050000
END:STANDARD
BEGIN:DAYLIGHT
TZOFFSETFROM:-0400
TZOFFSETTO:-0300
TZNAME:ADT
DTSTART:20240310T060000
END:DAYLIGHT
BEGIN:STANDARD
TZOFFSETFROM:-0300
TZOFFSETTO:-0400
TZNAME:AST
DTSTART:20241103T050000
END:STANDARD
BEGIN:DAYLIGHT
TZOFFSETFROM:-0400
TZOFFSETTO:-0300
TZNAME:ADT
DTSTART:20250309T060000
END:DAYLIGHT
BEGIN:STANDARD
TZOFFSETFROM:-0300
TZOFFSETTO:-0400
TZNAME:AST
DTSTART:20251102T050000
END:STANDARD
END:VTIMEZONE
BEGIN:VEVENT
DTSTART;TZID=America/Halifax:20240130T190000
DTEND;TZID=America/Halifax:20240130T190000
DTSTAMP:20260420T191311
CREATED:20230628T164839Z
LAST-MODIFIED:20230628T164839Z
UID:10005426-1706641200-1706641200@uptownsj.com
SUMMARY:TIFF Film Circuit: TBA January 2024
DESCRIPTION:Film yet to be announced
URL:https://uptownsj.com/event/tiff-film-circuit-tba-january-2024/
LOCATION:Imperial Theatre\, 12 King Square S.\, Saint John
CATEGORIES:Community,Theatre
END:VEVENT
BEGIN:VEVENT
DTSTART;TZID=America/Halifax:20240202T193000
DTEND;TZID=America/Halifax:20240202T193000
DTSTAMP:20260420T191311
CREATED:20230628T164813Z
LAST-MODIFIED:20230628T164813Z
UID:10005427-1706902200-1706902200@uptownsj.com
SUMMARY:The Pack Drumline
DESCRIPTION:The Pack Drumline is a dynamic and talented group of percussionists and dancers who have become a force to be reckoned with in the Entertainment Industry. Hailing from Chicago IL\, The Pack Drumline has been wowing audiences with their high-energy performances for years! \nThe group was founded by Perry Donta’e\, who has always held a passion for percussion and dance. It started as an after school program and slowly grew into a full performance group. From playing together in local parades and town events they built a reputation for their skill and showmanship. \nOver time\, The Pack grew in size and scope\, attracting new members and expanding their repertoire. They began to incorporate dance and visual stunts into their performances\, creating a truly unique and unforgettable experience for their audiences. \nToday\, The Pack Drumline is known for their High Energetic performances and Fun Crowd Engagement. Their performances are a feast for the senses\, combining music\, dance\, and jaw-dropping stunts to create a truly immersive experience. They’ve been referred to as a “Master Class” of Entertainment. \nAll the performers you see on stage hold one thing in common\, they are passionate about sharing their love of drumming and performance with audiences of all ages and they aim to inspire others to follow in their footsteps and pursue their own creative passions. \nWhether performing for a crowd of thousands or just a few onlookers\, The Pack Drumline brings the same level of energy\, passion\, and skill to every show. They are a group that must be seen and heard to be believed.
URL:https://uptownsj.com/event/the-pack-drumline/
LOCATION:Imperial Theatre\, 12 King Square S.\, Saint John
CATEGORIES:Community,Theatre
END:VEVENT
BEGIN:VEVENT
DTSTART;TZID=America/Halifax:20240202T193000
DTEND;TZID=America/Halifax:20240202T220000
DTSTAMP:20260420T191311
CREATED:20240122T164943Z
LAST-MODIFIED:20240122T164943Z
UID:10005756-1706902200-1706911200@uptownsj.com
SUMMARY:ART BATTLE
DESCRIPTION:Art Battle at Kent Theatre Friday\, February 2nd\nDoors @ 7:30pm / Painting @ 8:30pm \nBe a part of the electrifying energy as skilled artists engage in a high-speed showdown\, flinging paint with every stroke.\nCome watch as artists transform blank canvases into beautiful pieces of art in 2 regular rounds of 20 minutes\, and the big final round of 30 minutes! Then help vote to determine the winner of the event!\nAll artwork will also be available for silent auction. \nKent Theatre – 24 Coburg St\, Saint John\, NB\nEvent link: https://artbattle.com/events/ab2695-saint-john/ \nGeneral Admission: Advance Tickets $24.15\nSales end on Feb 1\, 2024\nStudents (with ID): Advance Tickets $18.12\nSales end on Feb 1\, 2024 \nGeneral Admission: Day Of Event $30.20\nStudents (with ID): Day Of Event $24.15
URL:https://uptownsj.com/event/art-battle/
LOCATION:Kent Theatre\, 24 Coburg Street\, Saint John\, New Brunswick\, Canada
CATEGORIES:Art,Community
END:VEVENT
BEGIN:VEVENT
DTSTART;TZID=America/Halifax:20240203T133000
DTEND;TZID=America/Halifax:20240203T153000
DTSTAMP:20260420T191311
CREATED:20240205T132251Z
LAST-MODIFIED:20240205T132251Z
UID:10006143-1706967000-1706974200@uptownsj.com
SUMMARY:PRUDE Inc.'s Youth Empowerment Workshop
DESCRIPTION:This Saturday\, February 3rd\, participants of PRUDE Inc.’s Young Ambassadors Leadership Initiative (YALI) will kick off the Black Heritage Month celebration with a Youth Empowerment workshop. \nRegister for more information about Black Heritage Month events\, please visit our event page at: https://shorturl.at/pwH79 \nThe workshop which features youth panelists and two community leaders – Chisom Ezeh & Mouhamed Idris Gueye as guest speakers aims to inspire young adults to connect with their roots\, embrace their heritage\, and strive for excellence in their academic and career pursuits. \nThis event will be held at the Saint John Arts Centre located at 20 Peel Plaza\, Saint John.
URL:https://uptownsj.com/event/prude-inc-s-youth-empowerment-workshop/
LOCATION:Saint John Arts Centre
CATEGORIES:Community
ORGANIZER;CN="PRUDE Inc.":MAILTO:info@prudeinc.org
END:VEVENT
BEGIN:VEVENT
DTSTART;TZID=America/Halifax:20240204T190000
DTEND;TZID=America/Halifax:20240204T210000
DTSTAMP:20260420T191311
CREATED:20240124T143832Z
LAST-MODIFIED:20240124T143832Z
UID:10006129-1707073200-1707080400@uptownsj.com
SUMMARY:Comedy@Crave
DESCRIPTION:An amazing line up of comedians come together in support of Bobby’s Hospice. For only $5.00 in advance you not only see some of the best comedians in the province but you help one of the best charities in the province. A portion of each ticket sold will go to Bobby Hospice. February 4th 7-9pm at Crave Lounge
URL:https://uptownsj.com/event/comedycrave/
LOCATION:Crave Lounge\, 32 Grannan St.\, Saint John\, New Brunswick\, Canada
END:VEVENT
END:VCALENDAR