BEGIN:VCALENDAR
VERSION:2.0
PRODID:-//Uptown Saint John - ECPv6.15.20//NONSGML v1.0//EN
CALSCALE:GREGORIAN
METHOD:PUBLISH
X-WR-CALNAME:Uptown Saint John
X-ORIGINAL-URL:https://uptownsj.com
X-WR-CALDESC:Events for Uptown Saint John
REFRESH-INTERVAL;VALUE=DURATION:PT1H
X-Robots-Tag:noindex
X-PUBLISHED-TTL:PT1H
BEGIN:VTIMEZONE
TZID:America/Halifax
BEGIN:DAYLIGHT
TZOFFSETFROM:-0400
TZOFFSETTO:-0300
TZNAME:ADT
DTSTART:20220313T060000
END:DAYLIGHT
BEGIN:STANDARD
TZOFFSETFROM:-0300
TZOFFSETTO:-0400
TZNAME:AST
DTSTART:20221106T050000
END:STANDARD
BEGIN:DAYLIGHT
TZOFFSETFROM:-0400
TZOFFSETTO:-0300
TZNAME:ADT
DTSTART:20230312T060000
END:DAYLIGHT
BEGIN:STANDARD
TZOFFSETFROM:-0300
TZOFFSETTO:-0400
TZNAME:AST
DTSTART:20231105T050000
END:STANDARD
BEGIN:DAYLIGHT
TZOFFSETFROM:-0400
TZOFFSETTO:-0300
TZNAME:ADT
DTSTART:20240310T060000
END:DAYLIGHT
BEGIN:STANDARD
TZOFFSETFROM:-0300
TZOFFSETTO:-0400
TZNAME:AST
DTSTART:20241103T050000
END:STANDARD
END:VTIMEZONE
BEGIN:VEVENT
DTSTART;TZID=America/Halifax:20231212T190000
DTEND;TZID=America/Halifax:20231212T190000
DTSTAMP:20260422T022234
CREATED:20230628T165210Z
LAST-MODIFIED:20230628T165210Z
UID:10005420-1702407600-1702407600@uptownsj.com
SUMMARY:TIFF Film Circuit: No Bears (2022)
DESCRIPTION:Rating: none | 1 hour 46 mins | Persian\, Azerbaijani\, Turkish \nTwo parallel love stories in which the partners are thwarted by hidden\, inevitable obstacles\, the force of superstition\, and the mechanics of power.
URL:https://uptownsj.com/event/tiff-film-circuit-no-bears-2022/
LOCATION:Imperial Theatre\, 12 King Square S.\, Saint John
CATEGORIES:Community,Theatre
END:VEVENT
BEGIN:VEVENT
DTSTART;TZID=America/Halifax:20231214T183000
DTEND;TZID=America/Halifax:20231214T203000
DTSTAMP:20260422T022234
CREATED:20231129T135445Z
LAST-MODIFIED:20231129T135445Z
UID:10005720-1702578600-1702585800@uptownsj.com
SUMMARY:Adult Spelling Bee Soirée
DESCRIPTION:Join us for a night of grown-up fun and fierce (and friendly) competition at the Adult Spelling Bee Soirée. \nThis isn’t your average Spelling Bee! With themed rounds like – words that sound dirty but aren’t – plus the buzzline and more\, you and your team are sure to have a blast. \nYour registration to the event includes: \n2 drinks per player included*\nSnacks provided at your team station\nand…A WHOLE LOT OF FUN!\nYou won’t want to miss this unique event! \n*Drinks are select varieties of beer and spirits.\nSpace is limited to a total of 6 teams. A minimum of 2 teams are needed for event to take place. \nGet your tickets here:\nhttps://www.eventbrite.ca/e/adult-spelling-bee-soiree-registration-750183889207?aff=oddtdtcreator
URL:https://uptownsj.com/event/adult-spelling-bee-soiree/
LOCATION:Five and Dime\, Saint John\, New Brunswick\, Canada
END:VEVENT
BEGIN:VEVENT
DTSTART;TZID=America/Halifax:20231214T193000
DTEND;TZID=America/Halifax:20231214T213000
DTSTAMP:20260422T022234
CREATED:20230922T131458Z
LAST-MODIFIED:20230922T131458Z
UID:10005640-1702582200-1702589400@uptownsj.com
SUMMARY:Lisa Brokop’s Classic Country Christmas
DESCRIPTION:December 14\, 2023 | 7:30 PM | BMO Studio Theatre\, 112 Princess St. \nExperience the magic of the holiday season with acclaimed country artist Lisa Brokop! Get into the spirit of Christmas with timeless tunes such as “Oh Holy Night\,” “I’ll Be Home With Bells On\,” and Lisa’s own popular hit\, “Shake Me I Rattle.” Revel in the simple pleasures of the season and bask in the warm glow of holiday cheer with an unforgettable evening of song. \nTickets are $45. To order visit www.saintjohntheatrecompany.com or call 506-652-7582.
URL:https://uptownsj.com/event/lisa-brokops-classic-country-christmas/
LOCATION:The BMO Studio Theatre\, 112 Princess St\, 112 Princess St\, Saint John\, NB\, E2L 1K4\, Canada
CATEGORIES:Live Music
ATTACH;FMTTYPE=image/jpeg:https://uptownsj.com/wp-content/uploads/2023/09/LisaBrokopSocialPic.jpg
ORGANIZER;CN="Saint John Theatre Company":MAILTO:lise.driscoll@saintjohntheatrecompany.com
END:VEVENT
BEGIN:VEVENT
DTSTART;TZID=America/Halifax:20231216T100000
DTEND;TZID=America/Halifax:20231216T140000
DTSTAMP:20260422T022234
CREATED:20231208T141018Z
LAST-MODIFIED:20231208T141018Z
UID:10005732-1702720800-1702735200@uptownsj.com
SUMMARY:Holiday Tea at the Gallery
DESCRIPTION:Celebrate the season’s spirit with us at Mitote Art Gallery.. bring your friends or the whole family. \nFree event includes: tea & cider\, a self guided tour through the art studio\, a draw for door prizes\, special pricing on all original artwork in stock and more! \nEnjoy morning /afternoon tea surrounded by all original artwork featured in the Mitote Art Gallery exhibition space and artwork in progress in the studio. Holiday treats & each guest has a chance to win a door prize. Join us for tea at the gallery surrounded by art!!
URL:https://uptownsj.com/event/holiday-tea-at-the-gallery/
LOCATION:Mitote Art Gallery\, 1 Charlotte St\, Saint John\, New Brunswick\, E2L 2H3\, Canada
CATEGORIES:Art,Community,Free,Networking
END:VEVENT
BEGIN:VEVENT
DTSTART;TZID=America/Halifax:20231216T190000
DTEND;TZID=America/Halifax:20231216T233000
DTSTAMP:20260422T022234
CREATED:20231207T140348Z
LAST-MODIFIED:20231207T140348Z
UID:10005731-1702753200-1702769400@uptownsj.com
SUMMARY:Holi-slay Spectacular
DESCRIPTION:The House of Toodeep is coming ho ho home for the holidays! \nOn December 16 come celebrate the holidays in a non-denominational celebration of cold weather\, presents\, familial obligations\, and of course\, DRAG! \nHosted by Justin Toodeep with frosty performances from Dia Monde\, Moe Moustachrides\, and Penny Codiac! PLUS holiday games\, drinks\, and surprises! Stay after the drag for a dance party\, holiday attire is encouraged!
URL:https://uptownsj.com/event/holi-slay-spectacular/
LOCATION:Haven Music Hall\, 201 Union Street\, Saint John\, New Brunswick\, E2L 1A9\, Canada
CATEGORIES:Art,Comedy,Community,Theatre
ORGANIZER;CN="Haus of Toodeep":MAILTO:h2dproductions@justintoodeep.com
END:VEVENT
END:VCALENDAR