BEGIN:VCALENDAR
VERSION:2.0
PRODID:-//Uptown Saint John - ECPv6.15.20//NONSGML v1.0//EN
CALSCALE:GREGORIAN
METHOD:PUBLISH
X-WR-CALNAME:Uptown Saint John
X-ORIGINAL-URL:https://uptownsj.com
X-WR-CALDESC:Events for Uptown Saint John
REFRESH-INTERVAL;VALUE=DURATION:PT1H
X-Robots-Tag:noindex
X-PUBLISHED-TTL:PT1H
BEGIN:VTIMEZONE
TZID:America/Halifax
BEGIN:DAYLIGHT
TZOFFSETFROM:-0400
TZOFFSETTO:-0300
TZNAME:ADT
DTSTART:20220313T060000
END:DAYLIGHT
BEGIN:STANDARD
TZOFFSETFROM:-0300
TZOFFSETTO:-0400
TZNAME:AST
DTSTART:20221106T050000
END:STANDARD
BEGIN:DAYLIGHT
TZOFFSETFROM:-0400
TZOFFSETTO:-0300
TZNAME:ADT
DTSTART:20230312T060000
END:DAYLIGHT
BEGIN:STANDARD
TZOFFSETFROM:-0300
TZOFFSETTO:-0400
TZNAME:AST
DTSTART:20231105T050000
END:STANDARD
BEGIN:DAYLIGHT
TZOFFSETFROM:-0400
TZOFFSETTO:-0300
TZNAME:ADT
DTSTART:20240310T060000
END:DAYLIGHT
BEGIN:STANDARD
TZOFFSETFROM:-0300
TZOFFSETTO:-0400
TZNAME:AST
DTSTART:20241103T050000
END:STANDARD
END:VTIMEZONE
BEGIN:VEVENT
DTSTART;TZID=America/Halifax:20231113T140000
DTEND;TZID=America/Halifax:20231113T170000
DTSTAMP:20260424T094155
CREATED:20230829T153934Z
LAST-MODIFIED:20230829T153934Z
UID:10005580-1699884000-1699894800@uptownsj.com
SUMMARY:Sea Dogs VS. Cape Breton Eagles
DESCRIPTION:🏒 Come watch the intense match-up between the Sea Dogs and the Cape Breton Eagles! Expect nothing less than a fierce battle of skill and strategy as the Saint John Sea Dogs faces off against their formidable opponents. The rink will come alive with the clashing of sticks\, the echo of skates\, and the resounding cheers from enthusiastic fans! \n🎉Come enjoy family-friendly entertainment that is not just about the game; it’s a celebration of the community’s love for hockey. Bring your friends and family to enjoy an unforgettable evening of sportsmanship\, camaraderie\, and pure entertainment. From the pre-game festivities to the thrilling action on the ice\, every moment promises to be unforgettable. \n🎁 Fan Engagements & Giveaways:\nAs a token of appreciation for your unwavering support\, the Saint John Sea Dogs have prepared exciting fan engagement activities and fantastic giveaways throughout the game. Cheer on the Sea Dogs with your posters\, flags\, and team colours to stand a chance to win exclusive merchandise and other surprises! \n🚨 Get Your Tickets Now:\nDon’t miss the chance to be part of this heart-stopping hockey event! Grab your tickets early to secure the best seats in the house and avoid disappointment. Whether you’re a die-hard hockey enthusiast or a casual sports fan\, this game guarantees an experience you won’t want to miss. Tickets can be purchased online at www.tdstation.com\, or in person at the TD Station Box Office. \nMark your calendars\, set your alarms\, and join us for a memorable evening of hockey excellence as the Saint John Sea Dogs aim to conquer the ice and make their fans proud. See you there! 🏒🥅
URL:https://uptownsj.com/event/sea-dogs-vs-cape-breton-eagles-4/
LOCATION:TD Station\, 99 Station St\, Saint John\, New Brunswick\, E2L 4X4\, Canada
ORGANIZER;CN="Saint John Sea Dogs":MAILTO:info@sjseadogs.com
END:VEVENT
BEGIN:VEVENT
DTSTART;TZID=America/Halifax:20231114T190000
DTEND;TZID=America/Halifax:20231114T190000
DTSTAMP:20260424T094155
CREATED:20230628T160556Z
LAST-MODIFIED:20230628T160556Z
UID:10005414-1699988400-1699988400@uptownsj.com
SUMMARY:Retro Film: Clue (1985)
DESCRIPTION:Six guests are anonymously invited to a strange mansion for dinner\, but after their host is killed\, they must cooperate with the staff to identify the murderer as the bodies pile up.
URL:https://uptownsj.com/event/retro-film-clue-1985/
LOCATION:Imperial Theatre\, 12 King Square S.\, Saint John
CATEGORIES:Community,Theatre
END:VEVENT
BEGIN:VEVENT
DTSTART;TZID=America/Halifax:20231117T193000
DTEND;TZID=America/Halifax:20231117T193000
DTSTAMP:20260424T094155
CREATED:20230628T160450Z
LAST-MODIFIED:20230628T160450Z
UID:10005415-1700249400-1700249400@uptownsj.com
SUMMARY:Crash Test Dummies
DESCRIPTION:It’s been 30 years since the Crash Test Dummies recorded their debut album\, ”The Ghosts That Haunt Me”. Their first album garnered them their first big hit\, Superman’s Song\, and a Juno Award for Group of the Year. Over three decades later\, their sold out 25th Anniversary Tour for multi-Grammy nominated “God Shuffled His Feet” is proof that audiences still want to hear what they have to say. \n“We have been so excited with the response to the 25th anniversary tour that we knew we had to continue the party and celebrate 30 years since we made our first album. We had no idea that fans would be so enthusiastic and we are all a little gob-smacked that we can still play sold out shows to our fans and\, awesomely enough\, their kids\,” says original member Ellen Reid. \nTheir 2022 tour will see them tour North America and Europe\, where fans have been anxiously waiting. The shows will include hits and fan favourites from the band’s vast catalogue. Original members Brad Roberts\, Ellen Reid\, Dan Roberts\, and Mitch Dorge will be joined onstage by Stuart Cameron and Marc Arnould. \n“After a long absence from the road\, Crash Test Dummies have begun to tour again. Not something I’d planned on\, but surprisingly\, at least to me\, there are lots of people who\, years later\, still want to come and hear us. That people continue to return to see the band all these years later still stuns me. It’s very humbling. The folks that come out to these shows tell us their stories and there are many gems: many are very funny\, some are very dark\, and all are very personal. It’s very humbling\, being in the confidence of so many people\,” says lead singer/songwriter Brad Roberts.
URL:https://uptownsj.com/event/crash-test-dummies/
LOCATION:Imperial Theatre\, 12 King Square S.\, Saint John
CATEGORIES:Community,Theatre
END:VEVENT
BEGIN:VEVENT
DTSTART;TZID=America/Halifax:20231118T090000
DTEND;TZID=America/Halifax:20231118T150000
DTSTAMP:20260424T094155
CREATED:20231114T133746Z
LAST-MODIFIED:20231114T133746Z
UID:10005679-1700298000-1700319600@uptownsj.com
SUMMARY:Christmas In The City Craft & Bake Sale
DESCRIPTION:Join us for the Christmas in the City Craft & bake sale November 18th from 9am to 3pm in support of over 30 local vendors. $2 Admission. There will be 50/50 and a Gift Basket Raffle. There will also be a canteen.
URL:https://uptownsj.com/event/christmas-in-the-city-craft-bake-sale/
LOCATION:Kent Theatre\, 24 Coburg Street\, Saint John\, New Brunswick\, Canada
END:VEVENT
BEGIN:VEVENT
DTSTART;TZID=America/Halifax:20231118T110000
DTEND;TZID=America/Halifax:20231118T120000
DTSTAMP:20260424T094155
CREATED:20231114T153041Z
LAST-MODIFIED:20231114T153041Z
UID:10005681-1700305200-1700308800@uptownsj.com
SUMMARY:Sound Bath at a Brewery
DESCRIPTION:A Sound Bath experience guides you into a meditative state with gongs\, singing bowls\, and accessory instruments to bathe you in healing vibrational sounds. \nA full self-care experience. A guided meditiaion and immersive sounds to facilitate rest\, release\, clarity\, and your highest good. \nThis class will be guided by The Singing Bowl who will assist you in reaching the theta state (in between dreaming and awakeness) and guide you to full relaxation. \nEnjoy a beer after class and share your experiences or simply relax and enjoy. \nThe Singing Bowl was founded by Meghan\, a local sound practitioner/healer who recently arrived from Newfoundland. She specializes in creating a community of healers and helping clients release stress and calm the nervous system\, find clarity\, take action and transform. All while inspiring the spirit of sisu of unwavering resilience in the face of challenges. \nThings to know \nPlease arrive 10 minutes early to settle in \nThis is a laying down experience.  Make sure to create you most comfortable space \nComfy suggestions: Blanket\, yoga mat\, pillows\, water \nWear comfy clothes so you can relax \n*People with epilepsy\, tinnitus\, or in their first trimester of pregnancy should consult a doctor before attending*
URL:https://uptownsj.com/event/sound-bath-at-a-brewery/
LOCATION:Wasted Day Brewing\, 36 Water Street\, Saint John\, New Brunswick\, E2L 2A5\, Canada
CATEGORIES:Community,Networking
END:VEVENT
BEGIN:VEVENT
DTSTART;TZID=America/Halifax:20231118T193000
DTEND;TZID=America/Halifax:20231118T193000
DTSTAMP:20260424T094155
CREATED:20230628T160355Z
LAST-MODIFIED:20230628T160355Z
UID:10005416-1700335800-1700335800@uptownsj.com
SUMMARY:Jeremy Dutcher
DESCRIPTION:Performer\, composer\, activist\, musicologist — these roles are all infused into his art and way of life. His music\, too\, transcends boundaries: unapologetically playful in its incorporation of classical influences\, full of reverence for the traditional songs of his home\,and teeming with the urgency of modern-day struggles of resistance. \nA member of Tobique First Nation in New Brunswick\, Jeremy first did music studies in Halifax before taking a chance to work in the archives at the Canadian Museum of History\, painstakingly transcribing Wolastoq songs from 1907 wax cylinders. “Many of the songs I’d never heard before\, because our musical tradition on the East Coast was suppressed by the Canadian Government’s Indian Act.” Jeremy heard ancestral voices singing forgotten songs and stories that had been taken from the Wolastoqiyik generations ago. \nAs he listened to each recording\, he felt his own musical impulses stirring from deep within. Long days at the archives turned into long nights at the piano\, feeling out melodies and phrases\, deep in dialogue with the voices of his ancestors. These “collaborative”compositions\, collected together on his debut LP Wolastoqiyik Lintuwakonawa\, are like nothing you’ve ever heard. Delicate\, sublime vocal melodies ring out atop piano lines that cascade through a vibrant range of emotions. The anguish and joy of the past erupt fervently into the present through Jeremy’s bold approach to composition and raw\, affective performances enhanced by his outstanding tenor techniques. \n“I’m doing this work because there’s only about a hundred Wolastoqey speakers left\,” he says. “It’s crucial for us to make sure that we’re using our language and passing it on to the next generation. If you lose the language\, you’re not just losing words; you’re losing an entire way of seeing and experiencing the world from a distinctly indigenous perspective.”
URL:https://uptownsj.com/event/jeremy-dutcher/
LOCATION:Imperial Theatre\, 12 King Square S.\, Saint John
CATEGORIES:Community,Theatre
END:VEVENT
END:VCALENDAR