BEGIN:VCALENDAR
VERSION:2.0
PRODID:-//Uptown Saint John - ECPv6.15.20//NONSGML v1.0//EN
CALSCALE:GREGORIAN
METHOD:PUBLISH
X-ORIGINAL-URL:https://uptownsj.com
X-WR-CALDESC:Events for Uptown Saint John
REFRESH-INTERVAL;VALUE=DURATION:PT1H
X-Robots-Tag:noindex
X-PUBLISHED-TTL:PT1H
BEGIN:VTIMEZONE
TZID:America/Halifax
BEGIN:DAYLIGHT
TZOFFSETFROM:-0400
TZOFFSETTO:-0300
TZNAME:ADT
DTSTART:20220313T060000
END:DAYLIGHT
BEGIN:STANDARD
TZOFFSETFROM:-0300
TZOFFSETTO:-0400
TZNAME:AST
DTSTART:20221106T050000
END:STANDARD
BEGIN:DAYLIGHT
TZOFFSETFROM:-0400
TZOFFSETTO:-0300
TZNAME:ADT
DTSTART:20230312T060000
END:DAYLIGHT
BEGIN:STANDARD
TZOFFSETFROM:-0300
TZOFFSETTO:-0400
TZNAME:AST
DTSTART:20231105T050000
END:STANDARD
BEGIN:DAYLIGHT
TZOFFSETFROM:-0400
TZOFFSETTO:-0300
TZNAME:ADT
DTSTART:20240310T060000
END:DAYLIGHT
BEGIN:STANDARD
TZOFFSETFROM:-0300
TZOFFSETTO:-0400
TZNAME:AST
DTSTART:20241103T050000
END:STANDARD
END:VTIMEZONE
BEGIN:VEVENT
DTSTART;TZID=America/Halifax:20231025T190000
DTEND;TZID=America/Halifax:20231025T210000
DTSTAMP:20260422T054826
CREATED:20230908T123106Z
LAST-MODIFIED:20230908T123106Z
UID:10005620-1698260400-1698267600@uptownsj.com
SUMMARY:Pick Your Painting! Halloween Edition!
DESCRIPTION:Award-winning host\, Corinne Monique\, invites you to enjoy a fun-filled night out creating art at a local hotspot. This paint party will be guided step-by-step by a local professional artist and your party hostess for the night. Whether you’re looking for a fun girls’ night out\, a unique date experience\, or you’re looking to meet and connect with people from all over the city\, this is the perfect mix of fun and creativity! \nThis is a no-stress event and there’s absolutely no experience necessary. Everyone from beginner (read: stick-figure artist) to advanced will get a chance to creatively express themselves and have a good time. All supplies are provided. \nPlease arrive at or before 6:45pm to register\, order drinks\, and get settled in as painting will begin at 7:00pm. \nEvent Length: it will only take about 2 hours to complete your ready-to-hang masterpiece! \nCost: $50.00 – includes guided instruction\, 16×20″ ready-to-hang canvas\, acrylic paint (water-based)\, use of brushes\, easels\, and smocks. \nDress code: while it’s important to look cute\, painting can get messy – dress accordingly. \nLimited seating – book your seat now! \nPainting for this event: choose from ANY Halloween-themed painting from the gallery! (one selection per attendee) https://shorturl.at/iwDF9 \nEvent Location: Located in uptown Saint John\, the Saint John Ale House has a history of encouraging local and aspiring artists and designers which\, along with its casual\, relaxed atmosphere\, makes their beautiful OH! Room an ideal location for some creativity! The Saint John Ale House is passionate about food\, offering progressive pub food using locally grown produce\, and offers a variety of local beers on tap as well as an amazing cocktail menu with a mixologist standing by.\n1 Market Square\n506.657.2337 for dinner reservations \nTicket Terms & Conditions: Sorry\, no refunds\, exchanges\, or transfers to future events. ID may be requested upon arrival. In the case of bad weather\, events will proceed as planned unless city buses are pulled off the road and/or the venue closes. We maintain the right to cancel events at any time for whatever reason\, including bad weather\, providing an alternate date or full credit towards a future event of your choice. No refunds will be given.
URL:https://uptownsj.com/event/pick-your-painting-halloween-edition/
LOCATION:Saint John Ale House
CATEGORIES:Art,Community,Cultural Event,Workshop
ORGANIZER;CN="Corinne Monique":MAILTO:info@corinnemonique.com
END:VEVENT
BEGIN:VEVENT
DTSTART;TZID=America/Halifax:20231026T180000
DTEND;TZID=America/Halifax:20231026T200000
DTSTAMP:20260422T054826
CREATED:20230525T191908Z
LAST-MODIFIED:20230525T191908Z
UID:10002516-1698343200-1698350400@uptownsj.com
SUMMARY:Third Space Film Night!
DESCRIPTION:Third Space is happy to revive Film Nights in 2023! Our film nights are a way to bring the community together through our love of the art world. From documentaries to biopics\, Third Space Film Night is open to all those who are looking to fill up their Thursday evening with friendly faces\, snacks\, and screen time about any and all artists throughout our lifetimes. \nAll screenings will take place on every last Thursday of the month in the Tompkins Studio Hall\, located on the first floor of the Saint John Arts Centre. Here’s what you need to know to secure a seat in front of the big screen: \n– Entrance to the Saint John Arts Centre for Film Night will be through the basement doors (An elevator is available if needed)\n– Start time for the movies will be at 6pm AST\, most screenings will have a runtime of 1h30 to 2h\n– Admission is Pay What You Can at the door\, with recommendations of $10 per person\, or $5 for members\, seniors\, and students. You can pay by cash\, card\, or e-transfer\n– Complimentary snacks (chips & carbonated beverages) will be available!\n– Masks are encouraged\n– Gender neutral and single stall washrooms are available \nVisit our website to see what will be screening this month! https://thirdspacegallery.ca/portfolio/third-space-film-nights-are-back/
URL:https://uptownsj.com/event/third-space-film-night/2023-10-26/
LOCATION:Saint John Arts Centre
CATEGORIES:Art,Community,Free
ORGANIZER;CN="Third Space Gallery":MAILTO:tiersespace@gmail.com
END:VEVENT
BEGIN:VEVENT
DTSTART;TZID=America/Halifax:20231027T160000
DTEND;TZID=America/Halifax:20231027T233000
DTSTAMP:20260422T054826
CREATED:20231012T141444Z
LAST-MODIFIED:20231012T141444Z
UID:10005656-1698422400-1698449400@uptownsj.com
SUMMARY:Art vs. Fashion 'Carpe Noctem'
DESCRIPTION:Carpe Noctem -Art vs. Fashion Exhibition-\nCome join us for this unique event where art meets fashion!\nFeaturing:\n-Abigail Reinhart and Craig Gower will be releasing all new\, never before seen\, bold\, powerful artwork.\n-Tyler Leblanc\, graffiti artist from Newfoundland\, will be showcasing all new\, never before seen artwork.\nThis will be Tyler’s debut showing!\n-Castlecarry will be showcasing all new\, unseen artwork and clothing.\n-Live tattooing by China Paul\n-Exit98 will be showcasing a line-up of curated vintage clothing.\n-SoHeavenly\, fashion designer from Moncton New Brunswick will be showcasing all new\, unseen clothing.\n-Live music performance by DJ 4ME \nFriday October 27th 4pm – 12am\nMitote Gallery\n1 Charlotte St. Saint John NB\n( Family & pet friendly! )
URL:https://uptownsj.com/event/art-vs-fashion-carpe-noctem/
LOCATION:Mitote Art Gallery\, 1 Charlotte St\, Saint John\, New Brunswick\, E2L 2H3\, Canada
CATEGORIES:Art
END:VEVENT
BEGIN:VEVENT
DTSTART;TZID=America/Halifax:20231027T193000
DTEND;TZID=America/Halifax:20231027T213000
DTSTAMP:20260422T054826
CREATED:20230828T124713Z
LAST-MODIFIED:20230828T124713Z
UID:10005558-1698435000-1698442200@uptownsj.com
SUMMARY:Brent Mason’s Songwriter’s Circle
DESCRIPTION:October 27\, 2023 | 7:30 PM | BMO Studio Theatre\, 112 Princess St.\n$30; Streaming $25\nFor tickets call 506-652-7582 or visit www.tickets.saintjohntheatrecompany.com \nBrent Mason’s Songwriter’s Circle is back! A vibrant night of music\, banter\, and stories that go along with the tunes. You won’t want to miss this unforgettable evening that spans from joyous\, heartfelt music to spontaneous conversations between the featured artists. With Brent at the helm\, you are guaranteed a unique show unlike any other! Featuring Brent Mason\, Jamie Comeau\, Abigail Joan\, and Hilary Ladd.
URL:https://uptownsj.com/event/brent-masons-songwriters-circle-2/
LOCATION:The BMO Studio Theatre\, 112 Princess St\, 112 Princess St\, Saint John\, NB\, E2L 1K4\, Canada
CATEGORIES:Live Music
ORGANIZER;CN="Saint John Theatre Company":MAILTO:lise.driscoll@saintjohntheatrecompany.com
END:VEVENT
BEGIN:VEVENT
DTSTART;TZID=America/Halifax:20231027T200000
DTEND;TZID=America/Halifax:20231027T220000
DTSTAMP:20260422T054826
CREATED:20230814T122011Z
LAST-MODIFIED:20230814T122011Z
UID:10005541-1698436800-1698444000@uptownsj.com
SUMMARY:Peter Anthony at Punch Lines Comedy Club
DESCRIPTION:Tickets on Sale now!\nReg $25/Vip $30 (taxes incl.)\nText 506-647-8338 for tickets. We accept etransfers.\nPeter Anthony is a Canadian Comedy Award winning comedian (Breakout Artist) and nominee (Best Male Standup) originally from the small town of Pictou\, Nova Scotia.  Some of Peter’s credits include Montreal’s Just for Laughs Festival\, CBC’s Halifax ComedyFest\, Toronto’s North by Northeast (NXNE) Festival\, CBC Radio’s The Debaters and television appearances on CBC\, CTV Comedy\, MuchMusic\, and MTV.  Outside of the club and festival circuit Peter also performs as a corporate entertainer with past clients including Tim Hortons\, Procter & Gamble\, Bell Mobility\, Maple Leafs Sports and Entertainment Partnership\, and SickKids Hospital.
URL:https://uptownsj.com/event/peter-anthony-at-punch-lines-comedy-club-2/2023-10-27/
LOCATION:Punch Lines Comedy Club
END:VEVENT
BEGIN:VEVENT
DTSTART;TZID=America/Halifax:20231028T140000
DTEND;TZID=America/Halifax:20231028T140000
DTSTAMP:20260422T054826
CREATED:20230628T161031Z
LAST-MODIFIED:20230628T161031Z
UID:10005410-1698501600-1698501600@uptownsj.com
SUMMARY:Retro Film: Addams Family Values (1993)
DESCRIPTION:The Addams Family try to rescue their beloved Uncle Fester from his gold-digging new love\, a black widow named Debbie.
URL:https://uptownsj.com/event/retro-film-addams-family-values-1993/
LOCATION:Imperial Theatre\, 12 King Square S.\, Saint John
CATEGORIES:Community,Theatre
END:VEVENT
BEGIN:VEVENT
DTSTART;TZID=America/Halifax:20231028T180000
DTEND;TZID=America/Halifax:20231028T180000
DTSTAMP:20260422T054826
CREATED:20230913T124909Z
LAST-MODIFIED:20230913T124909Z
UID:10005631-1698516000-1698516000@uptownsj.com
SUMMARY:Dia de los Muertos\, Atlantic Canada
DESCRIPTION:“Dia de los Muertos\, Atlantic Canada” is a traditional Mexican festival that celebrates art\, culture\, community\, and heritage while honoring those who came before us. Is a welcoming experience rooted in diversity and inclusion\, adding a new layer to Saint John’s urban vibrancy.
URL:https://uptownsj.com/event/dia-de-los-muertos-atlantic-canada/
LOCATION:Uptown Saint John\, Saint John\, New Brunswick\, Canada
CATEGORIES:Art,Community,Cultural Event,Free,Live Music
END:VEVENT
BEGIN:VEVENT
DTSTART;TZID=America/Halifax:20231028T190000
DTEND;TZID=America/Halifax:20231028T190000
DTSTAMP:20260422T054826
CREATED:20230628T160936Z
LAST-MODIFIED:20230628T160936Z
UID:10005411-1698519600-1698519600@uptownsj.com
SUMMARY:Retro Film: Rocky Horror Picture Show (1975)
DESCRIPTION:A newly-engaged couple have a breakdown in an isolated area and must seek shelter at the bizarre residence of Dr. Frank-n-Furter. \nThe acceptable items from the Prop List will be published here close to screening date.
URL:https://uptownsj.com/event/retro-film-rocky-horror-picture-show-1975/
LOCATION:Imperial Theatre\, 12 King Square S.\, Saint John
CATEGORIES:Community,Theatre
END:VEVENT
BEGIN:VEVENT
DTSTART;TZID=America/Halifax:20231028T200000
DTEND;TZID=America/Halifax:20231028T220000
DTSTAMP:20260422T054826
CREATED:20230814T122011Z
LAST-MODIFIED:20230814T122011Z
UID:10005542-1698523200-1698530400@uptownsj.com
SUMMARY:Peter Anthony at Punch Lines Comedy Club
DESCRIPTION:Tickets on Sale now!\nReg $25/Vip $30 (taxes incl.)\nText 506-647-8338 for tickets. We accept etransfers.\nPeter Anthony is a Canadian Comedy Award winning comedian (Breakout Artist) and nominee (Best Male Standup) originally from the small town of Pictou\, Nova Scotia.  Some of Peter’s credits include Montreal’s Just for Laughs Festival\, CBC’s Halifax ComedyFest\, Toronto’s North by Northeast (NXNE) Festival\, CBC Radio’s The Debaters and television appearances on CBC\, CTV Comedy\, MuchMusic\, and MTV.  Outside of the club and festival circuit Peter also performs as a corporate entertainer with past clients including Tim Hortons\, Procter & Gamble\, Bell Mobility\, Maple Leafs Sports and Entertainment Partnership\, and SickKids Hospital.
URL:https://uptownsj.com/event/peter-anthony-at-punch-lines-comedy-club-2/2023-10-28/
LOCATION:Punch Lines Comedy Club
END:VEVENT
BEGIN:VEVENT
DTSTART;TZID=America/Halifax:20231029T150000
DTEND;TZID=America/Halifax:20231029T170000
DTSTAMP:20260422T054826
CREATED:20230828T135239Z
LAST-MODIFIED:20230828T135239Z
UID:10005575-1698591600-1698598800@uptownsj.com
SUMMARY:Sea Dogs VS. Quebec Remparts
DESCRIPTION:🏒 Come watch the intense match-up between the Sea Dogs and the Quebec Remparts! Expect nothing less than a fierce battle of skill and strategy as the Saint John Sea Dogs faces off against their formidable opponents. The rink will come alive with the clashing of sticks\, the echo of skates\, and the resounding cheers from enthusiastic fans! \n🎉Come enjoy family-friendly entertainment that is not just about the game; it’s a celebration of the community’s love for hockey. Bring your friends and family to enjoy an unforgettable evening of sportsmanship\, camaraderie\, and pure entertainment. From the pre-game festivities to the thrilling action on the ice\, every moment promises to be unforgettable. \n🎁 Fan Engagements & Giveaways:\nAs a token of appreciation for your unwavering support\, the Saint John Sea Dogs have prepared exciting fan engagement activities and fantastic giveaways throughout the game. Cheer on the Sea Dogs with your posters\, flags\, and team colours to stand a chance to win exclusive merchandise and other surprises! \n🚨 Get Your Tickets Now:\nDon’t miss the chance to be part of this heart-stopping hockey event! Grab your tickets early to secure the best seats in the house and avoid disappointment. Whether you’re a die-hard hockey enthusiast or a casual sports fan\, this game guarantees an experience you won’t want to miss. Tickets can be purchased online at www.tdstation.com\, or in person at the TD Station Box Office. \nMark your calendars\, set your alarms\, and join us for a memorable evening of hockey excellence as the Saint John Sea Dogs aim to conquer the ice and make their fans proud. See you there! 🏒🥅
URL:https://uptownsj.com/event/sea-dogs-vs-quebec-remparts/
LOCATION:TD Station\, 99 Station St\, Saint John\, New Brunswick\, E2L 4X4\, Canada
ORGANIZER;CN="Saint John Sea Dogs":MAILTO:info@sjseadogs.com
END:VEVENT
END:VCALENDAR