BEGIN:VCALENDAR
VERSION:2.0
PRODID:-//Uptown Saint John - ECPv6.15.20//NONSGML v1.0//EN
CALSCALE:GREGORIAN
METHOD:PUBLISH
X-ORIGINAL-URL:https://uptownsj.com
X-WR-CALDESC:Events for Uptown Saint John
REFRESH-INTERVAL;VALUE=DURATION:PT1H
X-Robots-Tag:noindex
X-PUBLISHED-TTL:PT1H
BEGIN:VTIMEZONE
TZID:America/Halifax
BEGIN:DAYLIGHT
TZOFFSETFROM:-0400
TZOFFSETTO:-0300
TZNAME:ADT
DTSTART:20220313T060000
END:DAYLIGHT
BEGIN:STANDARD
TZOFFSETFROM:-0300
TZOFFSETTO:-0400
TZNAME:AST
DTSTART:20221106T050000
END:STANDARD
BEGIN:DAYLIGHT
TZOFFSETFROM:-0400
TZOFFSETTO:-0300
TZNAME:ADT
DTSTART:20230312T060000
END:DAYLIGHT
BEGIN:STANDARD
TZOFFSETFROM:-0300
TZOFFSETTO:-0400
TZNAME:AST
DTSTART:20231105T050000
END:STANDARD
BEGIN:DAYLIGHT
TZOFFSETFROM:-0400
TZOFFSETTO:-0300
TZNAME:ADT
DTSTART:20240310T060000
END:DAYLIGHT
BEGIN:STANDARD
TZOFFSETFROM:-0300
TZOFFSETTO:-0400
TZNAME:AST
DTSTART:20241103T050000
END:STANDARD
END:VTIMEZONE
BEGIN:VEVENT
DTSTART;TZID=America/Halifax:20230925T193000
DTEND;TZID=America/Halifax:20230925T193000
DTSTAMP:20260420T141830
CREATED:20230628T165224Z
LAST-MODIFIED:20230628T165224Z
UID:10005402-1695670200-1695670200@uptownsj.com
SUMMARY:SNB: Symphonic Chart Toppers “It’s About the Hits”
DESCRIPTION:SNB kicks off the season with an all-new top-10 countdown of the most popular orchestral selections of all time.
URL:https://uptownsj.com/event/snb-symphonic-chart-toppers-its-about-the-hits/
LOCATION:Imperial Theatre\, 12 King Square S.\, Saint John
CATEGORIES:Community,Live Music,Theatre
END:VEVENT
BEGIN:VEVENT
DTSTART;TZID=America/Halifax:20230927T170000
DTEND;TZID=America/Halifax:20230927T210000
DTSTAMP:20260420T141830
CREATED:20230808T131756Z
LAST-MODIFIED:20230808T131756Z
UID:10005521-1695834000-1695848400@uptownsj.com
SUMMARY:Building Community: A Special Evening with Roxanne Fairweather
DESCRIPTION:L’Arche Saint John proudly presents Building Community with special guest Roxanne Fairweather and emcee Emily Rodger on Wednesday\, Sept. 27\, 2023 at Delta Hotels by Marriott Saint John. \nReception begins at 5 p.m. and dinner at 6 p.m. A silent auction will be featured. \nTickets are $130 per person or $1\,200 for a table of 10. \nThis evening will present a fireside chat with Ms. Fairweather\, followed by a question & answer session. \nRoxanne is co-President and co-owner of Innovatia Inc.\, a global knowledge management company providing software and services to Fortune 100 and 500 companies\, headquartered in Saint John\, New Brunswick. Roxanne has served on the University of New Brunswick’s Board of Governors since 2003. Roxanne’s interest in education has also forged a partnership between Innovatia and the Elementary Literacy Friends (ELF) program\, which focuses on increasing literacy throughout the province by providing volunteer tutors to Grade 2 students. \nRoxanne is currently Chair of ELF and Chair of Achieve Literacy Greater Saint John\, organizing a special focus on gathering the needed resources and strategies for Kindergarten to Grade 2 students to ensure that 90% of children are reading at grade level. She is a member of the Leadership Board for BCAPI\, the Saint John Business Anti-Poverty Initiative. In 2014 Roxanne was inducted into the New Brunswick Business Hall of Fame and received the Order of New Brunswick. \nOur emcee for the evening is Emily Rodger\, an inspirational leadership coach and former world-class cyclist. Emily’s remarkable story is captured in the documentaries Cadence and Chasing the Current. \nWell known local artist\, Lana Langille\, will be creating a live painting during the evening to be put up for auction at the end of the night. \nIn 2022\, our evening of Building Community attracted more than 400 people from the business\, government and non-profit communities in the region and across New Brunswick. We hope you’ll join us for another spectacular event!
URL:https://uptownsj.com/event/building-community-a-special-evening-with-roxanne-fairweather/
LOCATION:Delta Hotels by Marriott Saint John\, 39 King Street\, Saint John\, New Brunswick\, E2L 4W3\, Canada
CATEGORIES:Fundraiser,Networking
ORGANIZER;CN="L'Arche Saint John":MAILTO:info@larchesaintjohn.org
END:VEVENT
BEGIN:VEVENT
DTSTART;TZID=America/Halifax:20230927T190000
DTEND;TZID=America/Halifax:20230927T210000
DTSTAMP:20260420T141830
CREATED:20230908T123128Z
LAST-MODIFIED:20230908T123128Z
UID:10005619-1695841200-1695848400@uptownsj.com
SUMMARY:Pick Your Painting! Autumn Edition!
DESCRIPTION:Award-winning host\, Corinne Monique\, invites you to enjoy a fun-filled night out creating art at a local hotspot. This paint party will be guided step-by-step by a local professional artist and your party hostess for the night. Whether you’re looking for a fun girls’ night out\, a unique date experience\, or you’re looking to meet and connect with people from all over the city\, this is the perfect mix of fun and creativity! \nThis is a no-stress event and there’s absolutely no experience necessary. Everyone from beginner (read: stick-figure artist) to advanced will get a chance to creatively express themselves and have a good time. All supplies are provided. \nPlease arrive at or before 6:45pm to register\, order drinks\, and get settled in as painting will begin at 7:00pm. \nEvent Length: it will only take about 2 hours to complete your ready-to-hang masterpiece! \nCost: $50.00 – includes guided instruction\, 16×20″ ready-to-hang canvas\, acrylic paint (water-based)\, use of brushes\, easels\, and smocks. \nDress code: while it’s important to look cute\, painting can get messy – dress accordingly. \nLimited seating – book your seat now! \nPainting for this event: choose from ANY autumn-themed painting from the gallery! (one selection per attendee) https://shorturl.at/bHQU5 \nEvent Location: Located in uptown Saint John\, the Saint John Ale House has a history of encouraging local and aspiring artists and designers which\, along with its casual\, relaxed atmosphere\, makes their beautiful OH! Room an ideal location for some creativity! The Saint John Ale House is passionate about food\, offering progressive pub food using locally grown produce\, and offers a variety of local beers on tap as well as an amazing cocktail menu with a mixologist standing by.\n1 Market Square\n506.657.2337 for dinner reservations \nTicket Terms & Conditions: Sorry\, no refunds\, exchanges\, or transfers to future events. ID may be requested upon arrival. In the case of bad weather\, events will proceed as planned unless city buses are pulled off the road and/or the venue closes. We maintain the right to cancel events at any time for whatever reason\, including bad weather\, providing an alternate date or full credit towards a future event of your choice. No refunds will be given.
URL:https://uptownsj.com/event/pick-your-painting-autumn-edition/
LOCATION:Saint John Ale House
CATEGORIES:Art,Community,Cultural Event,Workshop
ORGANIZER;CN="Corinne Monique":MAILTO:info@corinnemonique.com
END:VEVENT
BEGIN:VEVENT
DTSTART;TZID=America/Halifax:20230928T180000
DTEND;TZID=America/Halifax:20230928T200000
DTSTAMP:20260420T141830
CREATED:20230525T191908Z
LAST-MODIFIED:20230525T191908Z
UID:10002515-1695924000-1695931200@uptownsj.com
SUMMARY:Third Space Film Night!
DESCRIPTION:Third Space is happy to revive Film Nights in 2023! Our film nights are a way to bring the community together through our love of the art world. From documentaries to biopics\, Third Space Film Night is open to all those who are looking to fill up their Thursday evening with friendly faces\, snacks\, and screen time about any and all artists throughout our lifetimes. \nAll screenings will take place on every last Thursday of the month in the Tompkins Studio Hall\, located on the first floor of the Saint John Arts Centre. Here’s what you need to know to secure a seat in front of the big screen: \n– Entrance to the Saint John Arts Centre for Film Night will be through the basement doors (An elevator is available if needed)\n– Start time for the movies will be at 6pm AST\, most screenings will have a runtime of 1h30 to 2h\n– Admission is Pay What You Can at the door\, with recommendations of $10 per person\, or $5 for members\, seniors\, and students. You can pay by cash\, card\, or e-transfer\n– Complimentary snacks (chips & carbonated beverages) will be available!\n– Masks are encouraged\n– Gender neutral and single stall washrooms are available \nVisit our website to see what will be screening this month! https://thirdspacegallery.ca/portfolio/third-space-film-nights-are-back/
URL:https://uptownsj.com/event/third-space-film-night/2023-09-28/
LOCATION:Saint John Arts Centre
CATEGORIES:Art,Community,Free
ORGANIZER;CN="Third Space Gallery":MAILTO:tiersespace@gmail.com
END:VEVENT
BEGIN:VEVENT
DTSTART;TZID=America/Halifax:20230929T190000
DTEND;TZID=America/Halifax:20230929T220000
DTSTAMP:20260420T141830
CREATED:20230726T120839Z
LAST-MODIFIED:20230726T120919Z
UID:10005503-1696014000-1696024800@uptownsj.com
SUMMARY:Sea Dogs Vs. Cape Breton Eagles
DESCRIPTION:🏒 Come watch the intense match-up between the Sea Dogs and the Acadie-Bathurst Titan! Expect nothing less than a fierce battle of skill and strategy as the Saint John Sea Dogs faces off against their formidable opponents. The rink will come alive with the clashing of sticks\, the echo of skates\, and the resounding cheers from enthusiastic fans! \n🎉Come enjoy family-friendly entertainment that is not just about the game; it’s a celebration of the community’s love for hockey. Bring your friends and family to enjoy an unforgettable evening of sportsmanship\, camaraderie\, and pure entertainment. From the pre-game festivities to the thrilling action on the ice\, every moment promises to be unforgettable. \n🎁 Fan Engagements & Giveaways:\nAs a token of appreciation for your unwavering support\, the Saint John Sea Dogs have prepared exciting fan engagement activities and fantastic giveaways throughout the game. Cheer on the Sea Dogs with your posters\, flags\, and team colours to stand a chance to win exclusive merchandise and other surprises! \n🚨 Get Your Tickets Now:\nDon’t miss the chance to be part of this heart-stopping hockey event! Grab your tickets early to secure the best seats in the house and avoid disappointment. Whether you’re a die-hard hockey enthusiast or a casual sports fan\, this game guarantees an experience you won’t want to miss. Tickets can be purchased online at www.tdstation.com\, or in person at the TD Station Box Office. \nMark your calendars\, set your alarms\, and join us for a memorable evening of hockey excellence as the Saint John Sea Dogs aim to conquer the ice and make their fans proud. See you there! 🏒🥅
URL:https://uptownsj.com/event/sea-dogs-vs-cape-breton-eagles-2/
LOCATION:TD Station\, 99 Station St\, Saint John\, New Brunswick\, E2L 4X4\, Canada
CATEGORIES:Community
ORGANIZER;CN="Saint John Sea Dogs":MAILTO:info@sjseadogs.com
END:VEVENT
BEGIN:VEVENT
DTSTART;TZID=America/Halifax:20230929T200000
DTEND;TZID=America/Halifax:20230929T220000
DTSTAMP:20260420T141830
CREATED:20230814T122117Z
LAST-MODIFIED:20230814T122117Z
UID:10005537-1696017600-1696024800@uptownsj.com
SUMMARY:Juno winner Dave Merheje at Punch Lines Comedy Club
DESCRIPTION:Tickets on Sale now!\nReg $30/Vip $40 (taxes incl.)\nText 506-647-8338 for tickets. We accept etransfers. \nDave Merheje is considered to be one of the most original stand-up acts on the comedy scene today. His multiple award-winning act has gained a loyal following across in North America with his “no fear” approach on stage and a comedy style best described as aggressive in-your-face funny. Dave had his first comedy special air in Australia on ABC2\, and has made appearances on Comedy Network’s Match Game\, was a regular contributor on MTV Live\, recurred on CBC’s Mr. D\, and he co-stars in the comedy series Ramy on Hulu.
URL:https://uptownsj.com/event/juno-winner-dave-merheje-at-punch-lines-comedy-club/2023-09-29/
LOCATION:Punch Lines Comedy Club
CATEGORIES:Comedy
END:VEVENT
BEGIN:VEVENT
DTSTART;TZID=America/Halifax:20230929T200000
DTEND;TZID=America/Halifax:20230929T220000
DTSTAMP:20260420T141830
CREATED:20230905T124047Z
LAST-MODIFIED:20230905T124047Z
UID:10005617-1696017600-1696024800@uptownsj.com
SUMMARY:After Office Social Party
DESCRIPTION:Join us for a lively evening of dance and celebration at the After Office Social Party! We have an exciting lineup that will make your night a blast. 🤩 \nWhat to Expect: \n8 PM 💃 🎉\nGet ready to groove to the latest and all-time hits of international and Latin American pop! Zumba instructors Tania and Vicente will lead a fun Zumba session that will leave you feeling energetic\, cheerful\, and with a smile as always. \n9 PM 💃🕺\nIt’s time to hit the dance floor for some social dancing in couples! But here’s the twist – we’ll provide each person with a distinctive item to indicate their dancing preferences. Some people might be open to dancing with others\, while some may not be. Remember: consent and respect are essential to ensure we create a safe space and that everyone has a great time on the dance floor. \n10 PM onwards 🎂\nWe have an extra reason to celebrate! It’s Tania’s birthday\, one of our fantastic Zumba instructors. Let’s come together and make this evening a memorable birthday bash for her.\nSecure your spot now and become a part of the After Office Social Party. Get your tickets today! Don’t miss out on this fantastic opportunity to dance\, celebrate\, and connect with fellow dance enthusiasts. \nWant to be surprised? Ask for your Social Party cocktail or Social Party Mocktail at the bar! 🍸🍹 \nDance\, enjoy\, and make a meaningful impact! Your ticket purchase will directly contribute to the grants Dragonfly will provide to Women in Business during the Empowering Women in Business Conference in 2024. Join us in empowering the future of women-led businesses while having a fantastic time on the dance floor! \nFor more updates on events like this\, follow After Office Party on Facebook and Instagram or subscribe to Dragonfly newsletter. See you on the dance floor!
URL:https://uptownsj.com/event/after-office-social-party/
LOCATION:Crave Lounge\, 32 Grannan St.\, Saint John\, New Brunswick\, Canada
CATEGORIES:Community,Live Music,Networking
END:VEVENT
BEGIN:VEVENT
DTSTART;TZID=America/Halifax:20230930T100000
DTEND;TZID=America/Halifax:20230930T170000
DTSTAMP:20260420T141830
CREATED:20230927T153323Z
LAST-MODIFIED:20230927T153323Z
UID:10005649-1696068000-1696093200@uptownsj.com
SUMMARY:Dog Day at the Urban Shoe Myth
DESCRIPTION:We are hosting a day for you & your fur babies this Saturday from 10 to 5. We have treats\, as well as two POP UP SHOPS – Woofmates\, who will be selling homemade dog treats and offers pet sitting services – and Pup Packs\, selling pet accessories and pottery. Our customers will also be put into a draw to win a FURBO! Join us for all the fun and puppy love this weekend!
URL:https://uptownsj.com/event/dog-day-at-the-urban-shoe-myth/
LOCATION:The Urban Shoe Myth\, 78b Kiing St\, Saint John\, New Brunswick\, E2L 1G5\, Canada
END:VEVENT
BEGIN:VEVENT
DTSTART;TZID=America/Halifax:20230930T140000
DTEND;TZID=America/Halifax:20230930T153000
DTSTAMP:20260420T141830
CREATED:20230809T121544Z
LAST-MODIFIED:20230809T121544Z
UID:10005528-1696082400-1696087800@uptownsj.com
SUMMARY:The Herstory of Saint John with David Goss\, Saturday\, September 30
DESCRIPTION:This is a great Walk ‘n Talk to get the girls together for. Perfect for mothers and daughters\, sisters\, good friends\, and any other women that want to know how women helped form the Saint John we know today. \nSaturday Stroll on Saturday\, September 30\, 2023\, at 2:00 p.m. Not History but Her Story. Women have made many notable contributions to the betterment of Saint John. On this walk\, we’ll learn about how a woman got the Y got started in the city\, how the playground movement owes its origin to a Saint John woman\, how the city had the first port nurse in the world and how seafarers loved Saint John because two woman volunteers who made them feel at home when far from home. The walk will leave from the Partridge Island Publishing Bookstore in the Container Village and travel through Trinity Royal for 1.5 hours. The fee is $10.00. \nOther tours available: \nFrightful Friday on Friday\, Sept 15\, 2023\, at 8 p.m. The Ghost of John comes to Saint John. Leaving from the Partridge Island Publishing Bookstore at the Container Village. This walk feature John Nathanial Leavitt the ghost of Dead Man’s Cove\, who was lost in the sinking of the barque Genii during the Saxby Gale of October 04\, 1869. He will be sharing stories of how he has interacted with ghosts all up and down the Fundy shore in attempting to get someone to take him to be buried with his buddies who are all at rest in graves in Mascarene. This 1.5-hour program will feature a costumed ghost\, and he has a number of stunts that help illustrate his story as we walk Water and Prince William Streets overlooking the harbour. The fee is $15.00 \nSaturday Stroll on Saturday\, September 23\, 2023. At 2:00 p.m. Discover why Prince William Street was known as the Wall Street of Canada on this walk from the Partridge Island Publishing Bookstore in the Container Village. The walk will travel up Duke to Prince William and conclude at the foot of King. Walkers will discover how the street developed following the Great Fire and how the businesses flourished as a result of port activity that gave locals a business advantage over central Canada and the Eastern USA and led to the proliferation of insurance and investment houses. The Fee is $10.00. \nSaturday Stroll on Saturday\, October 21\, 2023\, at 2:00 p.m. Prince William Street in Fact and Folklore. No city street has as many stories as Prince William. The city’s first newspaper was founded on the street\, Canada’s first bank was too\, and the street has a coffee house long before Tim Horton’s came to town. The street is said to have underground tunnels connecting buildings\, and some women claim one of the city’s most eligible bachelors of 1884 still winks at them as they pass by Chubb’s Corner. Come and wonder why the devil is spitting out coins\, learn who won a radiator sitting contest when Saint John High opened\, and what building was once sold for two wheelbarrows of Mexican dollars at Lazy Man’s Corner. The fee is $10.00. If wet\, call 506 672 8601 after 1:00 p.m. \nAll participants must register in advance. Pre-registration by contacting Shannon@PartridgeIslandPublishing.ca. Payment can be made by cash\, E-transfer\, Debit and Credit cards. Day-of-walk registrations ( $2.00 more) will be accepted if space allows. Limited to 30 walkers.
URL:https://uptownsj.com/event/the-herstory-of-saint-john-with-david-goss-saturday-september-30/
LOCATION:Area 506\, 85 Water St\, Saint John\, New Brunswick\, E2L 0B1\, Canada
CATEGORIES:Theatre
END:VEVENT
BEGIN:VEVENT
DTSTART;TZID=America/Halifax:20230930T190000
DTEND;TZID=America/Halifax:20230930T220000
DTSTAMP:20260420T141830
CREATED:20230726T120831Z
LAST-MODIFIED:20230726T120831Z
UID:10005504-1696100400-1696111200@uptownsj.com
SUMMARY:Sea Dogs Vs. Cape Breton Eagles
DESCRIPTION:🏒 Come watch the intense match-up between the Sea Dogs and the Cape Breton Eagles! Expect nothing less than a fierce battle of skill and strategy as the Saint John Sea Dogs faces off against their formidable opponents. The rink will come alive with the clashing of sticks\, the echo of skates\, and the resounding cheers from enthusiastic fans! \n🎉Come enjoy family-friendly entertainment that is not just about the game; it’s a celebration of the community’s love for hockey. Bring your friends and family to enjoy an unforgettable evening of sportsmanship\, camaraderie\, and pure entertainment. From the pre-game festivities to the thrilling action on the ice\, every moment promises to be unforgettable. \n🎁 Fan Engagements & Giveaways:\nAs a token of appreciation for your unwavering support\, the Saint John Sea Dogs have prepared exciting fan engagement activities and fantastic giveaways throughout the game. Cheer on the Sea Dogs with your posters\, flags\, and team colours to stand a chance to win exclusive merchandise and other surprises! \n🚨 Get Your Tickets Now:\nDon’t miss the chance to be part of this heart-stopping hockey event! Grab your tickets early to secure the best seats in the house and avoid disappointment. Whether you’re a die-hard hockey enthusiast or a casual sports fan\, this game guarantees an experience you won’t want to miss. Tickets can be purchased online at www.tdstation.com\, or in person at the TD Station Box Office. \nMark your calendars\, set your alarms\, and join us for a memorable evening of hockey excellence as the Saint John Sea Dogs aim to conquer the ice and make their fans proud. See you there! 🏒🥅 \n 
URL:https://uptownsj.com/event/sea-dogs-vs-cape-breton-eagles/
LOCATION:TD Station\, 99 Station St\, Saint John\, New Brunswick\, E2L 4X4\, Canada
CATEGORIES:Community
ORGANIZER;CN="Saint John Sea Dogs":MAILTO:info@sjseadogs.com
END:VEVENT
BEGIN:VEVENT
DTSTART;TZID=America/Halifax:20230930T200000
DTEND;TZID=America/Halifax:20230930T220000
DTSTAMP:20260420T141830
CREATED:20230814T122117Z
LAST-MODIFIED:20230814T122117Z
UID:10005538-1696104000-1696111200@uptownsj.com
SUMMARY:Juno winner Dave Merheje at Punch Lines Comedy Club
DESCRIPTION:Tickets on Sale now!\nReg $30/Vip $40 (taxes incl.)\nText 506-647-8338 for tickets. We accept etransfers. \nDave Merheje is considered to be one of the most original stand-up acts on the comedy scene today. His multiple award-winning act has gained a loyal following across in North America with his “no fear” approach on stage and a comedy style best described as aggressive in-your-face funny. Dave had his first comedy special air in Australia on ABC2\, and has made appearances on Comedy Network’s Match Game\, was a regular contributor on MTV Live\, recurred on CBC’s Mr. D\, and he co-stars in the comedy series Ramy on Hulu.
URL:https://uptownsj.com/event/juno-winner-dave-merheje-at-punch-lines-comedy-club/2023-09-30/
LOCATION:Punch Lines Comedy Club
CATEGORIES:Comedy
END:VEVENT
END:VCALENDAR