BEGIN:VCALENDAR
VERSION:2.0
PRODID:-//Uptown Saint John - ECPv6.15.20//NONSGML v1.0//EN
CALSCALE:GREGORIAN
METHOD:PUBLISH
X-WR-CALNAME:Uptown Saint John
X-ORIGINAL-URL:https://uptownsj.com
X-WR-CALDESC:Events for Uptown Saint John
REFRESH-INTERVAL;VALUE=DURATION:PT1H
X-Robots-Tag:noindex
X-PUBLISHED-TTL:PT1H
BEGIN:VTIMEZONE
TZID:America/Halifax
BEGIN:DAYLIGHT
TZOFFSETFROM:-0400
TZOFFSETTO:-0300
TZNAME:ADT
DTSTART:20220313T060000
END:DAYLIGHT
BEGIN:STANDARD
TZOFFSETFROM:-0300
TZOFFSETTO:-0400
TZNAME:AST
DTSTART:20221106T050000
END:STANDARD
BEGIN:DAYLIGHT
TZOFFSETFROM:-0400
TZOFFSETTO:-0300
TZNAME:ADT
DTSTART:20230312T060000
END:DAYLIGHT
BEGIN:STANDARD
TZOFFSETFROM:-0300
TZOFFSETTO:-0400
TZNAME:AST
DTSTART:20231105T050000
END:STANDARD
BEGIN:DAYLIGHT
TZOFFSETFROM:-0400
TZOFFSETTO:-0300
TZNAME:ADT
DTSTART:20240310T060000
END:DAYLIGHT
BEGIN:STANDARD
TZOFFSETFROM:-0300
TZOFFSETTO:-0400
TZNAME:AST
DTSTART:20241103T050000
END:STANDARD
END:VTIMEZONE
BEGIN:VEVENT
DTSTART;TZID=America/Halifax:20230620T080000
DTEND;TZID=America/Halifax:20230620T170000
DTSTAMP:20260425T160330
CREATED:20230620T174536Z
LAST-MODIFIED:20230620T174536Z
UID:10005377-1687248000-1687280400@uptownsj.com
SUMMARY:Art Battle New Brunswick Championship Finals
DESCRIPTION:Get charged up for an electrifying Saturday night featuring live\, pulse-pounding art!\nBe a part of the electrifying energy as skilled artists engage in a high-speed showdown\, flinging paint with every stroke.\nRegular season event winners and All-Stars from Saint John and Fredericton return for their chance to become the 2023 New Brunswick Provincial Champion and head to the Canadian National Championships in Toronto in July!\nCome watch as artists transform blank canvases into beautiful pieces of art in 2 regular rounds of 20 minutes\, and the big final round of 30 minutes! Then help vote to determine the winner of the event!\nAll artwork will also be available for silent auction.\n*This is an All Ages event.
URL:https://uptownsj.com/event/art-battle-new-brunswick-championship-finals/
LOCATION:Kent Theatre\, 24 Coburg Street\, Saint John\, New Brunswick\, Canada
CATEGORIES:Art
END:VEVENT
BEGIN:VEVENT
DTSTART;TZID=America/Halifax:20230622T170000
DTEND;TZID=America/Halifax:20230622T230000
DTSTAMP:20260425T160330
CREATED:20230614T132814Z
LAST-MODIFIED:20230614T132814Z
UID:10005368-1687453200-1687474800@uptownsj.com
SUMMARY:SUMMER KICK OFF PARTY AT SAINT JOHN ALE HOUSE
DESCRIPTION:The Saint John Ale House is excited to announce the anticipated Summer Kick-off Party on Thursday\, June 22\, 2023\, starting at 5 p.m.\nThe event will mark the official arrival of patio season on the boardwalk and offer an unforgettable evening of delicious summer drinks\, mouthwatering food and music. \nAs the summer sun shines down on the Port City\, the Ale House is ready to welcome patrons to their newly set up patio area for an exceptional evening of fun and celebration. The Summer Kick-off event will showcase the best of what the Ale House offers\, making it the perfect start to the summer season. \nOne of the highlights of the evening will be the irresistible summer drink feature: The Radler Sangria\, a delightful mixture of Moosehead Radler\, gin\, and cranberry liquor\, packed with fruit\, including locally sourced rhubarb. The Ale House will also feature its famous wings for only 60 cents per wing\, the cheapest in the city!\nWith the construction of the Fundy Quay development just next store\, Saint John Ale House Chef/Owner Jesse Vergen said he wanted to host an event to remind Saint Johners that the boardwalk is open and ready to help people celebrate all summer. \n“The Uptown Saint John boardwalk has been the go-to place for soaking up the summer for decades. As the city has grown and changed\, it has persevered and remained a staple in its vibrant nightlife\,” says Vergen. “We’re hosting this event to remind people the boardwalk is still the place to be this summer. We’re not letting a little construction kill our vibe!” \nWhether you’re a local looking for a great night out or a visitor seeking the best that Saint John offers\, the Summer Kick-off Party at the Saint John Ale House is a must-attend event.
URL:https://uptownsj.com/event/summer-kick-off-party-at-saint-john-ale-house/
LOCATION:Saint John Ale House
CATEGORIES:Food,Networking
END:VEVENT
BEGIN:VEVENT
DTSTART;TZID=America/Halifax:20230623T190000
DTEND;TZID=America/Halifax:20230623T210000
DTSTAMP:20260425T160330
CREATED:20230613T172610Z
LAST-MODIFIED:20230613T172610Z
UID:10003568-1687546800-1687554000@uptownsj.com
SUMMARY:Sea Dogs Hall of Fame
DESCRIPTION:The Saint John Sea Dogs Hall of Fame is a special night made to honour past Sea Dogs as we induct them into the Sea Dogs Hall of Fame. This year’s ceremony will be particularly special as we honour not one\, not two\, but three deserving inductees who missed out on their chance to be celebrated last year due to the COVID pandemic. We are thrilled to welcome Thomas Chabot\, Mike Kelly\, and Gerard Gallant into the Saint John Sea Dogs Hall of Fame. \nJoin us for an evening of celebration as we recognize these incredible individuals and their contributions to the Sea Dogs organization. The event promises to be an unforgettable experience\, with plenty of Sea Dogs alumni in attendance\, including famous NHL players. \nTickets can be purchased Monday to Friday from 9 AM-4:30 PM at the Saint John Sea Dogs Administration Office (located on the second level of TD Station). They are $20+ tax each.
URL:https://uptownsj.com/event/sea-dogs-hall-of-fame/
LOCATION:Imperial Theatre\, 12 King Square S.\, Saint John
CATEGORIES:Community
ORGANIZER;CN="Saint John Sea Dogs":MAILTO:info@sjseadogs.com
END:VEVENT
BEGIN:VEVENT
DTSTART;TZID=America/Halifax:20230623T200000
DTEND;TZID=America/Halifax:20230623T220000
DTSTAMP:20260425T160330
CREATED:20230511T135910Z
LAST-MODIFIED:20230511T135910Z
UID:10002472-1687550400-1687557600@uptownsj.com
SUMMARY:Peter Anthony at Punch Lines Comedy Club
DESCRIPTION:📅June 23rd-24th\n⏰️8pm doors at 7pm\nText 506-647-8338 for tickets! \nPeter Anthony is a Canadian Comedy Award winning comedian (Breakout Artist) and nominee (Best Male Standup) originally from the small town of Pictou\, Nova Scotia. Some of Peter’s credits include Montreal’s Just for Laughs Festival\, CBC’s Halifax ComedyFest\, Toronto’s North by Northeast (NXNE) Festival\, CBC Radio’s The Debaters and television appearances on CBC\, CTV Comedy\, MuchMusic\, and MTV. Outside of the club and festival circuit Peter also performs as a corporate entertainer with past clients including Tim Hortons\, Procter & Gamble\, Bell Mobility\, Maple Leafs Sports and Entertainment Partnership\, and SickKids Hospital.
URL:https://uptownsj.com/event/peter-anthony-at-punch-lines-comedy-club/2023-06-23/
LOCATION:Punch Lines Comedy Club
CATEGORIES:Comedy
END:VEVENT
BEGIN:VEVENT
DTSTART;TZID=America/Halifax:20230623T200000
DTEND;TZID=America/Halifax:20230623T220000
DTSTAMP:20260425T160330
CREATED:20230606T142145Z
LAST-MODIFIED:20230606T142145Z
UID:10003562-1687550400-1687557600@uptownsj.com
SUMMARY:After Office Caribbean Party
DESCRIPTION:Get ready to kick off the summer season in style at the vibrant Caribbean edition of our After Office Party! \nWe are back in Saint John again\, bringing you a sensational evening filled with tropical moves\, new friendships\, and unforgettable moments.\nWhether you’re a seasoned dancer or just starting out\, this event is perfect for everyone. Our expert instructors will lead you through a dynamic fusion of Latin American genres\, showcasing the latest hits in Pop\, Latin Pop\, Reggaeton\, Salsa\, Merengue\, Bachata\, and more! Don’t worry if you’re feeling a little shy or unsure – we’re here to make you feel comfortable and confident on the dance floor. \nNot only will you be having a blast\, but you’ll also be boosting your health and wellness through the joy of dance. It’s the ideal way to unwind after a busy day at work and let loose in a fun-filled environment. \nThe event starts at 8 PM and continues until 10 PM\, but the festivities don’t stop there. Before\, during\, and after the dance sessions\, you can mingle with fellow attendees\, enjoy refreshing drinks\, and make new connections at our lively bar. Plus\, the beats playing in the background will keep you grooving all night long. \nDon’t forget to embrace the summer vibes by DRESSING UP in your favorite beach or summer attire. It’s time to let your hair down\, feel the rhythm\, and soak up the Caribbean atmosphere.\nGrab your tickets now and get ready for an incredible evening of dancing\, laughter\, and making memories that will last a lifetime. Join us at the After Office Caribbean Party and experience the summer season in a whole new way!
URL:https://uptownsj.com/event/after-office-caribbean-party/
LOCATION:Crave Lounge\, 32 Grannan St.\, Saint John\, New Brunswick\, Canada
CATEGORIES:Community,Cultural Event,Live Music,Networking
END:VEVENT
BEGIN:VEVENT
DTSTART;TZID=America/Halifax:20230624T200000
DTEND;TZID=America/Halifax:20230624T220000
DTSTAMP:20260425T160330
CREATED:20230511T135910Z
LAST-MODIFIED:20230511T135910Z
UID:10002473-1687636800-1687644000@uptownsj.com
SUMMARY:Peter Anthony at Punch Lines Comedy Club
DESCRIPTION:📅June 23rd-24th\n⏰️8pm doors at 7pm\nText 506-647-8338 for tickets! \nPeter Anthony is a Canadian Comedy Award winning comedian (Breakout Artist) and nominee (Best Male Standup) originally from the small town of Pictou\, Nova Scotia. Some of Peter’s credits include Montreal’s Just for Laughs Festival\, CBC’s Halifax ComedyFest\, Toronto’s North by Northeast (NXNE) Festival\, CBC Radio’s The Debaters and television appearances on CBC\, CTV Comedy\, MuchMusic\, and MTV. Outside of the club and festival circuit Peter also performs as a corporate entertainer with past clients including Tim Hortons\, Procter & Gamble\, Bell Mobility\, Maple Leafs Sports and Entertainment Partnership\, and SickKids Hospital.
URL:https://uptownsj.com/event/peter-anthony-at-punch-lines-comedy-club/2023-06-24/
LOCATION:Punch Lines Comedy Club
CATEGORIES:Comedy
END:VEVENT
BEGIN:VEVENT
DTSTART;TZID=America/Halifax:20230625T120000
DTEND;TZID=America/Halifax:20230625T140000
DTSTAMP:20260425T160330
CREATED:20230620T120856Z
LAST-MODIFIED:20230620T120856Z
UID:10005369-1687694400-1687701600@uptownsj.com
SUMMARY:In Purrrsuit of Fashion! Fundraising Fashion Show for SPCA
DESCRIPTION:A fashion show unlike any other! Human models will hit the runway wearing Summer styles from In Pursuit while walking with a variety of animals currently available for adoption at our local SPCA!\nThis exciting one of a kind fashion show takes place inside In Pursuit on Sunday\, June 25th starting at 12pm!\nA LIMITED AMOUNT OF TICKETS are available for sale for $25 each. 100% of proceeds from ticket sales will be donated directly to SPCA\nTO PURCHASE:\n– drop by in person at In Pursuit (open Tuesday – Saturday 10 – 5)\n– phone SPCA 506-642-0920\n-Online at https://www.inpursuittruck.ca/products/in-purrrsuit-of-fashion-spca-fashion-show-ticket?fbclid=IwAR1yQiFI5hHYWMJYESH8ncpAipBaLYf0TeNwdj9G-RShKxQCDa_legiWPF4 \n 
URL:https://uptownsj.com/event/in-purrrsuit-of-fashion-fundraising-fashion-show-for-spca/
LOCATION:In Pursuit\, 20 King Street\, Saint John\, NB\, E2L 1G2\, Canada
CATEGORIES:Community,Fundraiser
ORGANIZER;CN="In Pursuit":MAILTO:inpursuittruck@gmail.com
END:VEVENT
END:VCALENDAR