BEGIN:VCALENDAR
VERSION:2.0
PRODID:-//Uptown Saint John - ECPv6.15.20//NONSGML v1.0//EN
CALSCALE:GREGORIAN
METHOD:PUBLISH
X-WR-CALNAME:Uptown Saint John
X-ORIGINAL-URL:https://uptownsj.com
X-WR-CALDESC:Events for Uptown Saint John
REFRESH-INTERVAL;VALUE=DURATION:PT1H
X-Robots-Tag:noindex
X-PUBLISHED-TTL:PT1H
BEGIN:VTIMEZONE
TZID:America/Halifax
BEGIN:DAYLIGHT
TZOFFSETFROM:-0400
TZOFFSETTO:-0300
TZNAME:ADT
DTSTART:20220313T060000
END:DAYLIGHT
BEGIN:STANDARD
TZOFFSETFROM:-0300
TZOFFSETTO:-0400
TZNAME:AST
DTSTART:20221106T050000
END:STANDARD
BEGIN:DAYLIGHT
TZOFFSETFROM:-0400
TZOFFSETTO:-0300
TZNAME:ADT
DTSTART:20230312T060000
END:DAYLIGHT
BEGIN:STANDARD
TZOFFSETFROM:-0300
TZOFFSETTO:-0400
TZNAME:AST
DTSTART:20231105T050000
END:STANDARD
BEGIN:DAYLIGHT
TZOFFSETFROM:-0400
TZOFFSETTO:-0300
TZNAME:ADT
DTSTART:20240310T060000
END:DAYLIGHT
BEGIN:STANDARD
TZOFFSETFROM:-0300
TZOFFSETTO:-0400
TZNAME:AST
DTSTART:20241103T050000
END:STANDARD
END:VTIMEZONE
BEGIN:VEVENT
DTSTART;TZID=America/Halifax:20230530T100000
DTEND;TZID=America/Halifax:20230530T143000
DTSTAMP:20260425T173049
CREATED:20230529T135447Z
LAST-MODIFIED:20230529T135447Z
UID:10003560-1685440800-1685457000@uptownsj.com
SUMMARY:Hounds Around Town
DESCRIPTION:On May 30th the Entrepreneurship and Business students at Saint John High School will he hosting an event called Hounds Around Town. We have been working for many weeks to prepare to welcome over 5000 cruise ship passengers to Saint John. We have partnered with The City Market and various uptown businesses in hopes of highlighting the great things that can happen when partnerships are formed. \nOne of our main features for the tourists are custom tours throughout Uptown where we will take them to local businesses identified on our custom maps. We will be making hundreds of copies of these maps and giving them out to tourists as they disembark from the boat.
URL:https://uptownsj.com/event/hounds-around-town/
LOCATION:New Brunswick
CATEGORIES:Community
END:VEVENT
BEGIN:VEVENT
DTSTART;TZID=America/Halifax:20230531T070000
DTEND;TZID=America/Halifax:20230531T210000
DTSTAMP:20260425T173049
CREATED:20230529T160056Z
LAST-MODIFIED:20230529T160056Z
UID:10003558-1685516400-1685566800@uptownsj.com
SUMMARY:Anthems and Acres // Screening at Art Warehouse
DESCRIPTION:Industrial Parks Collective is pleased to announce a public screening of Anthems and Acres\, a new TV series based in Atlantic Canada\, that pairs diverse musical talent with iconic outdoor locations. The series features performances by Marian\, Sadie\, Loveover\, Kaya\, Lazermortis\, and Joshua Smids. \nThe screening will take place on Wednesday\, May 31 at 7:00pm at The Art Warehouse\, 120 Prince William Street in Saint John\, NB. The screening will include 3 episodes from the series\, with performances by some of the musicians featured in the series. \nThe event will be co-incide with the release of the Anthems and Acres album\, a compilation album with 24 tracks produced from recordings made in the filming for Anthems and Acres. The album includes an exclusive link to view the series on YouTube\, and can be purchased at a discounted price of $15 using the discount code WAREHOUSE until June 30. \nLinks to the album\, a summary of episodes\, bios of artists\,\nand bonus materials can be viewed at: \nAbout the Series
URL:https://uptownsj.com/event/anthems-and-acres-screening-at-art-warehouse/
LOCATION:The Art Warehouse Cafe\, 120 Prince William Street\, Saint John\, New Brunswick\, E2L 2B6\, Canada
CATEGORIES:Cultural Event
ORGANIZER;CN="Industrial Parks Collective":MAILTO:admin@industrialparks.ca
END:VEVENT
BEGIN:VEVENT
DTSTART;TZID=America/Halifax:20230601T163000
DTEND;TZID=America/Halifax:20230601T183000
DTSTAMP:20260425T173049
CREATED:20230523T185329Z
LAST-MODIFIED:20230523T185329Z
UID:10002499-1685637000-1685644200@uptownsj.com
SUMMARY:BBBS Intergenerational Day Open House
DESCRIPTION:Looking for an event that brings people of all ages together in a fun and interactive environment? Look no further than our Celebratory Intergenerational Day drop-in event! Connect\, learn\, win prizes\, and enjoy activities with people from all different generations. There will be opportunities to share stories and learn from others’ experiences. Fostering intergenerational connections can promote understanding\, empathy and respect among people of all ages. Friendship has no age!
URL:https://uptownsj.com/event/bbbs-intergenerational-day-open-house/
LOCATION:Brunswick Square\, 39 King Street\, Saint John\, New Brunswick\, E2L 4V1\, Canada
CATEGORIES:Community,Cultural Event,Networking
ORGANIZER;CN="Big Brothers Big Sisters":MAILTO:laurie.collins@bigbrothersbigsisters.ca
END:VEVENT
BEGIN:VEVENT
DTSTART;TZID=America/Halifax:20230601T210000
DTEND;TZID=America/Halifax:20230601T230000
DTSTAMP:20260425T173049
CREATED:20230529T160141Z
LAST-MODIFIED:20230529T160141Z
UID:10003561-1685653200-1685660400@uptownsj.com
SUMMARY:R.C. Stanley & Love Light Dynamite w/ J.G. Lutes (poet) and Catherine Kennedy
DESCRIPTION:R.C. Stanley & Love Light Dynamite w/ J.G. Lutes (poet) and Catherine Kennedy (NB) will be playing Live at the beautiful Five and Dime in Saint John.\nAfter recently releasing singles “Deadbeat Story (Following Me)” and “Smoke in the Wind” feat Melissa Payne on 7” vinyl\, R.C. Stanley is hitting the road in Atlantic Canada.\nFresh off a solo tour of southern Ontario\, R.C. Stanley brings his band “Love Light Dynamite” to the Five and Dime Stage Thursday\, June 1st. Doors open at 9pm\, followed by performances from Poet J.G. Lutes and NB singer-songwriter Catherine Kennedy.\nTickets are $15 at the door.\nIt will be a splendid evening.
URL:https://uptownsj.com/event/r-c-stanley-love-light-dynamite-w-j-g-lutes-poet-and-catherine-kennedy/
LOCATION:Five and Dime\, Saint John\, New Brunswick\, Canada
CATEGORIES:Live Music
END:VEVENT
BEGIN:VEVENT
DTSTART;TZID=America/Halifax:20230602T200000
DTEND;TZID=America/Halifax:20230602T220000
DTSTAMP:20260425T173049
CREATED:20230511T135847Z
LAST-MODIFIED:20230511T135847Z
UID:10002471-1685736000-1685743200@uptownsj.com
SUMMARY:Juno Winner Jon Dore is back\, one night only!
DESCRIPTION:💥💥💥One night only 💥💥💥\nCOMEDY Legend JON DORE!\n2023 Juno Winner for Best Comedy Album ‘A person who is gingerbread’. Seen on JFL’S\, Conan\, CTV\, Crave and so much more!\n📅June 2nd\n⏰️8pm doors at 7pm\nText 506-647-8338 for tickets 🎟
URL:https://uptownsj.com/event/juno-winner-jon-dore-is-back-one-night-only/
LOCATION:Punch Lines Comedy Club
CATEGORIES:Comedy
END:VEVENT
BEGIN:VEVENT
DTSTART;VALUE=DATE:20230603
DTEND;VALUE=DATE:20230604
DTSTAMP:20260425T173049
CREATED:20230518T180448Z
LAST-MODIFIED:20230518T180448Z
UID:10002489-1685750400-1685836799@uptownsj.com
SUMMARY:STUDIO SATURDAYS @ Mitote
DESCRIPTION:Visit the open door studio/gallery at 1 Charlotte street\, meet the artists\, shop original local artwork and have a behind the scenes look at the creative process as artwork is created live! A bright\, spacious gallery space that features powerful new large scale canvas artworks – a must see in Saint John! \nAll ages welcome / family & pet friendly environment\n1 charlotte street\, Saint John\, NB
URL:https://uptownsj.com/event/studio-saturdays-mitote/2023-06-03/
LOCATION:Mitote Art Gallery\, 1 Charlotte St\, Saint John\, New Brunswick\, E2L 2H3\, Canada
CATEGORIES:Art
END:VEVENT
BEGIN:VEVENT
DTSTART;TZID=America/Halifax:20230604T100000
DTEND;TZID=America/Halifax:20230604T130000
DTSTAMP:20260425T173049
CREATED:20230524T152439Z
LAST-MODIFIED:20230524T152439Z
UID:10002507-1685872800-1685883600@uptownsj.com
SUMMARY:Gutsy Walk - Saint John
DESCRIPTION:ABOUT GUTSY WALK \nOn Sunday\, June 4\, 2023\, celebrate with our community by joining the Saint John Gutsy Walk! \nTo date\, Gutsy Walks across Canada have raised over $50 million to support Crohn’s and Colitis Canada’s critical research and patient support programs\, and it’s all thanks to people like you who sign up to walk with us year after year! \nBy registering for Gutsy Walk\, not only are you helping Crohn’s and Colitis Canada to support people living with inflammatory bowel disease (IBD)\, but there’s some bonuses for you\, too: \n• Raise $100 or more to receive your very own exclusive 2023 Gutsy Walk t-shirt!\n• Join our Top Pledge Earner (TPE) Club by raising $1000 or more to earn awesome year-end prizes \nRegister and fundraise today! By taking part\, you help to grow our community and show them that they are not alone—all while raising the crucial funds needed to one day stop Crohn’s disease and ulcerative colitis. \nStay tuned to this page for important updates about the Saint John 2023 Gutsy Walk. \nJoin team #gutsywalk on social media! \nRegister online: https://gutsywalk.ca/Home.aspx \nRegistration starts at 10AM at Hilton Saint John (lobby). \nWalk starts at 11AM along the Harbour Passage!
URL:https://uptownsj.com/event/gutsy-walk-saint-john/
LOCATION:Harbour Passage\, Saint John\, New Brunswick\, Canada
CATEGORIES:Fundraiser
END:VEVENT
END:VCALENDAR