BEGIN:VCALENDAR
VERSION:2.0
PRODID:-//Uptown Saint John - ECPv6.15.20//NONSGML v1.0//EN
CALSCALE:GREGORIAN
METHOD:PUBLISH
X-WR-CALNAME:Uptown Saint John
X-ORIGINAL-URL:https://uptownsj.com
X-WR-CALDESC:Events for Uptown Saint John
REFRESH-INTERVAL;VALUE=DURATION:PT1H
X-Robots-Tag:noindex
X-PUBLISHED-TTL:PT1H
BEGIN:VTIMEZONE
TZID:America/Halifax
BEGIN:DAYLIGHT
TZOFFSETFROM:-0400
TZOFFSETTO:-0300
TZNAME:ADT
DTSTART:20230312T060000
END:DAYLIGHT
BEGIN:STANDARD
TZOFFSETFROM:-0300
TZOFFSETTO:-0400
TZNAME:AST
DTSTART:20231105T050000
END:STANDARD
BEGIN:DAYLIGHT
TZOFFSETFROM:-0400
TZOFFSETTO:-0300
TZNAME:ADT
DTSTART:20240310T060000
END:DAYLIGHT
BEGIN:STANDARD
TZOFFSETFROM:-0300
TZOFFSETTO:-0400
TZNAME:AST
DTSTART:20241103T050000
END:STANDARD
BEGIN:DAYLIGHT
TZOFFSETFROM:-0400
TZOFFSETTO:-0300
TZNAME:ADT
DTSTART:20250309T060000
END:DAYLIGHT
BEGIN:STANDARD
TZOFFSETFROM:-0300
TZOFFSETTO:-0400
TZNAME:AST
DTSTART:20251102T050000
END:STANDARD
END:VTIMEZONE
BEGIN:VEVENT
DTSTART;TZID=America/Halifax:20240605T190000
DTEND;TZID=America/Halifax:20240605T220000
DTSTAMP:20260421T000225
CREATED:20240527T154039Z
LAST-MODIFIED:20240527T154039Z
UID:10007788-1717614000-1717624800@uptownsj.com
SUMMARY:DJ Snoopadelic\, Warren G\, Classified\, and Merkules
DESCRIPTION:Get ready for the hottest party of the summer! Head over to TD Station on Wednesday\, June 5 to celebrate Classified’s newest album\, Luke’s View. With DJ Snoopadelic (aka Snoop Dogg) on the ones and twos\, Warren G taking it all the way back to the G-Funk era\, and Merkules performing his hits\, you know it’s going to be a party for the ages!
URL:https://uptownsj.com/event/dj-snoopadelic-warren-g-classified-and-merkules/
LOCATION:TD Station\, 99 Station St\, Saint John\, New Brunswick\, E2L 4X4\, Canada
CATEGORIES:Live Music
END:VEVENT
BEGIN:VEVENT
DTSTART;TZID=America/Halifax:20240606T170000
DTEND;TZID=America/Halifax:20240606T190000
DTSTAMP:20260421T000225
CREATED:20240603T125710Z
LAST-MODIFIED:20240603T125710Z
UID:10007800-1717693200-1717700400@uptownsj.com
SUMMARY:Uptown Power Hour
DESCRIPTION:On June 6th\, from 5 pm to 7 pm\, uptown Saint John will be bustling as local businesses unite to support a great cause! The Uptown Power Hour is more than just an evening out-it’s your opportunity to make a tangible difference in the lives of the local cancer survivors and their loved ones. \nEnjoy the best that Uptown Saint John has to offer. Explore local shops\, indulge in delicious meals\, and experience the vibrant atmosphere of our beloved uptown area. \nA portion of proceeds during the Uptown Power Hour will be donated to the Saint John Regional Hospital Foundation to support programs for cancer survivors in our community. \nPlus\, you get a chance to win an Uptown package for every purchase that you make! \nTell your friends\, family\, and neighbours about the Uptown Power Hour! The more people who join us\, the greater the impact we can make. \nSee you there! \nClick the link to view all participating businesses.
URL:https://uptownsj.com/event/uptown-power-hour/
CATEGORIES:Community,Food,Fundraiser
END:VEVENT
END:VCALENDAR