BEGIN:VCALENDAR
VERSION:2.0
PRODID:-//Uptown Saint John - ECPv6.15.20//NONSGML v1.0//EN
CALSCALE:GREGORIAN
METHOD:PUBLISH
X-ORIGINAL-URL:https://uptownsj.com
X-WR-CALDESC:Events for Uptown Saint John
REFRESH-INTERVAL;VALUE=DURATION:PT1H
X-Robots-Tag:noindex
X-PUBLISHED-TTL:PT1H
BEGIN:VTIMEZONE
TZID:America/Halifax
BEGIN:DAYLIGHT
TZOFFSETFROM:-0400
TZOFFSETTO:-0300
TZNAME:ADT
DTSTART:20220313T060000
END:DAYLIGHT
BEGIN:STANDARD
TZOFFSETFROM:-0300
TZOFFSETTO:-0400
TZNAME:AST
DTSTART:20221106T050000
END:STANDARD
BEGIN:DAYLIGHT
TZOFFSETFROM:-0400
TZOFFSETTO:-0300
TZNAME:ADT
DTSTART:20230312T060000
END:DAYLIGHT
BEGIN:STANDARD
TZOFFSETFROM:-0300
TZOFFSETTO:-0400
TZNAME:AST
DTSTART:20231105T050000
END:STANDARD
BEGIN:DAYLIGHT
TZOFFSETFROM:-0400
TZOFFSETTO:-0300
TZNAME:ADT
DTSTART:20240310T060000
END:DAYLIGHT
BEGIN:STANDARD
TZOFFSETFROM:-0300
TZOFFSETTO:-0400
TZNAME:AST
DTSTART:20241103T050000
END:STANDARD
END:VTIMEZONE
BEGIN:VEVENT
DTSTART;TZID=America/Halifax:20230524T173000
DTEND;TZID=America/Halifax:20230524T193000
DTSTAMP:20260425T184045
CREATED:20230524T152355Z
LAST-MODIFIED:20230524T152355Z
UID:10002506-1684949400-1684956600@uptownsj.com
SUMMARY:2SLGBTQIA+ Movie Night and Conversation
DESCRIPTION:Lights\, camera\, conversation! 🎬🌟 Join Chroma and PRUDE for a “Movie Night and Conversation” event. We’ll be screening the thought-provoking short film “I am Samuel”\, which highlights the lived realities of a gay Kenyan man. \nPlus\, enjoy a delicious supper provided by us\, and participate in our Door Prize game for a chance to win exciting prizes! Don’t miss out on this amazing event. Register now through the QR code provided and join us for an unforgettable evening. See you there! 🎉 \nREGISTER HERE ▶️ https://forms.gle/PAfVvrQCrpNcoWch6 \nFacebook event▶️bit.ly/42IAQu9 \n#queerNB #lgbt #gay #lgbtq #pride #loveislove #lesbian #love #queer #bisexual #trans #transgender #lgbtqia #lgbtpride #nonbinary #bi #african #kenya
URL:https://uptownsj.com/event/2slgbtqia-movie-night-and-conversation/
LOCATION:Sanctuary Theatre\, 165 Union Street\, Saint John\, New Brunswick\, E2L 5C7\, Canada
CATEGORIES:Art,Community,Food,Theatre
ORGANIZER;CN="Chroma NB":MAILTO:query@chroma.ca
END:VEVENT
BEGIN:VEVENT
DTSTART;VALUE=DATE:20230527
DTEND;VALUE=DATE:20230528
DTSTAMP:20260425T184045
CREATED:20230509T194056Z
LAST-MODIFIED:20230509T194056Z
UID:10002469-1685145600-1685231999@uptownsj.com
SUMMARY:New Brunswick Museum Boutique - Spring into Summer
DESCRIPTION:Come visit the New Brunswick Museum Boutique at our new location on the 2nd level of Brunswick Square\, where we will be giving away sample bags of delicious\, NB produced\, coffee by @saltwindscoffeecompany! We will also be giving out Boutique gift cards to 10 lucky shoppers. Shop local & buy unique at the New Brunswick Museum Boutique!
URL:https://uptownsj.com/event/new-brunswick-museum-boutique-spring-into-summer/
LOCATION:Museum Boutique\, Brunswick Square\, Saint John\, New Brunswick\, E2L 4W3
END:VEVENT
BEGIN:VEVENT
DTSTART;TZID=America/Halifax:20230528T110000
DTEND;TZID=America/Halifax:20230528T130000
DTSTAMP:20260425T184045
CREATED:20230512T121814Z
LAST-MODIFIED:20230517T114546Z
UID:10002479-1685271600-1685278800@uptownsj.com
SUMMARY:Brushes & Bubbly
DESCRIPTION:Mom deserves to be celebrated on more than one day! Give her the gift of joy and creativity with a paintbrush in one hand and a ‘mom’osa in the other! \nJoin us for a fun-filled afternoon of painting\, sipping\, and socializing! Unleash your inner artist as we guide you through a step-by-step painting session. No experience necessary! \nSupplies and momosas will be provided. All you need to bring is your creativity and a positive ‘tude! Don’t miss out on this exciting event. Reserve your spot today! Date changed\, now happening May 28th
URL:https://uptownsj.com/event/brushes-bubbly/
LOCATION:Saint John Ale House
CATEGORIES:Art,Community,Networking,Workshop
ORGANIZER;CN="Corinne Monique":MAILTO:info@corinnemonique.com
END:VEVENT
END:VCALENDAR