BEGIN:VCALENDAR
VERSION:2.0
PRODID:-//Uptown Saint John - ECPv6.15.20//NONSGML v1.0//EN
CALSCALE:GREGORIAN
METHOD:PUBLISH
X-ORIGINAL-URL:https://uptownsj.com
X-WR-CALDESC:Events for Uptown Saint John
REFRESH-INTERVAL;VALUE=DURATION:PT1H
X-Robots-Tag:noindex
X-PUBLISHED-TTL:PT1H
BEGIN:VTIMEZONE
TZID:America/Halifax
BEGIN:DAYLIGHT
TZOFFSETFROM:-0400
TZOFFSETTO:-0300
TZNAME:ADT
DTSTART:20230312T060000
END:DAYLIGHT
BEGIN:STANDARD
TZOFFSETFROM:-0300
TZOFFSETTO:-0400
TZNAME:AST
DTSTART:20231105T050000
END:STANDARD
BEGIN:DAYLIGHT
TZOFFSETFROM:-0400
TZOFFSETTO:-0300
TZNAME:ADT
DTSTART:20240310T060000
END:DAYLIGHT
BEGIN:STANDARD
TZOFFSETFROM:-0300
TZOFFSETTO:-0400
TZNAME:AST
DTSTART:20241103T050000
END:STANDARD
BEGIN:DAYLIGHT
TZOFFSETFROM:-0400
TZOFFSETTO:-0300
TZNAME:ADT
DTSTART:20250309T060000
END:DAYLIGHT
BEGIN:STANDARD
TZOFFSETFROM:-0300
TZOFFSETTO:-0400
TZNAME:AST
DTSTART:20251102T050000
END:STANDARD
END:VTIMEZONE
BEGIN:VEVENT
DTSTART;TZID=America/Halifax:20240510T200000
DTEND;TZID=America/Halifax:20240510T220000
DTSTAMP:20260420T194707
CREATED:20240503T120305Z
LAST-MODIFIED:20240503T120305Z
UID:10007269-1715371200-1715378400@uptownsj.com
SUMMARY:DRAG me to the 2000’s
DESCRIPTION:Welcome to DRAG me to the 2000’s!! A Y2K Themed drag show hosted by Dahlia Dior with pertormances by Justin TooDeep\, Dia Monde and Sabrina Knox this is a night you WONT wanna miss!! The show is held at Crave Lounge in Uptown Saint John\, meaning Government Issued ID is required upon arrival!! See you May 10th 8pm-10pm
URL:https://uptownsj.com/event/drag-me-to-the-2000s/
LOCATION:Crave Lounge\, 32 Grannan St.\, Saint John\, New Brunswick\, Canada
END:VEVENT
END:VCALENDAR