BEGIN:VCALENDAR
VERSION:2.0
PRODID:-//Uptown Saint John - ECPv6.15.20//NONSGML v1.0//EN
CALSCALE:GREGORIAN
METHOD:PUBLISH
X-WR-CALNAME:Uptown Saint John
X-ORIGINAL-URL:https://uptownsj.com
X-WR-CALDESC:Events for Uptown Saint John
REFRESH-INTERVAL;VALUE=DURATION:PT1H
X-Robots-Tag:noindex
X-PUBLISHED-TTL:PT1H
BEGIN:VTIMEZONE
TZID:America/Halifax
BEGIN:DAYLIGHT
TZOFFSETFROM:-0400
TZOFFSETTO:-0300
TZNAME:ADT
DTSTART:20220313T060000
END:DAYLIGHT
BEGIN:STANDARD
TZOFFSETFROM:-0300
TZOFFSETTO:-0400
TZNAME:AST
DTSTART:20221106T050000
END:STANDARD
BEGIN:DAYLIGHT
TZOFFSETFROM:-0400
TZOFFSETTO:-0300
TZNAME:ADT
DTSTART:20230312T060000
END:DAYLIGHT
BEGIN:STANDARD
TZOFFSETFROM:-0300
TZOFFSETTO:-0400
TZNAME:AST
DTSTART:20231105T050000
END:STANDARD
BEGIN:DAYLIGHT
TZOFFSETFROM:-0400
TZOFFSETTO:-0300
TZNAME:ADT
DTSTART:20240310T060000
END:DAYLIGHT
BEGIN:STANDARD
TZOFFSETFROM:-0300
TZOFFSETTO:-0400
TZNAME:AST
DTSTART:20241103T050000
END:STANDARD
END:VTIMEZONE
BEGIN:VEVENT
DTSTART;TZID=America/Halifax:20231201T160000
DTEND;TZID=America/Halifax:20231201T210000
DTSTAMP:20260422T221246
CREATED:20231121T151229Z
LAST-MODIFIED:20231121T151229Z
UID:10005698-1701446400-1701464400@uptownsj.com
SUMMARY:Together Designs - Uptown Sparkles
DESCRIPTION:Uptown Sparkles \nCome join us for a great social with snacks and drinks \, sales \, door prizes and so much more!! \nYou will meet our owner/designer Lynn Rice and her Team!! We would love to help you find your “go to” piece to match your personal style!! \nDid you know that we design and make 90% of our products right here in our store? Yes!!! We do !!! \n175 Prince William Street
URL:https://uptownsj.com/event/together-designs-uptown-sparkles/
CATEGORIES:Uptown Sparkles
END:VEVENT
BEGIN:VEVENT
DTSTART;TZID=America/Halifax:20231201T170000
DTEND;TZID=America/Halifax:20231202T180000
DTSTAMP:20260422T221246
CREATED:20231128T201835Z
LAST-MODIFIED:20231128T201835Z
UID:10005717-1701450000-1701540000@uptownsj.com
SUMMARY:Cricket Cove - UPTOWN Sparkles
DESCRIPTION:Drop by Cricket Cove to see Gingerbread House\,\nto hear Christmas by guitarist Grant\,\nto taste a wrapped chocolate\,\nto touch yarn as you knit a stitch – row – loop for our Annual Christmas Garland\,\nto hope that your entry with a purchase will win you our 2023 ‘PEACE on EARTH’ CHRISTMAS BOX ♥\,\nto say ‘hello ‘.
URL:https://uptownsj.com/event/cricket-cove-uptown-sparkles-2/
LOCATION:Cricket Cove\, 39 King Street\, Brunswick Square Mall Level 2\, Saint John\, New Brunswick\, E2L 4W3\, Canada
CATEGORIES:Community
ORGANIZER;CN="Cricket  Cove":MAILTO:sjcricketcove@hotmail.com
END:VEVENT
END:VCALENDAR