BEGIN:VCALENDAR
VERSION:2.0
PRODID:-//Uptown Saint John - ECPv6.15.20//NONSGML v1.0//EN
CALSCALE:GREGORIAN
METHOD:PUBLISH
X-ORIGINAL-URL:https://uptownsj.com
X-WR-CALDESC:Events for Uptown Saint John
REFRESH-INTERVAL;VALUE=DURATION:PT1H
X-Robots-Tag:noindex
X-PUBLISHED-TTL:PT1H
BEGIN:VTIMEZONE
TZID:America/Halifax
BEGIN:DAYLIGHT
TZOFFSETFROM:-0400
TZOFFSETTO:-0300
TZNAME:ADT
DTSTART:20220313T060000
END:DAYLIGHT
BEGIN:STANDARD
TZOFFSETFROM:-0300
TZOFFSETTO:-0400
TZNAME:AST
DTSTART:20221106T050000
END:STANDARD
BEGIN:DAYLIGHT
TZOFFSETFROM:-0400
TZOFFSETTO:-0300
TZNAME:ADT
DTSTART:20230312T060000
END:DAYLIGHT
BEGIN:STANDARD
TZOFFSETFROM:-0300
TZOFFSETTO:-0400
TZNAME:AST
DTSTART:20231105T050000
END:STANDARD
BEGIN:DAYLIGHT
TZOFFSETFROM:-0400
TZOFFSETTO:-0300
TZNAME:ADT
DTSTART:20240310T060000
END:DAYLIGHT
BEGIN:STANDARD
TZOFFSETFROM:-0300
TZOFFSETTO:-0400
TZNAME:AST
DTSTART:20241103T050000
END:STANDARD
END:VTIMEZONE
BEGIN:VEVENT
DTSTART;TZID=America/Halifax:20230528T110000
DTEND;TZID=America/Halifax:20230528T130000
DTSTAMP:20260425T103714
CREATED:20230512T121814Z
LAST-MODIFIED:20230517T114546Z
UID:10002479-1685271600-1685278800@uptownsj.com
SUMMARY:Brushes & Bubbly
DESCRIPTION:Mom deserves to be celebrated on more than one day! Give her the gift of joy and creativity with a paintbrush in one hand and a ‘mom’osa in the other! \nJoin us for a fun-filled afternoon of painting\, sipping\, and socializing! Unleash your inner artist as we guide you through a step-by-step painting session. No experience necessary! \nSupplies and momosas will be provided. All you need to bring is your creativity and a positive ‘tude! Don’t miss out on this exciting event. Reserve your spot today! Date changed\, now happening May 28th
URL:https://uptownsj.com/event/brushes-bubbly/
LOCATION:Saint John Ale House
CATEGORIES:Art,Community,Networking,Workshop
ORGANIZER;CN="Corinne Monique":MAILTO:info@corinnemonique.com
END:VEVENT
END:VCALENDAR