BEGIN:VCALENDAR
VERSION:2.0
PRODID:-//Uptown Saint John - ECPv6.15.20//NONSGML v1.0//EN
CALSCALE:GREGORIAN
METHOD:PUBLISH
X-WR-CALNAME:Uptown Saint John
X-ORIGINAL-URL:https://uptownsj.com
X-WR-CALDESC:Events for Uptown Saint John
REFRESH-INTERVAL;VALUE=DURATION:PT1H
X-Robots-Tag:noindex
X-PUBLISHED-TTL:PT1H
BEGIN:VTIMEZONE
TZID:America/Halifax
BEGIN:DAYLIGHT
TZOFFSETFROM:-0400
TZOFFSETTO:-0300
TZNAME:ADT
DTSTART:20220313T060000
END:DAYLIGHT
BEGIN:STANDARD
TZOFFSETFROM:-0300
TZOFFSETTO:-0400
TZNAME:AST
DTSTART:20221106T050000
END:STANDARD
BEGIN:DAYLIGHT
TZOFFSETFROM:-0400
TZOFFSETTO:-0300
TZNAME:ADT
DTSTART:20230312T060000
END:DAYLIGHT
BEGIN:STANDARD
TZOFFSETFROM:-0300
TZOFFSETTO:-0400
TZNAME:AST
DTSTART:20231105T050000
END:STANDARD
BEGIN:DAYLIGHT
TZOFFSETFROM:-0400
TZOFFSETTO:-0300
TZNAME:ADT
DTSTART:20240310T060000
END:DAYLIGHT
BEGIN:STANDARD
TZOFFSETFROM:-0300
TZOFFSETTO:-0400
TZNAME:AST
DTSTART:20241103T050000
END:STANDARD
END:VTIMEZONE
BEGIN:VEVENT
DTSTART;TZID=America/Halifax:20230617T120000
DTEND;TZID=America/Halifax:20230617T160000
DTSTAMP:20260424T175627
CREATED:20230608T123151Z
LAST-MODIFIED:20230608T123151Z
UID:10003565-1687003200-1687017600@uptownsj.com
SUMMARY:Brick City Barber's Father's Day Weekend Block Party!
DESCRIPTION:Look out for that special someone on HIS weekend! \nStop by for free food\, music\, giveaways\, good vibes\, and fun at Brick City Barbers! We’ll be offering Father and Son specials\, a draw for prizes\, special gifts\, and more! Come join us to both celebrate and be appreciated on your day. Or grab a gift for the Dad in your life! The food and fun is on us\, and voluntary donations are always welcome. It will all be going to the Saint John Boys & Girls Club!
URL:https://uptownsj.com/event/brick-city-barbers-fathers-day-weekend-block-party/
LOCATION:Brick City Barber’s\, 72 Germain Street\, Saint John\, New Brunswick\, E2L 2E7\, Canada
CATEGORIES:Community,Food,Free,Fundraiser
ORGANIZER;CN="Corinne Monique":MAILTO:info@corinnemonique.com
END:VEVENT
END:VCALENDAR