BEGIN:VCALENDAR
VERSION:2.0
PRODID:-//Uptown Saint John - ECPv6.15.20//NONSGML v1.0//EN
CALSCALE:GREGORIAN
METHOD:PUBLISH
X-ORIGINAL-URL:https://uptownsj.com
X-WR-CALDESC:Events for Uptown Saint John
REFRESH-INTERVAL;VALUE=DURATION:PT1H
X-Robots-Tag:noindex
X-PUBLISHED-TTL:PT1H
BEGIN:VTIMEZONE
TZID:America/Halifax
BEGIN:DAYLIGHT
TZOFFSETFROM:-0400
TZOFFSETTO:-0300
TZNAME:ADT
DTSTART:20210314T060000
END:DAYLIGHT
BEGIN:STANDARD
TZOFFSETFROM:-0300
TZOFFSETTO:-0400
TZNAME:AST
DTSTART:20211107T050000
END:STANDARD
BEGIN:DAYLIGHT
TZOFFSETFROM:-0400
TZOFFSETTO:-0300
TZNAME:ADT
DTSTART:20220313T060000
END:DAYLIGHT
BEGIN:STANDARD
TZOFFSETFROM:-0300
TZOFFSETTO:-0400
TZNAME:AST
DTSTART:20221106T050000
END:STANDARD
BEGIN:DAYLIGHT
TZOFFSETFROM:-0400
TZOFFSETTO:-0300
TZNAME:ADT
DTSTART:20230312T060000
END:DAYLIGHT
BEGIN:STANDARD
TZOFFSETFROM:-0300
TZOFFSETTO:-0400
TZNAME:AST
DTSTART:20231105T050000
END:STANDARD
END:VTIMEZONE
BEGIN:VEVENT
DTSTART;TZID=America/Halifax:20221202T170000
DTEND;TZID=America/Halifax:20221202T210000
DTSTAMP:20260425T230712
CREATED:20221125T195542Z
LAST-MODIFIED:20221125T195542Z
UID:10000180-1670000400-1670014800@uptownsj.com
SUMMARY:Element5 Sparkles
DESCRIPTION:We have been planning something extra special✨ for Uptown Sparkles as it falls on the 5 year anniversary of Tracey MacDonald purchasing Element5!!! \nWe will have – \nPrizes with every retail purchase!\nDiscounts on every retail purchase over $30!\nMini spa services with a donation to a local charity! \nAND to celebrate our 5 year anniversary we are giving everyone who makes a purchase or has a mini spa service the chance to WIN one of FIVE draws for Aveda products and services!!!!! \nMake sure to stop in and see us on December 2nd from 5pm-9pm!
URL:https://uptownsj.com/event/element5-sparkles/
LOCATION:Element5 Spa & Salon\, 1 Market Square\, 2nd level\, Saint John\, NB\, E2L 4Z6\, Canada
CATEGORIES:Uptown Sparkles
ORGANIZER;CN="Element5 Spa &amp%3B Salon":MAILTO:spa@element5spa.ca
END:VEVENT
BEGIN:VEVENT
DTSTART;TZID=America/Halifax:20221202T180000
DTEND;TZID=America/Halifax:20221202T210000
DTSTAMP:20260425T230712
CREATED:20221117T133848Z
LAST-MODIFIED:20221117T133848Z
UID:10000169-1670004000-1670014800@uptownsj.com
SUMMARY:CHAVAH LINDSAY: Uptown Sparkles Open Studio
DESCRIPTION:Join us for our first open studio event at 62 Water Street! Enjoy holiday treats\, try on sample gowns\, and shop off-the-rack dresses at 20% off! Cinnamon Fern will be popping up with a selection of their jewelry + art.
URL:https://uptownsj.com/event/chavah-lindsay-uptown-sparkles-open-studio/
END:VEVENT
BEGIN:VEVENT
DTSTART;TZID=America/Halifax:20221210T130000
DTEND;TZID=America/Halifax:20221210T180000
DTSTAMP:20260425T230712
CREATED:20221128T131038Z
LAST-MODIFIED:20221128T131038Z
UID:10000188-1670677200-1670695200@uptownsj.com
SUMMARY:Hippie Holidaze Market
DESCRIPTION:Give the gift of thrift\, vintage and locally made this season! Join us for sustainable shopping (over 20 local and Canadian businesses to chose from)\, cookie decorating and bracelet making stations\, bonfires\, holiday drinks\, and more! \nThis market is hosted by The Kindness Closet and a portion of all proceeds will go towards 2023 programming.
URL:https://uptownsj.com/event/hippie-holidaze-market/
LOCATION:North Market St\, 17 N Market St\, Saint John\, Canada
CATEGORIES:Community,Fundraiser
ATTACH;FMTTYPE=image/png:https://uptownsj.com/wp-content/uploads/2022/11/Hippie-Holidaze-Poster.png
ORGANIZER;CN="The Kindness Closet":MAILTO:courtney@thekindnesscloset.ca
END:VEVENT
END:VCALENDAR