BEGIN:VCALENDAR
VERSION:2.0
PRODID:-//Uptown Saint John - ECPv6.15.20//NONSGML v1.0//EN
CALSCALE:GREGORIAN
METHOD:PUBLISH
X-WR-CALNAME:Uptown Saint John
X-ORIGINAL-URL:https://uptownsj.com
X-WR-CALDESC:Events for Uptown Saint John
REFRESH-INTERVAL;VALUE=DURATION:PT1H
X-Robots-Tag:noindex
X-PUBLISHED-TTL:PT1H
BEGIN:VTIMEZONE
TZID:America/Halifax
BEGIN:DAYLIGHT
TZOFFSETFROM:-0400
TZOFFSETTO:-0300
TZNAME:ADT
DTSTART:20250309T060000
END:DAYLIGHT
BEGIN:STANDARD
TZOFFSETFROM:-0300
TZOFFSETTO:-0400
TZNAME:AST
DTSTART:20251102T050000
END:STANDARD
BEGIN:DAYLIGHT
TZOFFSETFROM:-0400
TZOFFSETTO:-0300
TZNAME:ADT
DTSTART:20260308T060000
END:DAYLIGHT
BEGIN:STANDARD
TZOFFSETFROM:-0300
TZOFFSETTO:-0400
TZNAME:AST
DTSTART:20261101T050000
END:STANDARD
BEGIN:DAYLIGHT
TZOFFSETFROM:-0400
TZOFFSETTO:-0300
TZNAME:ADT
DTSTART:20270314T060000
END:DAYLIGHT
BEGIN:STANDARD
TZOFFSETFROM:-0300
TZOFFSETTO:-0400
TZNAME:AST
DTSTART:20271107T050000
END:STANDARD
END:VTIMEZONE
BEGIN:VEVENT
DTSTART;TZID=America/Halifax:20260218T193000
DTEND;TZID=America/Halifax:20260218T220000
DTSTAMP:20260419T223212
CREATED:20250617T133623Z
LAST-MODIFIED:20250617T133623Z
UID:10012646-1771443000-1771452000@uptownsj.com
SUMMARY:Atlantic Ballet: Don Juan
DESCRIPTION:Unprincipled lothario or hopeless romantic? Igor Dobrovolskiy’s lighthearted contemporary ballet takes a witty and fresh look at the legend of one of history’s most flamboyant characters. \nA dazzling fusion of inventive sets\, exquisite lighting and sparkling choreography set to the music of George Gershwin\, deliver the perfect setting for the virtuosity and athleticism of the dancers of Atlantic Ballet Atlantique Canada. Costumes created by Denis Lavoie\, who designed Mick Jagger’s wardrobe for the Voodoo Lounge Tour\, completely capture the outrageous and playful mood of this vividly theatrical farce. \nMusic – George Gershwin\nDramaturge – Sharon Pollock\nCostume Design – Denis Lavoie\nLighting Design – Pierre Lavoie
URL:https://uptownsj.com/event/atlantic-ballet-don-juan/
LOCATION:Imperial Theatre\, 12 King Square S.\, Saint John
CATEGORIES:Art
ATTACH;FMTTYPE=image/png:https://uptownsj.com/wp-content/uploads/2025/06/Don-Juan.png
END:VEVENT
BEGIN:VEVENT
DTSTART;TZID=America/Halifax:20260218T200000
DTEND;TZID=America/Halifax:20260219T000000
DTSTAMP:20260419T223212
CREATED:20250819T121317Z
LAST-MODIFIED:20250819T121317Z
UID:10013875-1771444800-1771459200@uptownsj.com
SUMMARY:Open Mic Night at O’Leary’s Pub
DESCRIPTION:Join us at O’Leary’s Pub for Open Mic Night\, hosted by Brent Mason and Aaron Gunn\, at Saint John’s oldest Irish pub! Whether you’re performing or just enjoying the local talent\, spend the evening immersed in music\, stories\, and East Coast charm. \nThis weekly tradition has been bringing local artists together since 1992\, promising surprises\, laughs\, and unforgettable performances. Grab a pint\, soak in the atmosphere\, and celebrate Saint John’s vibrant creative community.
URL:https://uptownsj.com/event/open-mic-night-at-olearys-pub-2/2026-02-18/
LOCATION:O’Leary’s Pub\, 46 Princess Street\, Saint John\, E2L 1K2
CATEGORIES:Live Music
ATTACH;FMTTYPE=image/png:https://uptownsj.com/wp-content/uploads/2025/08/Open-Mic-Night.png
ORGANIZER;CN="O'Leary's Pub":MAILTO:olearyspub@gmail.com
END:VEVENT
BEGIN:VEVENT
DTSTART;TZID=America/Halifax:20260219T193000
DTEND;TZID=America/Halifax:20260219T220000
DTSTAMP:20260419T223212
CREATED:20250617T132853Z
LAST-MODIFIED:20250617T132853Z
UID:10012648-1771529400-1771538400@uptownsj.com
SUMMARY:Nomfusi
DESCRIPTION:She was born in the township of KwaZakhele in the Eastern Cape and raised by her single mother named Kwazibani (which means “Who Knows?” in Xhosa) while her father was serving a 21-year prison sentence. A domestic worker by day\, Kwazibani was a “Sangoma” or “African medicine woman” with a natural gift for music. Nomfusi would accompany her mother to weekly Sangoma rituals known as “Intlombe\,” where she soon developed a love for performing and crafted her artistic identity by dancing and singing for hours. \nTragically in 1998\, Nomfusi was suddenly orphaned at age twelve when she lost her mother to HIV/AIDS. Nomfusi’s aunt took her and her siblings in\, but sadly also succumbed to the same deadly disease three years later. Undeterred by the hand she was dealt at such a young age\, Nomfusi turned her situation around to become one of South Africa’s brightest\, most recognizable stars. Never one for self-pity\, Nomfusi strives to inspire others with her worldview that “life is about choices” and that “one has to overcome the poverty of the mind first.” Her compassion has led her to doing outreach work at schools for at-risk youth in Soweto\, Swaziland\, and Malawi\, and creating opportunities she didn’t have for the next generation. Additionally\, she recently became an ambassador for MES\, a Hillbrow-based NPO that helps homeless individuals get back on their feet and reintegrate into society.
URL:https://uptownsj.com/event/nomfusi/
LOCATION:Imperial Theatre\, 12 King Square S.\, Saint John
CATEGORIES:Live Music
ATTACH;FMTTYPE=image/png:https://uptownsj.com/wp-content/uploads/2025/06/Nomfusi.png
END:VEVENT
BEGIN:VEVENT
DTSTART;TZID=America/Halifax:20260219T210000
DTEND;TZID=America/Halifax:20260220T000000
DTSTAMP:20260419T223212
CREATED:20250819T121248Z
LAST-MODIFIED:20250819T121248Z
UID:10014135-1771534800-1771545600@uptownsj.com
SUMMARY:Sarahtonein at O’Leary’s Pub
DESCRIPTION:Thursdays just got a whole lot better! Sarahtonein is taking the stage with raw vocals and infectious energy\, serving up a night full of music\, laughs\, and East Coast charm. Come for the tunes\, stay for the good times—and don’t forget your pint! \n19+ | No cover charge
URL:https://uptownsj.com/event/sarahtonein-at-olearys-pub/2026-02-19/
LOCATION:O’Leary’s Pub\, 46 Princess Street\, Saint John\, E2L 1K2
CATEGORIES:Live Music
ATTACH;FMTTYPE=image/png:https://uptownsj.com/wp-content/uploads/2025/08/Thursday-Sarahtonein.png
ORGANIZER;CN="O'Leary's Pub":MAILTO:olearyspub@gmail.com
END:VEVENT
BEGIN:VEVENT
DTSTART;TZID=America/Halifax:20260220T163000
DTEND;TZID=America/Halifax:20260220T183000
DTSTAMP:20260419T223212
CREATED:20260105T130337Z
LAST-MODIFIED:20260105T175603Z
UID:10016771-1771605000-1771612200@uptownsj.com
SUMMARY:MIX Live Music and Cocktails Friday
DESCRIPTION:A vibrant Friday night gathering featuring live performances from talented local musicians paired with an exclusive cocktail and bites menu\, designed to elevate the weekend experience. This event will celebrate community\, music\, and hospitality\, while showcasing Saint John’s best local talent in an upscale yet inviting setting. Located at the Mezzanine level of Delta Hotels by Marriott Saint John.
URL:https://uptownsj.com/event/mix-live-music-and-cocktails-friday/2026-02-20/
LOCATION:MIX Resto | Bar\, 39 King Street\, Saint John\, E2L 4W3\, Canada
CATEGORIES:Live Music
ATTACH;FMTTYPE=image/jpeg:https://uptownsj.com/wp-content/uploads/2026/01/MIX.jpg
END:VEVENT
END:VCALENDAR