BEGIN:VCALENDAR
VERSION:2.0
PRODID:-//Uptown Saint John - ECPv6.15.20//NONSGML v1.0//EN
CALSCALE:GREGORIAN
METHOD:PUBLISH
X-WR-CALNAME:Uptown Saint John
X-ORIGINAL-URL:https://uptownsj.com
X-WR-CALDESC:Events for Uptown Saint John
REFRESH-INTERVAL;VALUE=DURATION:PT1H
X-Robots-Tag:noindex
X-PUBLISHED-TTL:PT1H
BEGIN:VTIMEZONE
TZID:America/Halifax
BEGIN:DAYLIGHT
TZOFFSETFROM:-0400
TZOFFSETTO:-0300
TZNAME:ADT
DTSTART:20250309T060000
END:DAYLIGHT
BEGIN:STANDARD
TZOFFSETFROM:-0300
TZOFFSETTO:-0400
TZNAME:AST
DTSTART:20251102T050000
END:STANDARD
BEGIN:DAYLIGHT
TZOFFSETFROM:-0400
TZOFFSETTO:-0300
TZNAME:ADT
DTSTART:20260308T060000
END:DAYLIGHT
BEGIN:STANDARD
TZOFFSETFROM:-0300
TZOFFSETTO:-0400
TZNAME:AST
DTSTART:20261101T050000
END:STANDARD
BEGIN:DAYLIGHT
TZOFFSETFROM:-0400
TZOFFSETTO:-0300
TZNAME:ADT
DTSTART:20270314T060000
END:DAYLIGHT
BEGIN:STANDARD
TZOFFSETFROM:-0300
TZOFFSETTO:-0400
TZNAME:AST
DTSTART:20271107T050000
END:STANDARD
END:VTIMEZONE
BEGIN:VEVENT
DTSTART;TZID=America/Halifax:20260204T200000
DTEND;TZID=America/Halifax:20260205T000000
DTSTAMP:20260419T223224
CREATED:20250819T121317Z
LAST-MODIFIED:20250819T121317Z
UID:10013873-1770235200-1770249600@uptownsj.com
SUMMARY:Open Mic Night at O’Leary’s Pub
DESCRIPTION:Join us at O’Leary’s Pub for Open Mic Night\, hosted by Brent Mason and Aaron Gunn\, at Saint John’s oldest Irish pub! Whether you’re performing or just enjoying the local talent\, spend the evening immersed in music\, stories\, and East Coast charm. \nThis weekly tradition has been bringing local artists together since 1992\, promising surprises\, laughs\, and unforgettable performances. Grab a pint\, soak in the atmosphere\, and celebrate Saint John’s vibrant creative community.
URL:https://uptownsj.com/event/open-mic-night-at-olearys-pub-2/2026-02-04/
LOCATION:O’Leary’s Pub\, 46 Princess Street\, Saint John\, E2L 1K2
CATEGORIES:Live Music
ATTACH;FMTTYPE=image/png:https://uptownsj.com/wp-content/uploads/2025/08/Open-Mic-Night.png
ORGANIZER;CN="O'Leary's Pub":MAILTO:olearyspub@gmail.com
END:VEVENT
BEGIN:VEVENT
DTSTART;TZID=America/Halifax:20260205T210000
DTEND;TZID=America/Halifax:20260206T000000
DTSTAMP:20260419T223224
CREATED:20250819T121248Z
LAST-MODIFIED:20250819T121248Z
UID:10014133-1770325200-1770336000@uptownsj.com
SUMMARY:Sarahtonein at O’Leary’s Pub
DESCRIPTION:Thursdays just got a whole lot better! Sarahtonein is taking the stage with raw vocals and infectious energy\, serving up a night full of music\, laughs\, and East Coast charm. Come for the tunes\, stay for the good times—and don’t forget your pint! \n19+ | No cover charge
URL:https://uptownsj.com/event/sarahtonein-at-olearys-pub/2026-02-05/
LOCATION:O’Leary’s Pub\, 46 Princess Street\, Saint John\, E2L 1K2
CATEGORIES:Live Music
ATTACH;FMTTYPE=image/png:https://uptownsj.com/wp-content/uploads/2025/08/Thursday-Sarahtonein.png
ORGANIZER;CN="O'Leary's Pub":MAILTO:olearyspub@gmail.com
END:VEVENT
BEGIN:VEVENT
DTSTART;TZID=America/Halifax:20260206T163000
DTEND;TZID=America/Halifax:20260206T183000
DTSTAMP:20260419T223224
CREATED:20260105T130337Z
LAST-MODIFIED:20260105T175603Z
UID:10016769-1770395400-1770402600@uptownsj.com
SUMMARY:MIX Live Music and Cocktails Friday
DESCRIPTION:A vibrant Friday night gathering featuring live performances from talented local musicians paired with an exclusive cocktail and bites menu\, designed to elevate the weekend experience. This event will celebrate community\, music\, and hospitality\, while showcasing Saint John’s best local talent in an upscale yet inviting setting. Located at the Mezzanine level of Delta Hotels by Marriott Saint John.
URL:https://uptownsj.com/event/mix-live-music-and-cocktails-friday/2026-02-06/
LOCATION:MIX Resto | Bar\, 39 King Street\, Saint John\, E2L 4W3\, Canada
CATEGORIES:Live Music
ATTACH;FMTTYPE=image/jpeg:https://uptownsj.com/wp-content/uploads/2026/01/MIX.jpg
END:VEVENT
BEGIN:VEVENT
DTSTART;TZID=America/Halifax:20260206T193000
DTEND;TZID=America/Halifax:20260206T220000
DTSTAMP:20260419T223224
CREATED:20250617T133838Z
LAST-MODIFIED:20250617T133838Z
UID:10012639-1770406200-1770415200@uptownsj.com
SUMMARY:A Perfectly Reasonable Night of Comedy
DESCRIPTION:Step out of the house for an unforgettable evening with Peter Oldring and Pat Kelly (CBC Radio’s This is That) as they reunite with Carolyn Taylor (Baroness von Sketch Show). These comedy powerhouses come together for the first time since their early days at The Second City to deliver a delightfully absurd and wildly entertaining variety show. Presenting a little bit of what made This is That and Baroness von Sketch so\nspecial\, your algorithm has no business being in the theatre during this evening when these seasoned comedians launch into their exceedingly reasonable evening of comedy. Don’t miss this rare and hysterical reunion.
URL:https://uptownsj.com/event/a-perfectly-reasonable-night-of-comedy/
LOCATION:Imperial Theatre\, 12 King Square S.\, Saint John
CATEGORIES:Comedy,Theatre
ATTACH;FMTTYPE=image/png:https://uptownsj.com/wp-content/uploads/2025/06/A-Perfectly-reasonable-Night-1024x576-1.png
END:VEVENT
BEGIN:VEVENT
DTSTART;TZID=America/Halifax:20260206T193000
DTEND;TZID=America/Halifax:20260206T230000
DTSTAMP:20260419T223224
CREATED:20260203T121918Z
LAST-MODIFIED:20260203T121918Z
UID:10025940-1770406200-1770418800@uptownsj.com
SUMMARY:Art Battle Saint John
DESCRIPTION:Welcome 2026 with AB Saint John @ Kent Theatre!\n\nBe a part of the electrifying energy as skilled artists engage in a high-speed showdown\, flinging paint with every stroke. \nCome watch as artists transform blank canvases into beautiful pieces of art in 2 regular rounds of 20 minutes\, and the big final round of 30 minutes! Then help vote to determine the winner of the event! \nAll artwork will also be available for silent auction.
URL:https://uptownsj.com/event/art-battle-saint-john-2/
LOCATION:Kent Theatre\, 24 Coburg Street\, Saint John\, New Brunswick\, Canada
CATEGORIES:Art
ATTACH;FMTTYPE=image/jpeg:https://uptownsj.com/wp-content/uploads/2026/01/IMG_6032.jpeg
END:VEVENT
BEGIN:VEVENT
DTSTART;TZID=America/Halifax:20260208T140000
DTEND;TZID=America/Halifax:20260208T160000
DTSTAMP:20260419T223224
CREATED:20250617T133724Z
LAST-MODIFIED:20250617T133724Z
UID:10012642-1770559200-1770566400@uptownsj.com
SUMMARY:Doktor Kaboom: Under Pressure!
DESCRIPTION:$25 Youth | $40 Adult | Ask about our Family price \nCommissioned by the Kennedy Center \nBe amazed by the power of pressure – and what it can teach us. \nEqual parts interactive science\, comedy\, and personal empowerment messages\, Doktor Kaboom returns with a new show. Doktor Kaboom: Under Pressure! illustrates physical science concepts\, which are also metaphors for real-life mental and emotional pressures. \nPraised for keeping crowds riveted with interest and rolling with laughter\, Doktor Kaboom is also known for empowering volunteers from the audience to be the heroes of the moment. In Under Pressure!\, Kaboom validates the pressures some students may feel\, and shares tools and life lessons as resources for dealing with the difficulties that face us all. \n“I’ve seen many shows at The Kennedy Center’s Family Theater\, and this was the best one!” – Broadwayworld.com \n“a fantastic experience\, with educational content presented in a hilarious and exciting format” – DC Theater Arts
URL:https://uptownsj.com/event/doktor-kaboom-under-pressure/
LOCATION:Imperial Theatre\, 12 King Square S.\, Saint John
CATEGORIES:Community,Theatre
ATTACH;FMTTYPE=image/jpeg:https://uptownsj.com/wp-content/uploads/2025/06/Doktor-Kaboom.jpg
END:VEVENT
END:VCALENDAR