BEGIN:VCALENDAR
VERSION:2.0
PRODID:-//Uptown Saint John - ECPv6.15.20//NONSGML v1.0//EN
CALSCALE:GREGORIAN
METHOD:PUBLISH
X-WR-CALNAME:Uptown Saint John
X-ORIGINAL-URL:https://uptownsj.com
X-WR-CALDESC:Events for Uptown Saint John
REFRESH-INTERVAL;VALUE=DURATION:PT1H
X-Robots-Tag:noindex
X-PUBLISHED-TTL:PT1H
BEGIN:VTIMEZONE
TZID:America/Halifax
BEGIN:DAYLIGHT
TZOFFSETFROM:-0400
TZOFFSETTO:-0300
TZNAME:ADT
DTSTART:20250309T060000
END:DAYLIGHT
BEGIN:STANDARD
TZOFFSETFROM:-0300
TZOFFSETTO:-0400
TZNAME:AST
DTSTART:20251102T050000
END:STANDARD
BEGIN:DAYLIGHT
TZOFFSETFROM:-0400
TZOFFSETTO:-0300
TZNAME:ADT
DTSTART:20260308T060000
END:DAYLIGHT
BEGIN:STANDARD
TZOFFSETFROM:-0300
TZOFFSETTO:-0400
TZNAME:AST
DTSTART:20261101T050000
END:STANDARD
BEGIN:DAYLIGHT
TZOFFSETFROM:-0400
TZOFFSETTO:-0300
TZNAME:ADT
DTSTART:20270314T060000
END:DAYLIGHT
BEGIN:STANDARD
TZOFFSETFROM:-0300
TZOFFSETTO:-0400
TZNAME:AST
DTSTART:20271107T050000
END:STANDARD
END:VTIMEZONE
BEGIN:VEVENT
DTSTART;TZID=America/Halifax:20260114T200000
DTEND;TZID=America/Halifax:20260115T000000
DTSTAMP:20260419T223205
CREATED:20250819T121317Z
LAST-MODIFIED:20250819T121317Z
UID:10013870-1768420800-1768435200@uptownsj.com
SUMMARY:Open Mic Night at O’Leary’s Pub
DESCRIPTION:Join us at O’Leary’s Pub for Open Mic Night\, hosted by Brent Mason and Aaron Gunn\, at Saint John’s oldest Irish pub! Whether you’re performing or just enjoying the local talent\, spend the evening immersed in music\, stories\, and East Coast charm. \nThis weekly tradition has been bringing local artists together since 1992\, promising surprises\, laughs\, and unforgettable performances. Grab a pint\, soak in the atmosphere\, and celebrate Saint John’s vibrant creative community.
URL:https://uptownsj.com/event/open-mic-night-at-olearys-pub-2/2026-01-14/
LOCATION:O’Leary’s Pub\, 46 Princess Street\, Saint John\, E2L 1K2
CATEGORIES:Live Music
ATTACH;FMTTYPE=image/png:https://uptownsj.com/wp-content/uploads/2025/08/Open-Mic-Night.png
ORGANIZER;CN="O'Leary's Pub":MAILTO:olearyspub@gmail.com
END:VEVENT
BEGIN:VEVENT
DTSTART;TZID=America/Halifax:20260115T210000
DTEND;TZID=America/Halifax:20260116T000000
DTSTAMP:20260419T223205
CREATED:20250819T121248Z
LAST-MODIFIED:20250819T121248Z
UID:10014130-1768510800-1768521600@uptownsj.com
SUMMARY:Sarahtonein at O’Leary’s Pub
DESCRIPTION:Thursdays just got a whole lot better! Sarahtonein is taking the stage with raw vocals and infectious energy\, serving up a night full of music\, laughs\, and East Coast charm. Come for the tunes\, stay for the good times—and don’t forget your pint! \n19+ | No cover charge
URL:https://uptownsj.com/event/sarahtonein-at-olearys-pub/2026-01-15/
LOCATION:O’Leary’s Pub\, 46 Princess Street\, Saint John\, E2L 1K2
CATEGORIES:Live Music
ATTACH;FMTTYPE=image/png:https://uptownsj.com/wp-content/uploads/2025/08/Thursday-Sarahtonein.png
ORGANIZER;CN="O'Leary's Pub":MAILTO:olearyspub@gmail.com
END:VEVENT
BEGIN:VEVENT
DTSTART;TZID=America/Halifax:20260116T163000
DTEND;TZID=America/Halifax:20260116T183000
DTSTAMP:20260419T223205
CREATED:20260105T130337Z
LAST-MODIFIED:20260105T175603Z
UID:10016766-1768581000-1768588200@uptownsj.com
SUMMARY:MIX Live Music and Cocktails Friday
DESCRIPTION:A vibrant Friday night gathering featuring live performances from talented local musicians paired with an exclusive cocktail and bites menu\, designed to elevate the weekend experience. This event will celebrate community\, music\, and hospitality\, while showcasing Saint John’s best local talent in an upscale yet inviting setting. Located at the Mezzanine level of Delta Hotels by Marriott Saint John.
URL:https://uptownsj.com/event/mix-live-music-and-cocktails-friday/2026-01-16/
LOCATION:MIX Resto | Bar\, 39 King Street\, Saint John\, E2L 4W3\, Canada
CATEGORIES:Live Music
ATTACH;FMTTYPE=image/jpeg:https://uptownsj.com/wp-content/uploads/2026/01/MIX.jpg
END:VEVENT
BEGIN:VEVENT
DTSTART;TZID=America/Halifax:20260116T190000
DTEND;TZID=America/Halifax:20260116T210000
DTSTAMP:20260419T223205
CREATED:20260114T141824Z
LAST-MODIFIED:20260114T172457Z
UID:10017431-1768590000-1768597200@uptownsj.com
SUMMARY:Kelly Waterhouse & Band
DESCRIPTION:Join Kelly Waterhouse and her fabulous band featuring Chad Ball (Bass)\, Jorian Hapeman (Piano) & Andrew DeMerchant (Drums) in the cozy vibes of Trinity Galleries. Reservations recommended 506-634-1611. $40.
URL:https://uptownsj.com/event/kelly-waterhouse-band/
LOCATION:Trinity Galleries\, 128 GERMAIN ST.\, SAINT JOHN\, New Brunswick\, E2L 2E7\, Canada
CATEGORIES:Art,Cultural Event,Live Music
ATTACH;FMTTYPE=image/jpeg:https://uptownsj.com/wp-content/uploads/2026/01/jazz-night-black-bg-51.jpg
ORGANIZER;CN="Trinity Galleries":MAILTO:art@trintygalleries.ca
END:VEVENT
BEGIN:VEVENT
DTSTART;TZID=America/Halifax:20260116T193000
DTEND;TZID=America/Halifax:20260116T213000
DTSTAMP:20260419T223205
CREATED:20250617T133948Z
LAST-MODIFIED:20250617T133948Z
UID:10012634-1768591800-1768599000@uptownsj.com
SUMMARY:Rhys Nicholson
DESCRIPTION:In the year of our Lord 2026\, it’s a brand-new stand-up comedy concert from your ol’ pal Rhys Nicholson. In these times that are totally normal and everything’s fine\, it just feels like the right time for a visit with some colonial cousins to gossip and swap notes as Nicholson brings their critically acclaimed\, award winning show to Canada for the very first time. \nOnly a coward wouldn’t attend. \nAs seen on Netflix\, Prime\, JFL Galas\, RuPaul’s Drag Race Down Under\, Taskmaster\, After Midnight\, Conan. \nWinner: Most Outstanding Show – Melbourne International Comedy Festival \n“This is a genuinely great stand-up comedian at work… awe-inspiring to watch.”\n★★★★★ – Time Out \n“Sparklingly here and now” \n★★★★★ – The Guardian \n‘There are few greater pleasures in Australian comedy than watching Rhys Nicholson in full flight’\n★★★★★ The Age Australia \n“Skillful\, elegant and perfectly crafted stand up.” \n★★★★★ – The Scotsman
URL:https://uptownsj.com/event/rhys-nicholson/
LOCATION:Imperial Theatre\, 12 King Square S.\, Saint John
CATEGORIES:Comedy
ATTACH;FMTTYPE=image/png:https://uptownsj.com/wp-content/uploads/2025/06/Rhys-Nicholson.png
END:VEVENT
END:VCALENDAR