BEGIN:VCALENDAR
VERSION:2.0
PRODID:-//Uptown Saint John - ECPv6.15.20//NONSGML v1.0//EN
CALSCALE:GREGORIAN
METHOD:PUBLISH
X-ORIGINAL-URL:https://uptownsj.com
X-WR-CALDESC:Events for Uptown Saint John
REFRESH-INTERVAL;VALUE=DURATION:PT1H
X-Robots-Tag:noindex
X-PUBLISHED-TTL:PT1H
BEGIN:VTIMEZONE
TZID:America/Halifax
BEGIN:DAYLIGHT
TZOFFSETFROM:-0400
TZOFFSETTO:-0300
TZNAME:ADT
DTSTART:20240310T060000
END:DAYLIGHT
BEGIN:STANDARD
TZOFFSETFROM:-0300
TZOFFSETTO:-0400
TZNAME:AST
DTSTART:20241103T050000
END:STANDARD
BEGIN:DAYLIGHT
TZOFFSETFROM:-0400
TZOFFSETTO:-0300
TZNAME:ADT
DTSTART:20250309T060000
END:DAYLIGHT
BEGIN:STANDARD
TZOFFSETFROM:-0300
TZOFFSETTO:-0400
TZNAME:AST
DTSTART:20251102T050000
END:STANDARD
BEGIN:DAYLIGHT
TZOFFSETFROM:-0400
TZOFFSETTO:-0300
TZNAME:ADT
DTSTART:20260308T060000
END:DAYLIGHT
BEGIN:STANDARD
TZOFFSETFROM:-0300
TZOFFSETTO:-0400
TZNAME:AST
DTSTART:20261101T050000
END:STANDARD
END:VTIMEZONE
BEGIN:VEVENT
DTSTART;TZID=America/Halifax:20250214T190000
DTEND;TZID=America/Halifax:20250214T210000
DTSTAMP:20260420T201656
CREATED:20250211T185757Z
LAST-MODIFIED:20250211T185757Z
UID:10011039-1739559600-1739566800@uptownsj.com
SUMMARY:Valentine's Day "Jazz Night"
DESCRIPTION:Fall in Love with the Rhythm of Jazz with the Karine Trio. This Valentine’s Day\, let the music set the mood. Karine will be performing Jazz classics as well as some modern takes on love songs. Join us for an unforgettable Jazz Night for Singles and Couples !
URL:https://uptownsj.com/event/valentines-day-jazz-night/
LOCATION:Trinity Galleries\, 128 GERMAIN ST.\, SAINT JOHN\, New Brunswick\, E2L 2E7\, Canada
CATEGORIES:Live Music
ATTACH;FMTTYPE=image/jpeg:https://uptownsj.com/wp-content/uploads/2025/02/VDay-Jazz-poster-fpr-door.jpg
ORGANIZER;CN="Trinity Galleries":MAILTO:art@trintygalleries.ca
END:VEVENT
BEGIN:VEVENT
DTSTART;TZID=America/Halifax:20250216T140000
DTEND;TZID=America/Halifax:20250216T150000
DTSTAMP:20260420T201656
CREATED:20250130T131302Z
LAST-MODIFIED:20250130T131302Z
UID:10010970-1739714400-1739718000@uptownsj.com
SUMMARY:Love That Jazz: Resonance New Music + Joel Miller
DESCRIPTION:Resonance New Music joins Juno award winner Joel Miller to share jazz standards\, old and new. \nResonance New Music se rejoint à lauréat d’un prix Juno\, Joel Miller\, pour interpréter des standards de jazz\, anciens et nouveaux.
URL:https://uptownsj.com/event/love-that-jazz-resonance-new-music-joel-miller/
LOCATION:Saint John Arts Centre
CATEGORIES:Live Music
ATTACH;FMTTYPE=image/png:https://uptownsj.com/wp-content/uploads/2025/01/Virtuoso-5-Eventbrite-Event-Cover-1920-x-1080-px.png
ORGANIZER;CN="Symphony New Brunswick":MAILTO:symphony@nbnet.nb.ca
END:VEVENT
BEGIN:VEVENT
DTSTART;TZID=America/Halifax:20250216T140000
DTEND;TZID=America/Halifax:20250216T153000
DTSTAMP:20260420T201656
CREATED:20240610T193550Z
LAST-MODIFIED:20240610T193550Z
UID:10007855-1739714400-1739719800@uptownsj.com
SUMMARY:The Baby Tyler Show
DESCRIPTION:This is a Tiered Pricing show – Patrons choose their own ticket price to fit their budget. Choose from $5 | $10 | $20 per ticket. \nA PUPPET SHOW FOR ALL AGES\nProduced by SNAFU. For Age 7+\nPerformed by Fraggle Rock Puppeteer Ingrid Hansen\nDirected by Ride the Cyclone director Britt Small \nWhen you’re small\, how do you live in a world designed for big people? Watch Baby Tyler discover his unique super powers to solve problems. \n“Hansen turns anything and everything into a puppet and makes it funny. A MUST-SEE!” – FringeReviews.com Watch as Ingrid performs a live puppet film before your very eyes\, using only household objects\, a camera\, and her bare hands. \n“Utterly magical\, insanely inventive\, wickedly funny. ★★★★★ ” – Winnipeg Free Press. \nJim Henson Company puppeteer Ingrid Hansen performs a live puppet film before your very eyes\, using only household objects\, a camera\, and her bare hands.\nIngrid Hansen also puppeteers for Sesame and Henson. She puppeteers Heart\, a lovable orange monster on Sesame Workshop’s Emmy-Award-Winning series Helpsters. She also performs a magical talking rock and ‘Ma Gorg’ on Henson’s new Fraggle Rock reboot. Ingrid performs Melissa the Dog on the Emmy-Nominated series Miss Persona (TreehouseTV / AmazonPrime\,) and even directed scenes with Canadian legend Fred Penner. \nContent Warning: The Baby Tyler Show is for ages 7+ and may be a little bit too spooky for younger children. It contains some cartoonish puppet violence and scenes of death\, dark lighting\, loud sounds\, and surprises.
URL:https://uptownsj.com/event/the-baby-tyler-show/
LOCATION:Imperial Theatre\, 12 King Square S.\, Saint John
CATEGORIES:Theatre
END:VEVENT
BEGIN:VEVENT
DTSTART;TZID=America/Halifax:20250216T193000
DTEND;TZID=America/Halifax:20250216T213000
DTSTAMP:20260420T201656
CREATED:20240610T193517Z
LAST-MODIFIED:20240610T193517Z
UID:10007856-1739734200-1739741400@uptownsj.com
SUMMARY:Epidermis Circus
DESCRIPTION:A comedy/puppet show for adults that will make you laugh out loud! \nSPICY\, FOR AGES 14+ \nWarning: Cartoonish sexual content\, swear words\, puppet suicide. Dark lighting\, loud music\, and surprises. \nProduced by: SNAFU \nDirected and Co-Created by by Britt Small (premiere director of Ride the Cyclone\,) \nPerformed and Co-created by Ingrid Hansen (puppeteer for The Jim Henson Company’s Fraggle Rock and Sesame’s Helpsters.) \nWatch as Ingrid performs a live puppet film before your very eyes\, using only household objects\, a camera\, and her bare hands. This show will make you laugh your head off! \n“Hansen turns anything and everything into a puppet and makes it funny. A MUST-SEE!” – FringeReviews.com \n“Utterly magical\, insanely inventive\, wickedly funny. ★★★★★” – Free Press. \n“Both live and magnified on screen\, in cunningly angled cameras and mirrors\, we see Hansen create characters from her own hands\, fingers\, face. NUTTY\, INGENIOUS\, MESMERIZING.” -12th Night. \n“GENIUS PHYSICAL COMEDY!” – Entertainment World. \n“Immensely funny\, creative\, uproarious and surprising…Her physicality is impeccable.” – The Star Phoenix \n“Unbelievably funny.” – PLANK Magazine \n“Unbelievably charismatic.” – The Charlebois Post \nDanish-Canadian puppeteer Ingrid Hansen also performs on television with the Jim Henson Company’s Fraggle Rock and Sesame Workshop’s Emmy-Award-Winning series Helpsters.
URL:https://uptownsj.com/event/epidermis-circus/
LOCATION:Imperial Theatre\, 12 King Square S.\, Saint John
CATEGORIES:Theatre
END:VEVENT
END:VCALENDAR