BEGIN:VCALENDAR
VERSION:2.0
PRODID:-//Uptown Saint John - ECPv6.15.20//NONSGML v1.0//EN
CALSCALE:GREGORIAN
METHOD:PUBLISH
X-WR-CALNAME:Uptown Saint John
X-ORIGINAL-URL:https://uptownsj.com
X-WR-CALDESC:Events for Uptown Saint John
REFRESH-INTERVAL;VALUE=DURATION:PT1H
X-Robots-Tag:noindex
X-PUBLISHED-TTL:PT1H
BEGIN:VTIMEZONE
TZID:America/Halifax
BEGIN:DAYLIGHT
TZOFFSETFROM:-0400
TZOFFSETTO:-0300
TZNAME:ADT
DTSTART:20230312T060000
END:DAYLIGHT
BEGIN:STANDARD
TZOFFSETFROM:-0300
TZOFFSETTO:-0400
TZNAME:AST
DTSTART:20231105T050000
END:STANDARD
BEGIN:DAYLIGHT
TZOFFSETFROM:-0400
TZOFFSETTO:-0300
TZNAME:ADT
DTSTART:20240310T060000
END:DAYLIGHT
BEGIN:STANDARD
TZOFFSETFROM:-0300
TZOFFSETTO:-0400
TZNAME:AST
DTSTART:20241103T050000
END:STANDARD
BEGIN:DAYLIGHT
TZOFFSETFROM:-0400
TZOFFSETTO:-0300
TZNAME:ADT
DTSTART:20250309T060000
END:DAYLIGHT
BEGIN:STANDARD
TZOFFSETFROM:-0300
TZOFFSETTO:-0400
TZNAME:AST
DTSTART:20251102T050000
END:STANDARD
END:VTIMEZONE
BEGIN:VEVENT
DTSTART;TZID=America/Halifax:20241121T193000
DTEND;TZID=America/Halifax:20241121T213000
DTSTAMP:20260421T153507
CREATED:20241009T115430Z
LAST-MODIFIED:20241009T115521Z
UID:10009993-1732217400-1732224600@uptownsj.com
SUMMARY:The Holiday Nutcrackers
DESCRIPTION:Tina Randell returns to the Kent Theatre with the youngsters in tow for another evening of tears and laughter. In addition to the youngsters\,  Freddy\, Jimmy\, Henry\, Billy\, Tommy\, Sara\, Lucy\, buddy\, Jesus\, missy\, dirty face\, yes You! she is joined by Michelle Bailey for double the fun. \nAll the way from Port Rexton\, Newfoundland\, the chain smoking Tina will have you in stitches. Christmas is around the corner and no doubt the youngsters Christmas list will be interesting. \n Make sure you don’t  miss this show ! \nFor tickets: https://www.imperialonline.ca/TheatreManager/1/login?event=4319
URL:https://uptownsj.com/event/the-holiday-nutcrackers/
LOCATION:Kent Theatre\, 24 Coburg Street\, Saint John\, New Brunswick\, Canada
CATEGORIES:Comedy
END:VEVENT
BEGIN:VEVENT
DTSTART;TZID=America/Halifax:20241123T193000
DTEND;TZID=America/Halifax:20241123T210000
DTSTAMP:20260421T153507
CREATED:20240610T194956Z
LAST-MODIFIED:20240610T194956Z
UID:10007829-1732390200-1732395600@uptownsj.com
SUMMARY:Christmas with The Ennis Sisters
DESCRIPTION:The Ennis Sisters are a JUNO award-winning trio hailing from St. John’s\, Newfoundland & Labrador. They have been captivating audiences worldwide for over 25 years with their seamless harmonies and compelling songwriting. Flavoured by Celtic and traditional Newfoundland influences\, their music offers a broad mix of original songs as well as uniquely interpreted tunes and ballads. \nIn 1997\, Maureen\, Karen and Teresa Ennis took their first steps into the limelight with the release of their debut album\, Red is the Rose. This recording not only marked the beginning of their musical career\, but also showcased their innate talent and deep-rooted connection to the folk traditions of their homeland. They have since released 14 full length studio albums and have earned numerous accolades along the way\, including a prestigious Juno Award\, a SOCAN award and multiple ECMAs and MusicNL awards. \nThroughout their career they have embarked on extensive tours taking them to stages across the globe\, thrilling audiences with their powerful performances and leaving an indelible mark on the international music landscape. Their songs often reflect the resilience and warmth of the Newfoundland spirit\, creating a meaningful connection with their listeners. \nAs proud cultural ambassadors\, The Ennis Sisters continue to enchant audiences with their timeless music\, proving that the melodies of Newfoundland & Labrador can resonate and echo across the world. Their musical journey remains an enduring testament to the power of family\, tradition and the universal language of music.
URL:https://uptownsj.com/event/christmas-with-the-ennis-sisters/
LOCATION:Imperial Theatre\, 12 King Square S.\, Saint John
CATEGORIES:Networking,Theatre
END:VEVENT
END:VCALENDAR