BEGIN:VCALENDAR
VERSION:2.0
PRODID:-//Uptown Saint John - ECPv6.15.20//NONSGML v1.0//EN
CALSCALE:GREGORIAN
METHOD:PUBLISH
X-WR-CALNAME:Uptown Saint John
X-ORIGINAL-URL:https://uptownsj.com
X-WR-CALDESC:Events for Uptown Saint John
REFRESH-INTERVAL;VALUE=DURATION:PT1H
X-Robots-Tag:noindex
X-PUBLISHED-TTL:PT1H
BEGIN:VTIMEZONE
TZID:America/Halifax
BEGIN:DAYLIGHT
TZOFFSETFROM:-0400
TZOFFSETTO:-0300
TZNAME:ADT
DTSTART:20220313T060000
END:DAYLIGHT
BEGIN:STANDARD
TZOFFSETFROM:-0300
TZOFFSETTO:-0400
TZNAME:AST
DTSTART:20221106T050000
END:STANDARD
BEGIN:DAYLIGHT
TZOFFSETFROM:-0400
TZOFFSETTO:-0300
TZNAME:ADT
DTSTART:20230312T060000
END:DAYLIGHT
BEGIN:STANDARD
TZOFFSETFROM:-0300
TZOFFSETTO:-0400
TZNAME:AST
DTSTART:20231105T050000
END:STANDARD
BEGIN:DAYLIGHT
TZOFFSETFROM:-0400
TZOFFSETTO:-0300
TZNAME:ADT
DTSTART:20240310T060000
END:DAYLIGHT
BEGIN:STANDARD
TZOFFSETFROM:-0300
TZOFFSETTO:-0400
TZNAME:AST
DTSTART:20241103T050000
END:STANDARD
END:VTIMEZONE
BEGIN:VEVENT
DTSTART;TZID=America/Halifax:20231030T193000
DTEND;TZID=America/Halifax:20231030T213000
DTSTAMP:20260423T185102
CREATED:20230829T153421Z
LAST-MODIFIED:20230829T153421Z
UID:10005584-1698694200-1698701400@uptownsj.com
SUMMARY:Eagles Tribute - Take It To The Limit
DESCRIPTION:Moon Coin Productions (Producers of ABBA Tribute ABRA Cadabra) Present “Take It To The Limit” The Ultimate Eagle’s Tribute! This show features some of Canada’s finest musicians and vocalists\, performing all of your Favourite Eagle’s Hits such as Hotel California\, Heartache Tonight\, Peaceful Easy Feeling\, Take It To The Limit\, Desperado\, Life In The Fast Lane\, Take It Easy\, Love Will Keep Us Alive\, New Kid In Town\, Tequila Sunrise\, I Can’t Tell You Why\, Lyin’ Eyes and many more! Video: https://youtu.be/7l4G2EgPoPk or See more info at: www.EaglesTributeShow.com \nTestimonials: \n“I’m Glenn Anderson from the NHL. I saw Take It To The Limit Tonight and they were fantastic! I highly recommend them. Good energy. Good people and lots of fun. Make sure you make it to the show. You have a good time coming.“ – Glenn Anderson – NHL (6 X Stanley Cup winner and NHL Hall Of Fame inductee) – Florida USA\n“Amazing Eagle’s Tribute! Saturday really was “one of those nights” at Surrey’s Bell Performing Arts Centre when Take It To the Limit played the Eagles’ many hits in the sold-out theatre (which is amazing for a brand-new production). The band did not disappoint with a note-for-note tribute to the American rock icons. My guests were blown away! Congrats for the amazing success out of the gates!“ – Tom Zillich\, entertainment reporter – Surrey Now-Leader \n“One of the best I’ve seen! if anyone has the chance to see these guys perform\, it’s well worth going. Everything from sound\, stage\, lighting\, & vocals were perfect. A great show!“ – Angie Tatarniuk – Vancouver
URL:https://uptownsj.com/event/eagles-tribute-take-it-to-the-limit/
LOCATION:Imperial Theatre\, 12 King Square S.\, Saint John
CATEGORIES:Live Music,Theatre
ORGANIZER;CN="Moon Coin Productions":MAILTO:mooncoin@shaw.ca
END:VEVENT
BEGIN:VEVENT
DTSTART;TZID=America/Halifax:20231101T140000
DTEND;TZID=America/Halifax:20231101T140000
DTSTAMP:20260423T185102
CREATED:20230628T160724Z
LAST-MODIFIED:20230628T160724Z
UID:10005412-1698847200-1698847200@uptownsj.com
SUMMARY:Piano Heist
DESCRIPTION:I fun look at piano music over the past 400 years… \nLifelong friends\, and colleagues\, Nico Rhodes\, and Patrick Courtin\, shocked and appalled by the realization that piano just isn’t cool anymore\, set off on a divine quest to redeem the keyboard and reinstate its reputation as the greatest instrument of ALL TIME! Armed with the music of the greatest composers\, songwriters and performers of the past 400 years\, and the technology of the 21st century – their virtual orchestra (Bob)\, Nico and Patrick deliver everything from classical piano raptures to bombastic boogie woogie\, from romantic piano ballads to 80’s keyboard synth battles in their show Piano Heist! What ensues is a mishmash of theatrical wonder\, comedy\, audience participation\, heartfelt stories\, a pinch of history\, and a world of musical madness. \nShowcase (& video) includes Nobody Knows the Trouble I’ve Seen – Traditional; Prelude in C Major – J.S. Bach; Fur Elise. – Beethoven; Nocturne n.2 – Chopin; Hungarian Rhapsody n.2 – Liszt; Claire de Lune – Debussy; Rhapsody in Blue – G. Gershwin; Maple Leaf Rag – Joplin; Fly Me to the Moon – Bart Howard; Great Balls of Fire – Otis Blackwell; Piano Man – Billy Joel; Crazy – Willie Nelson; Imagine – John Lennon; Let it Be – John Lennon/Paul McCartney; Can You Feel the Love Tonight – Elton John; Crocodile\, Rock – Elton John; Light My Fire – The Doors; The Winner Takes it All – ABBA; Green Onions – Booker T and the Mg’s; I Heard it Through the Grapevine – Barrett Strong/Norman Whitfield; Superstition – Stevie Wonder; Spain – Chick Corea; Popcorn – Gershon Kingsley; Jump – Van Halen; We Are the Champions – Queen.
URL:https://uptownsj.com/event/piano-heist/
LOCATION:Imperial Theatre\, 12 King Square S.\, Saint John
CATEGORIES:Community,Theatre
END:VEVENT
BEGIN:VEVENT
DTSTART;TZID=America/Halifax:20231104T200000
DTEND;TZID=America/Halifax:20231104T223000
DTSTAMP:20260423T185102
CREATED:20230922T130637Z
LAST-MODIFIED:20230922T130637Z
UID:10005644-1699128000-1699137000@uptownsj.com
SUMMARY:The East Pointers and Fortunate Ones
DESCRIPTION:Atlantic Canadian folk favourites The East Pointers and Fortunate Ones are teaming up for a tour this fall\, including a stop at Saint John’s Imperial Theatre on November 4. \nSaint John tickets are $40 in advance and $45 day of show (including tax and service fee) and are available at the the Imperial Theatre box office\, by phone at (506) 674-4100 (1-800-323-7469)\, and online at sonicconcerts.com. Additional fees may apply. Doors open at 7:30 p.m. Show time is 8 p.m.
URL:https://uptownsj.com/event/the-east-pointers-and-fortunate-ones-2/
LOCATION:Imperial Theatre\, 12 King Square S.\, Saint John
CATEGORIES:Live Music
ATTACH;FMTTYPE=image/jpeg:https://uptownsj.com/wp-content/uploads/2023/09/TEPFO_NSTourism.jpg
ORGANIZER;CN="Sonic Concerts":MAILTO:info@sonicconcerts.com
END:VEVENT
BEGIN:VEVENT
DTSTART;TZID=America/Halifax:20231104T200000
DTEND;TZID=America/Halifax:20231104T230000
DTSTAMP:20260423T185102
CREATED:20230828T124456Z
LAST-MODIFIED:20230828T124456Z
UID:10005561-1699128000-1699138800@uptownsj.com
SUMMARY:The East Pointers and Fortunate Ones
DESCRIPTION:Atlantic Canadian folk favourites The East Pointers and Fortunate Ones are teaming up for a tour this fall\, including a stop at Saint John’s Imperial Theatre on November 4. Doors open at 7:30 p.m. Show time is 8 p.m.
URL:https://uptownsj.com/event/the-east-pointers-and-fortunate-ones/
LOCATION:Imperial Theatre\, 12 King Square S.\, Saint John
CATEGORIES:Live Music
ORGANIZER;CN="Sonic Concerts":MAILTO:info@sonicconcerts.com
END:VEVENT
BEGIN:VEVENT
DTSTART;TZID=America/Halifax:20231105T200000
DTEND;TZID=America/Halifax:20231105T230000
DTSTAMP:20260423T185102
CREATED:20230828T124615Z
LAST-MODIFIED:20230828T124615Z
UID:10005560-1699214400-1699225200@uptownsj.com
SUMMARY:Raine Maida & Chantal Kreviazuk: The Forgive Me tour
DESCRIPTION:Acclaimed Canadian musicians Raine Maida and Chantal Kreviazuk bring their collaborative effort The Forgive Me Tour to the Maritimes this fall\, including a stop at Saint John’s Imperial Theatre on November 5. Doors open at 7:30 p.m. Show time is 8 p.m.
URL:https://uptownsj.com/event/raine-maida-chantal-kreviazuk-the-forgive-me-tour/
LOCATION:Imperial Theatre\, 12 King Square S.\, Saint John
CATEGORIES:Live Music
ORGANIZER;CN="Sonic Concerts":MAILTO:info@sonicconcerts.com
END:VEVENT
END:VCALENDAR