BEGIN:VCALENDAR
VERSION:2.0
PRODID:-//Uptown Saint John - ECPv6.15.20//NONSGML v1.0//EN
CALSCALE:GREGORIAN
METHOD:PUBLISH
X-ORIGINAL-URL:https://uptownsj.com
X-WR-CALDESC:Events for Uptown Saint John
REFRESH-INTERVAL;VALUE=DURATION:PT1H
X-Robots-Tag:noindex
X-PUBLISHED-TTL:PT1H
BEGIN:VTIMEZONE
TZID:America/Halifax
BEGIN:DAYLIGHT
TZOFFSETFROM:-0400
TZOFFSETTO:-0300
TZNAME:ADT
DTSTART:20220313T060000
END:DAYLIGHT
BEGIN:STANDARD
TZOFFSETFROM:-0300
TZOFFSETTO:-0400
TZNAME:AST
DTSTART:20221106T050000
END:STANDARD
BEGIN:DAYLIGHT
TZOFFSETFROM:-0400
TZOFFSETTO:-0300
TZNAME:ADT
DTSTART:20230312T060000
END:DAYLIGHT
BEGIN:STANDARD
TZOFFSETFROM:-0300
TZOFFSETTO:-0400
TZNAME:AST
DTSTART:20231105T050000
END:STANDARD
BEGIN:DAYLIGHT
TZOFFSETFROM:-0400
TZOFFSETTO:-0300
TZNAME:ADT
DTSTART:20240310T060000
END:DAYLIGHT
BEGIN:STANDARD
TZOFFSETFROM:-0300
TZOFFSETTO:-0400
TZNAME:AST
DTSTART:20241103T050000
END:STANDARD
END:VTIMEZONE
BEGIN:VEVENT
DTSTART;TZID=America/Halifax:20231007T193000
DTEND;TZID=America/Halifax:20231007T213000
DTSTAMP:20260424T030424
CREATED:20230828T124821Z
LAST-MODIFIED:20230828T124821Z
UID:10005556-1696707000-1696714200@uptownsj.com
SUMMARY:Alfie Zappacosta
DESCRIPTION:Alfie Zappacosta\nOctober 7\, 2023 | 7:30 PM | BMO Studio Theatre\, 112 Princess St.\n$35; Streaming $30\nFor tickets call 506-652-7582 or visit www.tickets.saintjohntheatrecompany.com \nWith a 40-year recording and acting career and classic rock radio staples including ‘Start Again’\, ‘Passion’\, ‘When I Fall In Love Again’\, and ‘Nothing Can Stand In Your Way’\, Zappacosta has established a discerning and loyal fan base. His heartfelt vocals combined with a mix of charm\, wit\, and amazing stories\, makes for an evening out you won’t want to miss!
URL:https://uptownsj.com/event/alfie-zappacosta/
LOCATION:The BMO Studio Theatre\, 112 Princess St\, 112 Princess St\, Saint John\, NB\, E2L 1K4\, Canada
CATEGORIES:Live Music
ORGANIZER;CN="Saint John Theatre Company":MAILTO:lise.driscoll@saintjohntheatrecompany.com
END:VEVENT
END:VCALENDAR