BEGIN:VCALENDAR
VERSION:2.0
PRODID:-//Uptown Saint John - ECPv6.15.20//NONSGML v1.0//EN
CALSCALE:GREGORIAN
METHOD:PUBLISH
X-ORIGINAL-URL:https://uptownsj.com
X-WR-CALDESC:Events for Uptown Saint John
REFRESH-INTERVAL;VALUE=DURATION:PT1H
X-Robots-Tag:noindex
X-PUBLISHED-TTL:PT1H
BEGIN:VTIMEZONE
TZID:America/Halifax
BEGIN:DAYLIGHT
TZOFFSETFROM:-0400
TZOFFSETTO:-0300
TZNAME:ADT
DTSTART:20220313T060000
END:DAYLIGHT
BEGIN:STANDARD
TZOFFSETFROM:-0300
TZOFFSETTO:-0400
TZNAME:AST
DTSTART:20221106T050000
END:STANDARD
BEGIN:DAYLIGHT
TZOFFSETFROM:-0400
TZOFFSETTO:-0300
TZNAME:ADT
DTSTART:20230312T060000
END:DAYLIGHT
BEGIN:STANDARD
TZOFFSETFROM:-0300
TZOFFSETTO:-0400
TZNAME:AST
DTSTART:20231105T050000
END:STANDARD
BEGIN:DAYLIGHT
TZOFFSETFROM:-0400
TZOFFSETTO:-0300
TZNAME:ADT
DTSTART:20240310T060000
END:DAYLIGHT
BEGIN:STANDARD
TZOFFSETFROM:-0300
TZOFFSETTO:-0400
TZNAME:AST
DTSTART:20241103T050000
END:STANDARD
END:VTIMEZONE
BEGIN:VEVENT
DTSTART;VALUE=DATE:20230821
DTEND;VALUE=DATE:20230827
DTSTAMP:20260425T103434
CREATED:20230724T121904Z
LAST-MODIFIED:20230726T121327Z
UID:10005493-1692576000-1693094399@uptownsj.com
SUMMARY:Fundy Fringe Festival
DESCRIPTION:The 10th Fundy Fringe Festival will take place Aug. 21st – 26th\, 2023. Celebrate our ten-year anniversary with us in Uptown Saint John. All venues are centered around our Hub at 112 Princess St. Our venues are all less than a 2-minute walk from there! \nAs a member of the Canadian Association of Fringe Festivals\, the body that oversees the use of the trademarked “Fringe” name\, the plan for the Fundy Fringe Festival is to showcase over 100 shows in 7 days. \nTicket prices are set at $10/show. Shows are typically 30 – 60 minutes long. They incorporate theatre\, dance\, performance art\, stand-up comedy and more performed by companies or by solo artists. \n-Fringe Festivals are un-juried.\n-Fringe Festivals are uncensored.\n-Fringe Festivals are accessible to audiences and artists.\n-Fringe Festivals return 100% of the ticket price to participating artists.
URL:https://uptownsj.com/event/fundy-fringe-festival/
LOCATION:The BMO Studio Theatre\, 112 Princess St\, 112 Princess St\, Saint John\, NB\, E2L 1K4\, Canada
CATEGORIES:Comedy,Community,Theatre
ORGANIZER;CN="Fundy Fringe Festival":MAILTO:director@fundyfringefestival.com
END:VEVENT
BEGIN:VEVENT
DTSTART;TZID=America/Halifax:20230822T000000
DTEND;TZID=America/Halifax:20230826T000000
DTSTAMP:20260425T103434
CREATED:20230828T123630Z
LAST-MODIFIED:20230828T123630Z
UID:10005546-1692662400-1693008000@uptownsj.com
SUMMARY:The Light Bringer at Fundy Fringe Festival
DESCRIPTION:“SOLD! Off to the American Dream!” \nFreedom\, but at what cost? A Palestinian immigrant and her family find more freedom in the US than expected. \nA true-life storytelling show written and performed by Laila Lee. In this one-woman show\, Laila brings to light her experiences growing up Muslim in the American South\, how she discovers her place in the world\, and what sacrifices she must make. \nVenue:\nBMO Studio Theatre\n112 Princess Street\, Saint John\, NB\, E2L 1K4 \nLight Bringer Productions\nwww.thelight-bringer.com
URL:https://uptownsj.com/event/the-light-bringer-at-fundy-fringe-festival/2023-08-22/1/
LOCATION:The BMO Studio Theatre\, 112 Princess St\, 112 Princess St\, Saint John\, NB\, E2L 1K4\, Canada
CATEGORIES:Theatre
ORGANIZER;CN="Fundy Fringe Festival":MAILTO:director@fundyfringefestival.com
END:VEVENT
BEGIN:VEVENT
DTSTART;TZID=America/Halifax:20230822T210000
DTEND;TZID=America/Halifax:20230822T220000
DTSTAMP:20260425T103434
CREATED:20230828T123630Z
LAST-MODIFIED:20230828T123630Z
UID:10005547-1692738000-1692741600@uptownsj.com
SUMMARY:The Light Bringer at Fundy Fringe Festival
DESCRIPTION:“SOLD! Off to the American Dream!” \nFreedom\, but at what cost? A Palestinian immigrant and her family find more freedom in the US than expected. \nA true-life storytelling show written and performed by Laila Lee. In this one-woman show\, Laila brings to light her experiences growing up Muslim in the American South\, how she discovers her place in the world\, and what sacrifices she must make. \nVenue:\nBMO Studio Theatre\n112 Princess Street\, Saint John\, NB\, E2L 1K4 \nLight Bringer Productions\nwww.thelight-bringer.com
URL:https://uptownsj.com/event/the-light-bringer-at-fundy-fringe-festival/2023-08-22/2/
LOCATION:The BMO Studio Theatre\, 112 Princess St\, 112 Princess St\, Saint John\, NB\, E2L 1K4\, Canada
CATEGORIES:Theatre
ORGANIZER;CN="Fundy Fringe Festival":MAILTO:director@fundyfringefestival.com
END:VEVENT
BEGIN:VEVENT
DTSTART;TZID=America/Halifax:20230823T000000
DTEND;TZID=America/Halifax:20230827T000000
DTSTAMP:20260425T103434
CREATED:20230828T123630Z
LAST-MODIFIED:20230828T123630Z
UID:10005548-1692748800-1693094400@uptownsj.com
SUMMARY:The Light Bringer at Fundy Fringe Festival
DESCRIPTION:“SOLD! Off to the American Dream!” \nFreedom\, but at what cost? A Palestinian immigrant and her family find more freedom in the US than expected. \nA true-life storytelling show written and performed by Laila Lee. In this one-woman show\, Laila brings to light her experiences growing up Muslim in the American South\, how she discovers her place in the world\, and what sacrifices she must make. \nVenue:\nBMO Studio Theatre\n112 Princess Street\, Saint John\, NB\, E2L 1K4 \nLight Bringer Productions\nwww.thelight-bringer.com
URL:https://uptownsj.com/event/the-light-bringer-at-fundy-fringe-festival/2023-08-23/1/
LOCATION:The BMO Studio Theatre\, 112 Princess St\, 112 Princess St\, Saint John\, NB\, E2L 1K4\, Canada
CATEGORIES:Theatre
ORGANIZER;CN="Fundy Fringe Festival":MAILTO:director@fundyfringefestival.com
END:VEVENT
BEGIN:VEVENT
DTSTART;TZID=America/Halifax:20230823T180000
DTEND;TZID=America/Halifax:20230823T190000
DTSTAMP:20260425T103434
CREATED:20230828T123630Z
LAST-MODIFIED:20230828T123630Z
UID:10005549-1692813600-1692817200@uptownsj.com
SUMMARY:The Light Bringer at Fundy Fringe Festival
DESCRIPTION:“SOLD! Off to the American Dream!” \nFreedom\, but at what cost? A Palestinian immigrant and her family find more freedom in the US than expected. \nA true-life storytelling show written and performed by Laila Lee. In this one-woman show\, Laila brings to light her experiences growing up Muslim in the American South\, how she discovers her place in the world\, and what sacrifices she must make. \nVenue:\nBMO Studio Theatre\n112 Princess Street\, Saint John\, NB\, E2L 1K4 \nLight Bringer Productions\nwww.thelight-bringer.com
URL:https://uptownsj.com/event/the-light-bringer-at-fundy-fringe-festival/2023-08-23/2/
LOCATION:The BMO Studio Theatre\, 112 Princess St\, 112 Princess St\, Saint John\, NB\, E2L 1K4\, Canada
CATEGORIES:Theatre
ORGANIZER;CN="Fundy Fringe Festival":MAILTO:director@fundyfringefestival.com
END:VEVENT
BEGIN:VEVENT
DTSTART;TZID=America/Halifax:20230824T000000
DTEND;TZID=America/Halifax:20230828T000000
DTSTAMP:20260425T103434
CREATED:20230828T123630Z
LAST-MODIFIED:20230828T123630Z
UID:10005550-1692835200-1693180800@uptownsj.com
SUMMARY:The Light Bringer at Fundy Fringe Festival
DESCRIPTION:“SOLD! Off to the American Dream!” \nFreedom\, but at what cost? A Palestinian immigrant and her family find more freedom in the US than expected. \nA true-life storytelling show written and performed by Laila Lee. In this one-woman show\, Laila brings to light her experiences growing up Muslim in the American South\, how she discovers her place in the world\, and what sacrifices she must make. \nVenue:\nBMO Studio Theatre\n112 Princess Street\, Saint John\, NB\, E2L 1K4 \nLight Bringer Productions\nwww.thelight-bringer.com
URL:https://uptownsj.com/event/the-light-bringer-at-fundy-fringe-festival/2023-08-24/1/
LOCATION:The BMO Studio Theatre\, 112 Princess St\, 112 Princess St\, Saint John\, NB\, E2L 1K4\, Canada
CATEGORIES:Theatre
ORGANIZER;CN="Fundy Fringe Festival":MAILTO:director@fundyfringefestival.com
END:VEVENT
BEGIN:VEVENT
DTSTART;TZID=America/Halifax:20230824T193000
DTEND;TZID=America/Halifax:20230824T203000
DTSTAMP:20260425T103434
CREATED:20230828T123630Z
LAST-MODIFIED:20230828T123630Z
UID:10005551-1692905400-1692909000@uptownsj.com
SUMMARY:The Light Bringer at Fundy Fringe Festival
DESCRIPTION:“SOLD! Off to the American Dream!” \nFreedom\, but at what cost? A Palestinian immigrant and her family find more freedom in the US than expected. \nA true-life storytelling show written and performed by Laila Lee. In this one-woman show\, Laila brings to light her experiences growing up Muslim in the American South\, how she discovers her place in the world\, and what sacrifices she must make. \nVenue:\nBMO Studio Theatre\n112 Princess Street\, Saint John\, NB\, E2L 1K4 \nLight Bringer Productions\nwww.thelight-bringer.com
URL:https://uptownsj.com/event/the-light-bringer-at-fundy-fringe-festival/2023-08-24/2/
LOCATION:The BMO Studio Theatre\, 112 Princess St\, 112 Princess St\, Saint John\, NB\, E2L 1K4\, Canada
CATEGORIES:Theatre
ORGANIZER;CN="Fundy Fringe Festival":MAILTO:director@fundyfringefestival.com
END:VEVENT
BEGIN:VEVENT
DTSTART;TZID=America/Halifax:20230825T000000
DTEND;TZID=America/Halifax:20230829T000000
DTSTAMP:20260425T103434
CREATED:20230828T123630Z
LAST-MODIFIED:20230828T123630Z
UID:10005552-1692921600-1693267200@uptownsj.com
SUMMARY:The Light Bringer at Fundy Fringe Festival
DESCRIPTION:“SOLD! Off to the American Dream!” \nFreedom\, but at what cost? A Palestinian immigrant and her family find more freedom in the US than expected. \nA true-life storytelling show written and performed by Laila Lee. In this one-woman show\, Laila brings to light her experiences growing up Muslim in the American South\, how she discovers her place in the world\, and what sacrifices she must make. \nVenue:\nBMO Studio Theatre\n112 Princess Street\, Saint John\, NB\, E2L 1K4 \nLight Bringer Productions\nwww.thelight-bringer.com
URL:https://uptownsj.com/event/the-light-bringer-at-fundy-fringe-festival/2023-08-25/1/
LOCATION:The BMO Studio Theatre\, 112 Princess St\, 112 Princess St\, Saint John\, NB\, E2L 1K4\, Canada
CATEGORIES:Theatre
ORGANIZER;CN="Fundy Fringe Festival":MAILTO:director@fundyfringefestival.com
END:VEVENT
BEGIN:VEVENT
DTSTART;TZID=America/Halifax:20230825T210000
DTEND;TZID=America/Halifax:20230825T220000
DTSTAMP:20260425T103434
CREATED:20230828T123630Z
LAST-MODIFIED:20230828T123630Z
UID:10005553-1692997200-1693000800@uptownsj.com
SUMMARY:The Light Bringer at Fundy Fringe Festival
DESCRIPTION:“SOLD! Off to the American Dream!” \nFreedom\, but at what cost? A Palestinian immigrant and her family find more freedom in the US than expected. \nA true-life storytelling show written and performed by Laila Lee. In this one-woman show\, Laila brings to light her experiences growing up Muslim in the American South\, how she discovers her place in the world\, and what sacrifices she must make. \nVenue:\nBMO Studio Theatre\n112 Princess Street\, Saint John\, NB\, E2L 1K4 \nLight Bringer Productions\nwww.thelight-bringer.com
URL:https://uptownsj.com/event/the-light-bringer-at-fundy-fringe-festival/2023-08-25/2/
LOCATION:The BMO Studio Theatre\, 112 Princess St\, 112 Princess St\, Saint John\, NB\, E2L 1K4\, Canada
CATEGORIES:Theatre
ORGANIZER;CN="Fundy Fringe Festival":MAILTO:director@fundyfringefestival.com
END:VEVENT
BEGIN:VEVENT
DTSTART;TZID=America/Halifax:20230826T000000
DTEND;TZID=America/Halifax:20230830T000000
DTSTAMP:20260425T103434
CREATED:20230828T123630Z
LAST-MODIFIED:20230828T123630Z
UID:10005554-1693008000-1693353600@uptownsj.com
SUMMARY:The Light Bringer at Fundy Fringe Festival
DESCRIPTION:“SOLD! Off to the American Dream!” \nFreedom\, but at what cost? A Palestinian immigrant and her family find more freedom in the US than expected. \nA true-life storytelling show written and performed by Laila Lee. In this one-woman show\, Laila brings to light her experiences growing up Muslim in the American South\, how she discovers her place in the world\, and what sacrifices she must make. \nVenue:\nBMO Studio Theatre\n112 Princess Street\, Saint John\, NB\, E2L 1K4 \nLight Bringer Productions\nwww.thelight-bringer.com
URL:https://uptownsj.com/event/the-light-bringer-at-fundy-fringe-festival/2023-08-26/1/
LOCATION:The BMO Studio Theatre\, 112 Princess St\, 112 Princess St\, Saint John\, NB\, E2L 1K4\, Canada
CATEGORIES:Theatre
ORGANIZER;CN="Fundy Fringe Festival":MAILTO:director@fundyfringefestival.com
END:VEVENT
BEGIN:VEVENT
DTSTART;TZID=America/Halifax:20230826T180000
DTEND;TZID=America/Halifax:20230826T190000
DTSTAMP:20260425T103434
CREATED:20230828T123630Z
LAST-MODIFIED:20230828T123630Z
UID:10005555-1693072800-1693076400@uptownsj.com
SUMMARY:The Light Bringer at Fundy Fringe Festival
DESCRIPTION:“SOLD! Off to the American Dream!” \nFreedom\, but at what cost? A Palestinian immigrant and her family find more freedom in the US than expected. \nA true-life storytelling show written and performed by Laila Lee. In this one-woman show\, Laila brings to light her experiences growing up Muslim in the American South\, how she discovers her place in the world\, and what sacrifices she must make. \nVenue:\nBMO Studio Theatre\n112 Princess Street\, Saint John\, NB\, E2L 1K4 \nLight Bringer Productions\nwww.thelight-bringer.com
URL:https://uptownsj.com/event/the-light-bringer-at-fundy-fringe-festival/2023-08-26/2/
LOCATION:The BMO Studio Theatre\, 112 Princess St\, 112 Princess St\, Saint John\, NB\, E2L 1K4\, Canada
CATEGORIES:Theatre
ORGANIZER;CN="Fundy Fringe Festival":MAILTO:director@fundyfringefestival.com
END:VEVENT
END:VCALENDAR