BEGIN:VCALENDAR
VERSION:2.0
PRODID:-//Uptown Saint John - ECPv6.15.20//NONSGML v1.0//EN
CALSCALE:GREGORIAN
METHOD:PUBLISH
X-WR-CALNAME:Uptown Saint John
X-ORIGINAL-URL:https://uptownsj.com
X-WR-CALDESC:Events for Uptown Saint John
REFRESH-INTERVAL;VALUE=DURATION:PT1H
X-Robots-Tag:noindex
X-PUBLISHED-TTL:PT1H
BEGIN:VTIMEZONE
TZID:America/Halifax
BEGIN:DAYLIGHT
TZOFFSETFROM:-0400
TZOFFSETTO:-0300
TZNAME:ADT
DTSTART:20240310T060000
END:DAYLIGHT
BEGIN:STANDARD
TZOFFSETFROM:-0300
TZOFFSETTO:-0400
TZNAME:AST
DTSTART:20241103T050000
END:STANDARD
BEGIN:DAYLIGHT
TZOFFSETFROM:-0400
TZOFFSETTO:-0300
TZNAME:ADT
DTSTART:20250309T060000
END:DAYLIGHT
BEGIN:STANDARD
TZOFFSETFROM:-0300
TZOFFSETTO:-0400
TZNAME:AST
DTSTART:20251102T050000
END:STANDARD
BEGIN:DAYLIGHT
TZOFFSETFROM:-0400
TZOFFSETTO:-0300
TZNAME:ADT
DTSTART:20260308T060000
END:DAYLIGHT
BEGIN:STANDARD
TZOFFSETFROM:-0300
TZOFFSETTO:-0400
TZNAME:AST
DTSTART:20261101T050000
END:STANDARD
END:VTIMEZONE
BEGIN:VEVENT
DTSTART;TZID=America/Halifax:20250503T193000
DTEND;TZID=America/Halifax:20250503T210000
DTSTAMP:20260420T032439
CREATED:20240610T194121Z
LAST-MODIFIED:20240610T194121Z
UID:10007820-1746300600-1746306000@uptownsj.com
SUMMARY:Matt Dusk sings Tony Bennett
DESCRIPTION:Matt Dusk: \nTHE BEST IS YET TO COME \nMatt Dusk is one of Canada’s most beloved male vocalists\, forging a career in music that has resulted in fourteen critically-acclaimed studio albums and sold over one million albums world wide. \nDusk pays tribute to one of his greatest inspirations\, the legendary Tony Bennett. With over 70 years of entertaining audiences\, Bennett has become an American icon\, earning 19 Grammy Awards\, two Emmy Awards\, and a Lifetime Achievement Award from the Recording Academy \n“The Best Is Yet To Come” showcases Dusk’s remarkable vocal range and talent\, bringing to life the essence of Bennett’s style and honouring his legacy with classic songs such as “I Left My Heart in San Francisco\,” “The Way You Look Tonight\,” and “The Good Life.” The show is a toe-tapping journey through Bennett’s most beloved hits\, with Dusk putting his own unique spin on the timeless tunes. \nDusk has been awarded four GOLD albums: TWO SHOTS (Canada\, The Netherlands) and GOOD NEWS\, SINATRA Vol.2\, four PLATINUM albums: MY FUNNY VALENTINE and JUST THE TWO OF US\, OLD SCHOOL YULE!\,JETSETJAZZ and SINATRA Vol.1 \nHe has had three number one radio hits: ALL ABOUT ME (Canada)\, BACK IN TOWN (Japan)\, and GOOD NEWS (France)\, is an alumnus of the St. Michael’s Choir School and studied under jazz piano legend Oscar Peterson at York University. \nNotable award nominations include\, five JUNO awards\, one ADISQ\, and one Róże Gali: Muzyka. \nDusk’s performance was a masterclass in paying tribute to a legend while making the songs his own. Go See It!” – Le Monde \nIf you’re a fan of the standards or just great music in general\, you cannot miss Matt Dusk. A phenomenal night of unbelievable entertainment. – Chicago Tribune \nLong live the Great American Songbook! The evening is so captivating that one almost forgets you are not living in a world when standards were king. This show is a must-see. – Houston Chronicle
URL:https://uptownsj.com/event/matt-dusk-sings-tony-bennett/
LOCATION:Imperial Theatre\, 12 King Square S.\, Saint John
CATEGORIES:Theatre
END:VEVENT
END:VCALENDAR