BEGIN:VCALENDAR
VERSION:2.0
PRODID:-//Uptown Saint John - ECPv6.15.20//NONSGML v1.0//EN
CALSCALE:GREGORIAN
METHOD:PUBLISH
X-ORIGINAL-URL:https://uptownsj.com
X-WR-CALDESC:Events for Uptown Saint John
REFRESH-INTERVAL;VALUE=DURATION:PT1H
X-Robots-Tag:noindex
X-PUBLISHED-TTL:PT1H
BEGIN:VTIMEZONE
TZID:America/Halifax
BEGIN:DAYLIGHT
TZOFFSETFROM:-0400
TZOFFSETTO:-0300
TZNAME:ADT
DTSTART:20220313T060000
END:DAYLIGHT
BEGIN:STANDARD
TZOFFSETFROM:-0300
TZOFFSETTO:-0400
TZNAME:AST
DTSTART:20221106T050000
END:STANDARD
BEGIN:DAYLIGHT
TZOFFSETFROM:-0400
TZOFFSETTO:-0300
TZNAME:ADT
DTSTART:20230312T060000
END:DAYLIGHT
BEGIN:STANDARD
TZOFFSETFROM:-0300
TZOFFSETTO:-0400
TZNAME:AST
DTSTART:20231105T050000
END:STANDARD
BEGIN:DAYLIGHT
TZOFFSETFROM:-0400
TZOFFSETTO:-0300
TZNAME:ADT
DTSTART:20240310T060000
END:DAYLIGHT
BEGIN:STANDARD
TZOFFSETFROM:-0300
TZOFFSETTO:-0400
TZNAME:AST
DTSTART:20241103T050000
END:STANDARD
END:VTIMEZONE
BEGIN:VEVENT
DTSTART;TZID=America/Halifax:20231201T200000
DTEND;TZID=America/Halifax:20231201T200000
DTSTAMP:20260423T145523
CREATED:20230828T124648Z
LAST-MODIFIED:20230828T124648Z
UID:10005559-1701460800-1701460800@uptownsj.com
SUMMARY:Jesse Cook: The Libre Tour
DESCRIPTION:Internationally renowned Canadian guitar virtuoso Jesse Cook has announced his 2023 Libre Tour\, on which he’ll perform multiple shows in the Maritimes this fall\, including a stop at Saint John’s Imperial Theatre on December 1. Doors open at 7:30 p.m. Show time is 8 p.m.
URL:https://uptownsj.com/event/jesse-cook-the-libre-tour/
LOCATION:Imperial Theatre\, 12 King Square S.\, Saint John
CATEGORIES:Live Music
ORGANIZER;CN="Sonic Concerts":MAILTO:info@sonicconcerts.com
END:VEVENT
END:VCALENDAR