BEGIN:VCALENDAR
VERSION:2.0
PRODID:-//Uptown Saint John - ECPv6.15.20//NONSGML v1.0//EN
CALSCALE:GREGORIAN
METHOD:PUBLISH
X-WR-CALNAME:Uptown Saint John
X-ORIGINAL-URL:https://uptownsj.com
X-WR-CALDESC:Events for Uptown Saint John
REFRESH-INTERVAL;VALUE=DURATION:PT1H
X-Robots-Tag:noindex
X-PUBLISHED-TTL:PT1H
BEGIN:VTIMEZONE
TZID:America/Halifax
BEGIN:DAYLIGHT
TZOFFSETFROM:-0400
TZOFFSETTO:-0300
TZNAME:ADT
DTSTART:20220313T060000
END:DAYLIGHT
BEGIN:STANDARD
TZOFFSETFROM:-0300
TZOFFSETTO:-0400
TZNAME:AST
DTSTART:20221106T050000
END:STANDARD
BEGIN:DAYLIGHT
TZOFFSETFROM:-0400
TZOFFSETTO:-0300
TZNAME:ADT
DTSTART:20230312T060000
END:DAYLIGHT
BEGIN:STANDARD
TZOFFSETFROM:-0300
TZOFFSETTO:-0400
TZNAME:AST
DTSTART:20231105T050000
END:STANDARD
BEGIN:DAYLIGHT
TZOFFSETFROM:-0400
TZOFFSETTO:-0300
TZNAME:ADT
DTSTART:20240310T060000
END:DAYLIGHT
BEGIN:STANDARD
TZOFFSETFROM:-0300
TZOFFSETTO:-0400
TZNAME:AST
DTSTART:20241103T050000
END:STANDARD
END:VTIMEZONE
BEGIN:VEVENT
DTSTART;TZID=America/Halifax:20231021T100000
DTEND;TZID=America/Halifax:20231021T170000
DTSTAMP:20260423T174040
CREATED:20231017T150647Z
LAST-MODIFIED:20231017T150647Z
UID:10005663-1697882400-1697907600@uptownsj.com
SUMMARY:Love is Louder: a Celebration of Diversity
DESCRIPTION:A free\, community-organized event for all ages.\nLive music + DJ\, vendors\, storytelling and more…! \nJoin us to help celebrate diversity and inclusion of families in our area. \nhttps://bit.ly/ns4hnb
URL:https://uptownsj.com/event/love-is-louder-a-celebration-of-diversity/
LOCATION:King’s Square\, Saint John\, New Brunswick\, Canada
CATEGORIES:Art,Community,Cultural Event,Free,Live Music
END:VEVENT
BEGIN:VEVENT
DTSTART;TZID=America/Halifax:20231021T193000
DTEND;TZID=America/Halifax:20231021T193000
DTSTAMP:20260423T174040
CREATED:20230628T161109Z
LAST-MODIFIED:20230628T161109Z
UID:10005409-1697916600-1697916600@uptownsj.com
SUMMARY:Classic Albums Live: Fleetwood Mac – RUMOURS
DESCRIPTION:The full album – Note for Note / Cut for Cut
URL:https://uptownsj.com/event/classic-albums-live-fleetwood-mac-rumours/
LOCATION:Imperial Theatre\, 12 King Square S.\, Saint John
CATEGORIES:Community,Live Music,Theatre
END:VEVENT
BEGIN:VEVENT
DTSTART;TZID=America/Halifax:20231021T200000
DTEND;TZID=America/Halifax:20231021T223000
DTSTAMP:20260423T174040
CREATED:20230828T123758Z
LAST-MODIFIED:20230828T123758Z
UID:10005573-1697918400-1697927400@uptownsj.com
SUMMARY:All Hallow's Eve - A Paranormal Cabaret
DESCRIPTION:Beware and proceed with Caution⚠️\nThe Producers of “CåRNIVäL Ko’kediSH”\, “HËLL-Ø-WEEN – A Ghoulesque Production” and “Night at the Movies- A Burlesque Revue”\, have another show that will leave you on the edge of your seat! It will be spooky in the 90 year old Kent Theatre and all the ghost will be out. Don’t be afraid to buy your ticket early as this show will SELL OUT !\nDoors open at 6:30 – show at 8:00\nFOR TICKETS: https://www.imperialonline.ca/TheatreManager/1/online?performance=5140&fbclid=IwAR0haYxfDDlOaztqZvtWyJw5pxbzsXwC0z5DRGzBNG_5YqFvDPW–d9DuZ
URL:https://uptownsj.com/event/all-hallows-eve-a-paranormal-cabaret/
LOCATION:Kent Theatre\, 24 Coburg Street\, Saint John\, New Brunswick\, Canada
CATEGORIES:Comedy,Theatre
END:VEVENT
END:VCALENDAR