BEGIN:VCALENDAR
VERSION:2.0
PRODID:-//Uptown Saint John - ECPv6.15.20//NONSGML v1.0//EN
CALSCALE:GREGORIAN
METHOD:PUBLISH
X-WR-CALNAME:Uptown Saint John
X-ORIGINAL-URL:https://uptownsj.com
X-WR-CALDESC:Events for Uptown Saint John
REFRESH-INTERVAL;VALUE=DURATION:PT1H
X-Robots-Tag:noindex
X-PUBLISHED-TTL:PT1H
BEGIN:VTIMEZONE
TZID:America/Halifax
BEGIN:DAYLIGHT
TZOFFSETFROM:-0400
TZOFFSETTO:-0300
TZNAME:ADT
DTSTART:20230312T060000
END:DAYLIGHT
BEGIN:STANDARD
TZOFFSETFROM:-0300
TZOFFSETTO:-0400
TZNAME:AST
DTSTART:20231105T050000
END:STANDARD
BEGIN:DAYLIGHT
TZOFFSETFROM:-0400
TZOFFSETTO:-0300
TZNAME:ADT
DTSTART:20240310T060000
END:DAYLIGHT
BEGIN:STANDARD
TZOFFSETFROM:-0300
TZOFFSETTO:-0400
TZNAME:AST
DTSTART:20241103T050000
END:STANDARD
BEGIN:DAYLIGHT
TZOFFSETFROM:-0400
TZOFFSETTO:-0300
TZNAME:ADT
DTSTART:20250309T060000
END:DAYLIGHT
BEGIN:STANDARD
TZOFFSETFROM:-0300
TZOFFSETTO:-0400
TZNAME:AST
DTSTART:20251102T050000
END:STANDARD
END:VTIMEZONE
BEGIN:VEVENT
DTSTART;TZID=America/Halifax:20240504T193000
DTEND;TZID=America/Halifax:20240504T220000
DTSTAMP:20260422T023352
CREATED:20240423T133726Z
LAST-MODIFIED:20240423T133726Z
UID:10007264-1714851000-1714860000@uptownsj.com
SUMMARY:No Jokes Barred
DESCRIPTION:🎤 No Jokes Barred: Uncensored Comedy Showcase 🎤 \nGet ready for a galactic night of uproarious laughter at “No Jokes Barred” – Saint John’s fanciest and most daring stand-up comedy show! 🚀 \n📅 Date: May the 4th\, 2024\n🕖 Time: Doors at 7:30 PM / Show from 8:00 to 10:00 PM\n📍 Venue: Water Street Dinner Theatre \nJoin us for an unforgettable evening where comedy takes center stage amidst the elegance of Water Street Dinner Theatre. Since 2014\, “No Jokes Barred” has been pushing the boundaries of humor in Saint John\, offering raw\, unfiltered comedy that’s guaranteed to have you in stitches. \nAt “No Jokes Barred\,” comedians are encouraged to take risks and experiment on stage. Whether they’re Jedi masters of comedy or padawan newcomers\, our lineup features both seasoned veterans and fresh faces ready to deliver side-splitting performances that even Yoda would applaud. \nSo why not celebrate Star Wars Day with us? Dress to impress in your finest galactic attire\, grab a few drinks\, and prepare for a night of laughter that’s sure to be out of this world! 🌌\nRemember\, this is a “pay what you can” show\, so come as you are and contribute what you’re able to support our talented comedians. \nDon’t miss out on the comedy event of the season! Join us at Water Street Dinner Theatre for “No Jokes Barred” – where anything goes\, and laughter is always on the menu.\nHosted by Jon Forward (LOL Fest @ The Imperial Theatre\, Punchlines Comedy Club\, Bell TV and Rogers TV) \nFeaturing:\nMichelle Petite\nShane Ogden\nSebastien Doiron\nJeff Pinnell\nKatelin Dean\nMandy-Lynn Donovan\nLiam McNamara
URL:https://uptownsj.com/event/no-jokes-barred-2/
LOCATION:Steamers Lobster Company\, 110 Water Street\, Saint John\, New Brunswick\, E2l 5g1\, Canada
CATEGORIES:Comedy
ORGANIZER;CN="Jon Forward Comedy":MAILTO:jonforward@gmail.com
END:VEVENT
BEGIN:VEVENT
DTSTART;TZID=America/Halifax:20240506T190000
DTEND;TZID=America/Halifax:20240506T213000
DTSTAMP:20260422T023352
CREATED:20240405T121024Z
LAST-MODIFIED:20240405T121024Z
UID:10006963-1715022000-1715031000@uptownsj.com
SUMMARY:Tim Maloney's Lobster Tales
DESCRIPTION:Mark your calendars for MAY 6th! The return of Lobster Tales! \n🎤 Local entertainer Tim Maloney hosts a high energy\, informative\, interactive stage production paired with a 3 Course Lobster Dinner! \n🍽️ Dinner includes:\n– One Cup up of Piping hot Seafood Chowder\n– Bucket of P.E.I. Mussels\n– 1 .25lb Bay of Fundy Lobster\n– Corn on the Cob \n👇🏽 Click link below and book your tickets TODAY!
URL:https://uptownsj.com/event/tim-maloneys-lobster-tales-2/
LOCATION:Steamers Lobster Company\, 110 Water Street\, Saint John\, New Brunswick\, E2l 5g1\, Canada
CATEGORIES:Comedy,Food
ORGANIZER;CN="Steamers Lobster Company":MAILTO:Roy@steamerslobstercompany.com
END:VEVENT
BEGIN:VEVENT
DTSTART;TZID=America/Halifax:20240517T180000
DTEND;TZID=America/Halifax:20240517T200000
DTSTAMP:20260422T023352
CREATED:20240515T193945Z
LAST-MODIFIED:20240515T193945Z
UID:10007400-1715968800-1715976000@uptownsj.com
SUMMARY:Live Jazz at Trinity Galleries
DESCRIPTION:Enjoy an unforgettable evening where music and art converge\, featuring exceptional performances by talented jazz musicians amidst stunning artworks. Savour exquisite cocktails and fine wines as you immerse yourself in a night of captivating melodies and stunning visual artistry—the perfect atmosphere and vibe to enjoy this Victoria Day weekend. \n1 free drink with $10 door charge
URL:https://uptownsj.com/event/live-jazz-at-trinity-galleries/
LOCATION:Trinity Galleries\, 128 GERMAIN ST.\, SAINT JOHN\, New Brunswick\, E2L 2E7\, Canada
CATEGORIES:Art,Live Music
ORGANIZER;CN="trinity galleries":MAILTO:art@trintygalleries.ca
END:VEVENT
BEGIN:VEVENT
DTSTART;TZID=America/Halifax:20240520T080000
DTEND;TZID=America/Halifax:20240520T220000
DTSTAMP:20260422T023352
CREATED:20240513T134546Z
LAST-MODIFIED:20240513T134546Z
UID:10007396-1716192000-1716242400@uptownsj.com
SUMMARY:Case of the Mondays Comedy Show
DESCRIPTION:May 20th the latest edition of Case of the Mondays comes to Wasted Day Brewing. 8pm the fun gets started and it’s No cover comedy so come laugh and finish the long weekend the right way.
URL:https://uptownsj.com/event/case-of-the-mondays-comedy-show/
LOCATION:Wasted Day Brewing\, 36 Water Street\, Saint John\, New Brunswick\, E2L 2A5\, Canada
CATEGORIES:Art,Comedy,Free,Live Music,Theatre
ORGANIZER;CN="new brunswick 7 Productions":MAILTO:civesstandup@gmail.com
END:VEVENT
END:VCALENDAR