BEGIN:VCALENDAR
VERSION:2.0
PRODID:-//Uptown Saint John - ECPv6.15.20//NONSGML v1.0//EN
CALSCALE:GREGORIAN
METHOD:PUBLISH
X-ORIGINAL-URL:https://uptownsj.com
X-WR-CALDESC:Events for Uptown Saint John
REFRESH-INTERVAL;VALUE=DURATION:PT1H
X-Robots-Tag:noindex
X-PUBLISHED-TTL:PT1H
BEGIN:VTIMEZONE
TZID:America/Halifax
BEGIN:DAYLIGHT
TZOFFSETFROM:-0400
TZOFFSETTO:-0300
TZNAME:ADT
DTSTART:20230312T060000
END:DAYLIGHT
BEGIN:STANDARD
TZOFFSETFROM:-0300
TZOFFSETTO:-0400
TZNAME:AST
DTSTART:20231105T050000
END:STANDARD
BEGIN:DAYLIGHT
TZOFFSETFROM:-0400
TZOFFSETTO:-0300
TZNAME:ADT
DTSTART:20240310T060000
END:DAYLIGHT
BEGIN:STANDARD
TZOFFSETFROM:-0300
TZOFFSETTO:-0400
TZNAME:AST
DTSTART:20241103T050000
END:STANDARD
BEGIN:DAYLIGHT
TZOFFSETFROM:-0400
TZOFFSETTO:-0300
TZNAME:ADT
DTSTART:20250309T060000
END:DAYLIGHT
BEGIN:STANDARD
TZOFFSETFROM:-0300
TZOFFSETTO:-0400
TZNAME:AST
DTSTART:20251102T050000
END:STANDARD
END:VTIMEZONE
BEGIN:VEVENT
DTSTART;TZID=America/Halifax:20240409T193000
DTEND;TZID=America/Halifax:20240409T193000
DTSTAMP:20260422T042456
CREATED:20230628T181001Z
LAST-MODIFIED:20230628T181001Z
UID:10005448-1712691000-1712691000@uptownsj.com
SUMMARY:CANDACE BUSHNELL True Tales of Sex\, Success and SEX AND THE CITY
DESCRIPTION:Candace Bushnell is the critically acclaimed\, international best-selling author of ten books\, including Is There Still Sex in the City\, Sex and the City\, Summer and the City\, The Carrie Diaries\, One Fifth Avenue\, Lipstick Jungle\, Trading Up\, Killing Monica and Four Blondes. Sex and the City\, published in 1996\, was the basis for the HBO hit series and two subsequent blockbuster movies. Lipstick Jungle became a popular television series on NBC\, as did The Carrie Diaries on the CW. Is There Still Sex in the City? is currently in development as a TV series with Paramount. Most recently\, Bushnell wrote and performs in her new one woman show\, Is There Still Sex in the City? \nFrom Sex and the City through ten successive novels\, Bushnell has revealed a gift for tapping into the zeitgeist of any New York minute. With each book\, she has deepened her range\, but with a light touch that makes her complex literary accomplishments look easy. The Guardian Newspaper sums up Bushnell’s work this way: “She caustically addresses the conditions of materialism\, cramped urban life\, and metropolitan speed\, where fame and wealth are all around\, but never in one’s grasp . . . . Bushnell is courageous in bringing this to the fore\, and she is blessed with an Austen-like mastery in doing so. She cuts through the lies that women tell themselves about the surface equality of Western society. As such\, she has much more in common with Edith Wharton\, Dorothy Parker and early Bret Easton Ellis.” \nBushnell (b. Dec. 1\, 1958) grew up in Glastonbury\, Ct\, and moved to New York City at age 19. She attended Rice University and New York University\, and began her professional career at 19 when she wrote a children’s book for Simon & Schuster. Throughout her twenties\, Bushnell developed her trademark style as a freelancer\, writing darkly humorous pieces about women\, relationships and dating for Mademoiselle\, Self Magazine\, and Esquire. \nIn 1990\, she wrote a column that would become a precursor for Sex and the City\, called The Human Cartoon\, a fictional serial published in Hamptons Magazine. \nShe began writing for the New York Observer in 1993; in November of 1994 she created the column Sex and the City\, which ran in the New York Observer for two years. The column was bought as a book in 1995\, and sold to HBO as a series in 1996. Bushnell hosted a radio show on Sirius Satellite Radio\, called Sex\, Success\, and Sensibility\, which aired from October 2006 to October 2008. She wrote and created a web series\, The Broadroom\, starring Jennie Garth\, which launched in September 2009. \nThrough her books and television series\, Bushnell’s work has influenced and defined two generations of women. She is the winner of the 2006 Matrix Award for books (other winners include Joan Didion and Amy Tan)\, and a recipient of the Albert Einstein Spirit of Achievement Award. She currently divides her time between New York City and Sag Harbor\, New York.
URL:https://uptownsj.com/event/candace-bushnell-true-tales-of-sex-success-and-sex-and-the-city/
LOCATION:Imperial Theatre\, 12 King Square S.\, Saint John
CATEGORIES:Comedy,Community,Theatre
END:VEVENT
BEGIN:VEVENT
DTSTART;TZID=America/Halifax:20240411T193000
DTEND;TZID=America/Halifax:20240411T193000
DTSTAMP:20260422T042456
CREATED:20230628T180923Z
LAST-MODIFIED:20230628T180923Z
UID:10005449-1712863800-1712863800@uptownsj.com
SUMMARY:Altar
DESCRIPTION:About the play: \nEugenio is a queer young immigrant living in St. John’s\, Newfoundland & Labrador. Since moving from Mexico less than a year ago\, he has experienced deep love and even deeper heartbreak when Benjamin\, his new boyfriend\, inexplicably “ghosts” him. Looking to the traditional Mexican holiday Día de los Muertos and his father’s previous experience with paranormal activities\, Eugenio decides to build an altar in the hopes that he will be able to summon his boyfriend’s ‘ghost’ and gain the closure he so desperately desires. Through the altar\, Eugenio realizes that he has been something of a ghost himself to those left behind in Mexico. Will setting up an altar be enough to heal these relationships or is there more to find out? \nAbout the creator: \nSantiago Guzmán (he/they) is an award-winning playwright\, dramaturge\, performer\, and director originally from Metepec\, Mexico\, now based in St. John’s\, NL. He is the Artistic Director of TODOS Productions & the Interim Artistic Director for Playwrights Atlantic Resource Centre. \nSantiago’s work as a writer aims to put local\, under-represented narratives and characters on the frontlines\, whilst inviting audiences to appreciate the vibrancy of Newfoundland and Labrador from a diverse perspective.\nTheir work has been supported\, developed and/or produced by theatre companies and festivals such as TODOS Productions (NL)\, Resource Centre for the Arts Theatre Company (NL)\, White Rooster Theatre (NL)\, Artistic Fraud of Newfoundland (NL)\, Poverty Cove Theatre Company (NL)\, Rising Tide Theatre (NL)\, Neighbourhood Dance Works (NL)\, Theatre Newfoundland and Labrador (NL)\, Eastern Front Theatre (NS)\, PARC (pan-Atlantic)\, Ship’s Company Theatre (NS)\, Theatre New Brunswick (NB)\, Boca Del Lupo (BC)\, Paprika Festival (ON)\, Banff Playwrights Lab (AB) and the National Theatre School of Canada’s Art Apart Program (QC). He is a member of Playwrights Canada Press’s inaugural editorial committee.\nHis play ALTAR was produced by the Resource Centre for the Arts Theatre Company in 2021 and toured across high schools in Newfoundland and Labrador as a digital offering\, as well as national presentations at Prismatic Arts Festival\, (NS) and Aluna Theatre’s RUTAS Festival (ON). ALTAR will receive a second production by Theatre New Brunswick in the winter of 2023 and tour their province alongside the world premiere of his new TYA play\, S.T.O.P.\nSantiago’s play Urn received the Senior Dramatic Script Award of the Newfoundland and Labrador 2022 Arts and Letters Awards & was shortlisted for the NLCU Fresh Fish Award 2022. Most recently\, Santiago has been awarded the inaugural John Palmer Award 2022 through the Playwrights Guild of Canada for being a change-maker in the theatre industry with his advocacy in the arts regarding equity\, diversity\, and anti-racism.\nSantiago’s work is very gay\, very brown\, and very real. Representation matters.
URL:https://uptownsj.com/event/altar/
LOCATION:Imperial Theatre\, 12 King Square S.\, Saint John
CATEGORIES:Community,Theatre
END:VEVENT
BEGIN:VEVENT
DTSTART;TZID=America/Halifax:20240412T193000
DTEND;TZID=America/Halifax:20240412T193000
DTSTAMP:20260422T042456
CREATED:20230629T175152Z
LAST-MODIFIED:20230629T175152Z
UID:10005451-1712950200-1712950200@uptownsj.com
SUMMARY:Saltwater Songs – featuring Catherine MacLellan\, Rachel Beck and Cassie & Maggie
DESCRIPTION:Catherine MacLellan\, Rachel Beck\, and Cassie & Maggie are joining forces to present a songwriters’ circle like no other. These three East Coast acts will share the stage for a collaborative and unforgettable evening of entertainment including original folk\, pop\, and Americana\, as well as traditional fiddle tunes and step dance.\nThis is a show not to be missed! \nCATHERINE MACLELLAN\n“Catherine MacLellan creates windows to the world with her songs\, her words a travelogue of the passing humans juggling heartbreak\, loss and the joy of life.”— The Alternate Root\nCatherine MacLellan is a JUNO award winner\, ECMA songwriter of the year\, and has released 7 albums over the past 20 years while touring around the world.\nShe makes her home in her beloved Canadian province of Prince Edward Island/ Epekwitk\, and much of her music reflects the landscape of the Island. Catherine is dedicated to the craft of songwriting\, and her desire for connection is at the heart of her work. \nRACHEL BECK\n“Captivating and dreamy vocals.”— Ottawa Life Magazine\nRachel Beck is an indie pop songwriter whose dreamy vocals wash over you\, as the waves lap the shores of her beloved Prince Edward Island. Her ethereal 2020 release\, “Stronger Than You Know\,” was celebrated as Music PEI’s Album of the Year and nominated for three ECMAs. It followed the soaring success of Beck’s debut single\, Reckless Heart\, which earned the #1 spot on the national CBC Music Top 20 Chart and was subsequently named one of the Top 100 Canadian Songs of 2018. \nCASSIE & MAGGIE\n“It’s hard to think of a more entertaining act in music right now. As always\, the bottom line is the music\, and they play it superbly.” — Live Ireland Radio\n2018 JUNO nominees\, Nova Scotian sisters Cassie and Maggie are putting their own 21st Century stamp on the Celtic soundtrack of this nation. Exciting and innovative\, their talent is surpassed only by the sheer joy they exude in performance. Alternating between Gaelic and English\, traditional and contemporary\, haunting and electrifying\, the duo is nothing short of mesmerizing. Born to a family of deep Nova Scotia roots and a rich musical history\, the two have been enchanting audiences around the world with their unparalleled unity of strings\, voices and fabulous percussive step dance.
URL:https://uptownsj.com/event/saltwater-songs-featuring-catherine-maclellan-rachel-beck-and-cassie-maggie/
LOCATION:Imperial Theatre\, 12 King Square S.\, Saint John
CATEGORIES:Community,Theatre
END:VEVENT
BEGIN:VEVENT
DTSTART;TZID=America/Halifax:20240415T193000
DTEND;TZID=America/Halifax:20240415T213000
DTSTAMP:20260422T042456
CREATED:20240226T132651Z
LAST-MODIFIED:20240226T132651Z
UID:10006153-1713209400-1713216600@uptownsj.com
SUMMARY:Tina Randell - Oh Me Nerves !
DESCRIPTION:Her nerves are gone and the youngsters got her drove ! Tina Randell will have you in stitches with her down home brand of Newfoundland comedy. Join us at the Kent for an evening of gut busting laughter that will start your week off right. For tickets\, visit the Imperial Theatre Box Office or online at:\nhttps://www.imperialonline.ca/…/1/tmEvent/tmEvent4168.html See less
URL:https://uptownsj.com/event/tina-randell-oh-me-nerves/
LOCATION:Kent Theatre\, 24 Coburg Street\, Saint John\, New Brunswick\, Canada
CATEGORIES:Comedy
END:VEVENT
BEGIN:VEVENT
DTSTART;TZID=America/Halifax:20240416T193000
DTEND;TZID=America/Halifax:20240416T193000
DTSTAMP:20260422T042456
CREATED:20230629T175303Z
LAST-MODIFIED:20230629T175303Z
UID:10005453-1713295800-1713295800@uptownsj.com
SUMMARY:Choir! Choir! Choir!
DESCRIPTION:Choir! Choir! Choir! is a Toronto-based singing group led by creative directors Nobu Adilman and Daveed Goldman. The duo takes a non-traditional approach; there are no auditions\, and the audience is the choir! Show up and they’ll teach you an original arrangement to a song you LOVE. \n“Choir! Choir! Choir! has fashioned a profound way for people to connect and interact” – The New Yorker \n“Choir! Choir! Choir! has grown into a national phenomenon by tapping into a need that people share – and have few opportunities to actually do – joining together\, opening their hearts and raising their voices in song.” CBC \nFounded in 2011\, Choir! Choir! Choir! has amassed a dedicated and passionate community of singers and a thriving international fan base on YouTube amassing millions of views on some of their videos. \nThe group has performed with renowned artists such as Patti Smith\, David Byrne\, Rick Astley\, Tegan and Sara\, and Rufus Wainwright\, and onstage at New York’s Carnegie Hall and Radio City Music Hall with the likes of Debbie Harry and The Flaming Lips. They’ve created content for NBC’s Jesus Christ Superstar with Hamilton’s Brandon Victor Dixon. And they they’ve performed at the MET in New York for New York Pride and hosted their own float in Toronto Pride. They remembered Canadian music hero\, Gord Downie\, by performing Grace Too with the surviving members of the Tragically Hip to 10\,000 fans in Toronto. \nChoir! Choir! Choir! exists to celebrate music and push the boundaries between practice and performance\, artist and audience\, offering therapeutic benefits with the ultimate side effect: a powerful community.
URL:https://uptownsj.com/event/choir-choir-choir/
LOCATION:Imperial Theatre\, 12 King Square S.\, Saint John
CATEGORIES:Community,Live Music,Theatre
END:VEVENT
BEGIN:VEVENT
DTSTART;TZID=America/Halifax:20240419T193000
DTEND;TZID=America/Halifax:20240419T193000
DTSTAMP:20260422T042456
CREATED:20230628T181031Z
LAST-MODIFIED:20230628T181031Z
UID:10005447-1713555000-1713555000@uptownsj.com
SUMMARY:Flip Fabrique: Blizzard
DESCRIPTION:“A gorgeous\, snowy hour of top-notch circus!” \nWhat more can we say? Bring the whole family! \nDuration: 75 mins
URL:https://uptownsj.com/event/flip-fabrique-blizzard/
LOCATION:Imperial Theatre\, 12 King Square S.\, Saint John
CATEGORIES:Community,Theatre
END:VEVENT
BEGIN:VEVENT
DTSTART;TZID=America/Halifax:20240420T190000
DTEND;TZID=America/Halifax:20240420T230000
DTSTAMP:20260422T042456
CREATED:20240405T120324Z
LAST-MODIFIED:20240405T120324Z
UID:10006961-1713639600-1713654000@uptownsj.com
SUMMARY:Foreign Journey Spring Concert Series
DESCRIPTION:The best band playing tribute to musical icons\, Foreigner and Journey from Montreal are coming to Saint John! Foreign Journey plays all those legendary tunes you remember. Join us in reliving some of the best music ever made. Tickets $40 available at Cuts Unlimited 88 Princess st\, Java Moose Prince William or contact Club Rewind Productions.
URL:https://uptownsj.com/event/foreign-journey-spring-concert-series/
LOCATION:Kent Theatre\, 24 Coburg Street\, Saint John\, New Brunswick\, Canada
CATEGORIES:Live Music
ORGANIZER;CN="Club Rewind Productions":MAILTO:Sara.clubrewind@hotmail.com
END:VEVENT
BEGIN:VEVENT
DTSTART;TZID=America/Halifax:20240420T193000
DTEND;TZID=America/Halifax:20240420T213000
DTSTAMP:20260422T042456
CREATED:20240405T120950Z
LAST-MODIFIED:20240405T120950Z
UID:10006962-1713641400-1713648600@uptownsj.com
SUMMARY:Theresa Malenfant & Scott Medford
DESCRIPTION:ECMA winner Theresa Malenfant and renowned guitarist Scott Medford have become one of the most popular blues duo acts in the Atlantic Provinces. They have been performing together in a band for years\, but decided to work as a duo only 6 years ago. In that short time they managed to win second place in an International Blues Challenge (IBC) held in Memphis Tennessee. \nTheresa and Scott have an intuitive way of working with each other\, and the mutual respect and admiration for the other’s abilities is evident from their stage performance. \nTheresa Malenfant has earned the nickname “Queen Bee of the Blues”. When you hear the first note you’ll know why. And she personally selected Scott Medford to be her guitarist. That speaks volumes about his level of playing. \nAn incredible evening of music you’ll not soon forget!
URL:https://uptownsj.com/event/theresa-malenfant-scott-medford/
LOCATION:Steamers Lobster Company\, 110 Water Street\, Saint John\, New Brunswick\, E2l 5g1\, Canada
CATEGORIES:Live Music
END:VEVENT
BEGIN:VEVENT
DTSTART;TZID=America/Halifax:20240421T140000
DTEND;TZID=America/Halifax:20240421T140000
DTSTAMP:20260422T042456
CREATED:20230628T181126Z
LAST-MODIFIED:20230628T181126Z
UID:10005446-1713708000-1713708000@uptownsj.com
SUMMARY:Ballet Jörgen presents Anne of Green Gables – The Ballet
DESCRIPTION:Anne of Green Gables – The Ballet is a playful\, colourful and evocative production that will transport audiences to early 20th century Atlantic Canada. Based on the beloved Canadian novel by Lucy Maud Montgomery\, Anne of Green Gables – The Ballet® follows the adventures of Anne Shirley\, an orphan girl sent to live on a farm in the fictional town of Avonlea\, Prince Edward Island. \nA Pay What You Can show to allow access to EVERYONE!
URL:https://uptownsj.com/event/ballet-jorgen-presents-anne-of-green-gables-the-ballet/
LOCATION:Imperial Theatre\, 12 King Square S.\, Saint John
CATEGORIES:Community,Theatre
END:VEVENT
BEGIN:VEVENT
DTSTART;TZID=America/Halifax:20240424T193000
DTEND;TZID=America/Halifax:20240424T220000
DTSTAMP:20260422T042456
CREATED:20240403T123102Z
LAST-MODIFIED:20240403T123102Z
UID:10006952-1713987000-1713996000@uptownsj.com
SUMMARY:Apryll Aileen - Finding Your Voice
DESCRIPTION:Support mentoring for young people from Sussex to Charlotte County! \nJoin Apryll Aileen on stage at the Imperial along with 3 Big Brothers Big Sisters youth who will be performing for their first time. Aileen will be performing acoustic original material on the grand piano\, as well as new songs from her album “Bad Things”\, that span love\, heartbreak\, and adventure while dancing through inner shadow work. The music inspires and uplifts while simultaneously shining a light on that which drags us down. It is one woman’s journey on the road as an artist\, forging her own path and exploring the depths of her soul through internal introspection and connection with others. \nJoin us for music and a short conversation about mental health\, finding your voice\, and following your passion.
URL:https://uptownsj.com/event/apryll-aileen-finding-your-voice/
LOCATION:Imperial Theatre\, 12 King Square S.\, Saint John
CATEGORIES:Community,Fundraiser,Live Music
END:VEVENT
BEGIN:VEVENT
DTSTART;TZID=America/Halifax:20240426T193000
DTEND;TZID=America/Halifax:20240426T193000
DTSTAMP:20260422T042456
CREATED:20230628T181229Z
LAST-MODIFIED:20230628T181229Z
UID:10005445-1714159800-1714159800@uptownsj.com
SUMMARY:Namaste India
DESCRIPTION:The story of Indian dance told with all the glamour\, colour and excitement of Bollywood!
URL:https://uptownsj.com/event/namaste-india/
LOCATION:Imperial Theatre\, 12 King Square S.\, Saint John
CATEGORIES:Community,Cultural Event,Theatre
END:VEVENT
END:VCALENDAR