BEGIN:VCALENDAR
VERSION:2.0
PRODID:-//Uptown Saint John - ECPv6.15.20//NONSGML v1.0//EN
CALSCALE:GREGORIAN
METHOD:PUBLISH
X-ORIGINAL-URL:https://uptownsj.com
X-WR-CALDESC:Events for Uptown Saint John
REFRESH-INTERVAL;VALUE=DURATION:PT1H
X-Robots-Tag:noindex
X-PUBLISHED-TTL:PT1H
BEGIN:VTIMEZONE
TZID:America/Halifax
BEGIN:DAYLIGHT
TZOFFSETFROM:-0400
TZOFFSETTO:-0300
TZNAME:ADT
DTSTART:20220313T060000
END:DAYLIGHT
BEGIN:STANDARD
TZOFFSETFROM:-0300
TZOFFSETTO:-0400
TZNAME:AST
DTSTART:20221106T050000
END:STANDARD
BEGIN:DAYLIGHT
TZOFFSETFROM:-0400
TZOFFSETTO:-0300
TZNAME:ADT
DTSTART:20230312T060000
END:DAYLIGHT
BEGIN:STANDARD
TZOFFSETFROM:-0300
TZOFFSETTO:-0400
TZNAME:AST
DTSTART:20231105T050000
END:STANDARD
BEGIN:DAYLIGHT
TZOFFSETFROM:-0400
TZOFFSETTO:-0300
TZNAME:ADT
DTSTART:20240310T060000
END:DAYLIGHT
BEGIN:STANDARD
TZOFFSETFROM:-0300
TZOFFSETTO:-0400
TZNAME:AST
DTSTART:20241103T050000
END:STANDARD
END:VTIMEZONE
BEGIN:VEVENT
DTSTART;TZID=America/Halifax:20231101T140000
DTEND;TZID=America/Halifax:20231101T140000
DTSTAMP:20260423T175937
CREATED:20230628T160724Z
LAST-MODIFIED:20230628T160724Z
UID:10005412-1698847200-1698847200@uptownsj.com
SUMMARY:Piano Heist
DESCRIPTION:I fun look at piano music over the past 400 years… \nLifelong friends\, and colleagues\, Nico Rhodes\, and Patrick Courtin\, shocked and appalled by the realization that piano just isn’t cool anymore\, set off on a divine quest to redeem the keyboard and reinstate its reputation as the greatest instrument of ALL TIME! Armed with the music of the greatest composers\, songwriters and performers of the past 400 years\, and the technology of the 21st century – their virtual orchestra (Bob)\, Nico and Patrick deliver everything from classical piano raptures to bombastic boogie woogie\, from romantic piano ballads to 80’s keyboard synth battles in their show Piano Heist! What ensues is a mishmash of theatrical wonder\, comedy\, audience participation\, heartfelt stories\, a pinch of history\, and a world of musical madness. \nShowcase (& video) includes Nobody Knows the Trouble I’ve Seen – Traditional; Prelude in C Major – J.S. Bach; Fur Elise. – Beethoven; Nocturne n.2 – Chopin; Hungarian Rhapsody n.2 – Liszt; Claire de Lune – Debussy; Rhapsody in Blue – G. Gershwin; Maple Leaf Rag – Joplin; Fly Me to the Moon – Bart Howard; Great Balls of Fire – Otis Blackwell; Piano Man – Billy Joel; Crazy – Willie Nelson; Imagine – John Lennon; Let it Be – John Lennon/Paul McCartney; Can You Feel the Love Tonight – Elton John; Crocodile\, Rock – Elton John; Light My Fire – The Doors; The Winner Takes it All – ABBA; Green Onions – Booker T and the Mg’s; I Heard it Through the Grapevine – Barrett Strong/Norman Whitfield; Superstition – Stevie Wonder; Spain – Chick Corea; Popcorn – Gershon Kingsley; Jump – Van Halen; We Are the Champions – Queen.
URL:https://uptownsj.com/event/piano-heist/
LOCATION:Imperial Theatre\, 12 King Square S.\, Saint John
CATEGORIES:Community,Theatre
END:VEVENT
BEGIN:VEVENT
DTSTART;TZID=America/Halifax:20231104T200000
DTEND;TZID=America/Halifax:20231104T223000
DTSTAMP:20260423T175937
CREATED:20230922T130637Z
LAST-MODIFIED:20230922T130637Z
UID:10005644-1699128000-1699137000@uptownsj.com
SUMMARY:The East Pointers and Fortunate Ones
DESCRIPTION:Atlantic Canadian folk favourites The East Pointers and Fortunate Ones are teaming up for a tour this fall\, including a stop at Saint John’s Imperial Theatre on November 4. \nSaint John tickets are $40 in advance and $45 day of show (including tax and service fee) and are available at the the Imperial Theatre box office\, by phone at (506) 674-4100 (1-800-323-7469)\, and online at sonicconcerts.com. Additional fees may apply. Doors open at 7:30 p.m. Show time is 8 p.m.
URL:https://uptownsj.com/event/the-east-pointers-and-fortunate-ones-2/
LOCATION:Imperial Theatre\, 12 King Square S.\, Saint John
CATEGORIES:Live Music
ATTACH;FMTTYPE=image/jpeg:https://uptownsj.com/wp-content/uploads/2023/09/TEPFO_NSTourism.jpg
ORGANIZER;CN="Sonic Concerts":MAILTO:info@sonicconcerts.com
END:VEVENT
BEGIN:VEVENT
DTSTART;TZID=America/Halifax:20231104T200000
DTEND;TZID=America/Halifax:20231104T230000
DTSTAMP:20260423T175937
CREATED:20230828T124456Z
LAST-MODIFIED:20230828T124456Z
UID:10005561-1699128000-1699138800@uptownsj.com
SUMMARY:The East Pointers and Fortunate Ones
DESCRIPTION:Atlantic Canadian folk favourites The East Pointers and Fortunate Ones are teaming up for a tour this fall\, including a stop at Saint John’s Imperial Theatre on November 4. Doors open at 7:30 p.m. Show time is 8 p.m.
URL:https://uptownsj.com/event/the-east-pointers-and-fortunate-ones/
LOCATION:Imperial Theatre\, 12 King Square S.\, Saint John
CATEGORIES:Live Music
ORGANIZER;CN="Sonic Concerts":MAILTO:info@sonicconcerts.com
END:VEVENT
BEGIN:VEVENT
DTSTART;TZID=America/Halifax:20231105T200000
DTEND;TZID=America/Halifax:20231105T230000
DTSTAMP:20260423T175937
CREATED:20230828T124615Z
LAST-MODIFIED:20230828T124615Z
UID:10005560-1699214400-1699225200@uptownsj.com
SUMMARY:Raine Maida & Chantal Kreviazuk: The Forgive Me tour
DESCRIPTION:Acclaimed Canadian musicians Raine Maida and Chantal Kreviazuk bring their collaborative effort The Forgive Me Tour to the Maritimes this fall\, including a stop at Saint John’s Imperial Theatre on November 5. Doors open at 7:30 p.m. Show time is 8 p.m.
URL:https://uptownsj.com/event/raine-maida-chantal-kreviazuk-the-forgive-me-tour/
LOCATION:Imperial Theatre\, 12 King Square S.\, Saint John
CATEGORIES:Live Music
ORGANIZER;CN="Sonic Concerts":MAILTO:info@sonicconcerts.com
END:VEVENT
BEGIN:VEVENT
DTSTART;TZID=America/Halifax:20231110T193000
DTEND;TZID=America/Halifax:20231110T193000
DTSTAMP:20260423T175937
CREATED:20230628T160636Z
LAST-MODIFIED:20230628T160636Z
UID:10005413-1699644600-1699644600@uptownsj.com
SUMMARY:Dan Mangan
DESCRIPTION:Dan Mangan is a two-time JUNO award winning & two-time Polaris Music Prize listed musician and songwriter. He lives in Vancouver\, British Columbia with his wife and two sons. He has released 5 studio LPs on Arts & Crafts\, and toured extensively in North America\, Europe & Australia. Dan also scored the feature film Hector And The Search For Happiness starring Simon Pegg as well as television shows for Netflix and AMC. In 2017\, he co-founded Side Door\, a community marketplace platform matching performers with spaces to create shows anywhere\, including interactive ticketed online shows. \nMangan’s new album\, ‘Being Somewhere’\, arrived in October 2022. Produced by Drew Brown (Radiohead\, Beck)\, the album unfurls like an overdue conversation with a dear friend where you talk about the world\, how you’re doing\, and how you can help one another. Forging sonics well beyond the tropes of modern folk music\, the album features a global cadre of top tier musicians including Joey Waronker (Beck\, Atoms for Peace)\, Jason Falkner (Beck\, St. Vincent)\, Thomas Bartlett (The National\, Taylor Swift)\, Dave Okumu (Arlo Parks\, Adele) Mary Lattimore (Kurt Vile\, Sharon Van Etten)\, & Broken Social Scene frontman Kevin Drew \nOpening act: Aysanabee\nAysanabee\, whose solemn and soaring vocals earned him his place as the first signee to Ishkode Records\, the first Indigenous and women-owned labels in the country\, was nominated for a 2023 Juno for his debut album\, Watin\, released on Nov. 4\, 2022. \nHis hit single Nomads reached #1 on Alternative Radio\, making him the first Indigenous artist ever to reach #1 on any media base chart. \nIn a whirlwind year\, Aysanabee performed well over 100 shows across the country and around the world\, but made his mark performing at the 2023 Juno Awards national broadcast featuring Grammy-nominated drum group Northern Cree\, news agencies called it ‘the most moving performance’ of this year’s award ceremony. \nAysanabee is actively touring and playing festivals across Canada and Europe in 2023\, and is set to release a follow-up EP in the fall.
URL:https://uptownsj.com/event/dan-mangan/
LOCATION:Imperial Theatre\, 12 King Square S.\, Saint John
CATEGORIES:Community,Theatre
END:VEVENT
BEGIN:VEVENT
DTSTART;TZID=America/Halifax:20231117T193000
DTEND;TZID=America/Halifax:20231117T193000
DTSTAMP:20260423T175937
CREATED:20230628T160450Z
LAST-MODIFIED:20230628T160450Z
UID:10005415-1700249400-1700249400@uptownsj.com
SUMMARY:Crash Test Dummies
DESCRIPTION:It’s been 30 years since the Crash Test Dummies recorded their debut album\, ”The Ghosts That Haunt Me”. Their first album garnered them their first big hit\, Superman’s Song\, and a Juno Award for Group of the Year. Over three decades later\, their sold out 25th Anniversary Tour for multi-Grammy nominated “God Shuffled His Feet” is proof that audiences still want to hear what they have to say. \n“We have been so excited with the response to the 25th anniversary tour that we knew we had to continue the party and celebrate 30 years since we made our first album. We had no idea that fans would be so enthusiastic and we are all a little gob-smacked that we can still play sold out shows to our fans and\, awesomely enough\, their kids\,” says original member Ellen Reid. \nTheir 2022 tour will see them tour North America and Europe\, where fans have been anxiously waiting. The shows will include hits and fan favourites from the band’s vast catalogue. Original members Brad Roberts\, Ellen Reid\, Dan Roberts\, and Mitch Dorge will be joined onstage by Stuart Cameron and Marc Arnould. \n“After a long absence from the road\, Crash Test Dummies have begun to tour again. Not something I’d planned on\, but surprisingly\, at least to me\, there are lots of people who\, years later\, still want to come and hear us. That people continue to return to see the band all these years later still stuns me. It’s very humbling. The folks that come out to these shows tell us their stories and there are many gems: many are very funny\, some are very dark\, and all are very personal. It’s very humbling\, being in the confidence of so many people\,” says lead singer/songwriter Brad Roberts.
URL:https://uptownsj.com/event/crash-test-dummies/
LOCATION:Imperial Theatre\, 12 King Square S.\, Saint John
CATEGORIES:Community,Theatre
END:VEVENT
BEGIN:VEVENT
DTSTART;TZID=America/Halifax:20231118T193000
DTEND;TZID=America/Halifax:20231118T193000
DTSTAMP:20260423T175937
CREATED:20230628T160355Z
LAST-MODIFIED:20230628T160355Z
UID:10005416-1700335800-1700335800@uptownsj.com
SUMMARY:Jeremy Dutcher
DESCRIPTION:Performer\, composer\, activist\, musicologist — these roles are all infused into his art and way of life. His music\, too\, transcends boundaries: unapologetically playful in its incorporation of classical influences\, full of reverence for the traditional songs of his home\,and teeming with the urgency of modern-day struggles of resistance. \nA member of Tobique First Nation in New Brunswick\, Jeremy first did music studies in Halifax before taking a chance to work in the archives at the Canadian Museum of History\, painstakingly transcribing Wolastoq songs from 1907 wax cylinders. “Many of the songs I’d never heard before\, because our musical tradition on the East Coast was suppressed by the Canadian Government’s Indian Act.” Jeremy heard ancestral voices singing forgotten songs and stories that had been taken from the Wolastoqiyik generations ago. \nAs he listened to each recording\, he felt his own musical impulses stirring from deep within. Long days at the archives turned into long nights at the piano\, feeling out melodies and phrases\, deep in dialogue with the voices of his ancestors. These “collaborative”compositions\, collected together on his debut LP Wolastoqiyik Lintuwakonawa\, are like nothing you’ve ever heard. Delicate\, sublime vocal melodies ring out atop piano lines that cascade through a vibrant range of emotions. The anguish and joy of the past erupt fervently into the present through Jeremy’s bold approach to composition and raw\, affective performances enhanced by his outstanding tenor techniques. \n“I’m doing this work because there’s only about a hundred Wolastoqey speakers left\,” he says. “It’s crucial for us to make sure that we’re using our language and passing it on to the next generation. If you lose the language\, you’re not just losing words; you’re losing an entire way of seeing and experiencing the world from a distinctly indigenous perspective.”
URL:https://uptownsj.com/event/jeremy-dutcher/
LOCATION:Imperial Theatre\, 12 King Square S.\, Saint John
CATEGORIES:Community,Theatre
END:VEVENT
BEGIN:VEVENT
DTSTART;TZID=America/Halifax:20231129T193000
DTEND;TZID=America/Halifax:20231129T193000
DTSTAMP:20260423T175937
CREATED:20230628T160119Z
LAST-MODIFIED:20230628T160119Z
UID:10005418-1701286200-1701286200@uptownsj.com
SUMMARY:HOLLY COLE A Swinging Christmas
DESCRIPTION:Holly Cole has a long and storied international career\, having sold hundreds of thousands of recordings internationally while at home in Canada her successes include multi-platinum album sales awards\, three JUNO awards and countless successful national tours! \nIn 2013 Ms. Cole became the 15th winner of the highly prestigious Ella Fitzgerald Award. This award\, created by the world renowned Festival International de Jazz de Montreal\, is annually conferred upon “A jazz singer of significant talent who has had a major impact and influence in the international scene.” Other winners include Sade (2011)\, Aretha Franklin (2008)\, Harry Connick\, Jr. (2007)\, Etta James (2006) and Tony Bennett (2004). \n2019 proved be an interesting year live for Holly\, including successful concert dates internationally and 4 sellout nights at the Festival International de Jazz de Montreal which were recorded live and released worldwide April 2/2021 as a love letter to her favourite city and Festival. The wonderful new live recording is called “MONTREAL”\, and the first video “WHATEVER LOLA WANTS” can be found HERE. Check out the fan favourite “I CAN SEE CLEARLY NOW” HERE. \n“Most of all\, her playfulness and the sheer pleasure of singing to a crowd reminds me of Ella more than any past recipient” – André Ménard\, artistic director and co-founder of the Festival International de Jazz de Montréal \n“Any Holly Cole concert is an Event-but that’s because of her and her band’s ability to produce a well-prepared\, well-planned\, and well-delivered show. Her NAC performance was focused and didn’t miss a beat.” –Aylayne McGregor\, Ottawa Jazz Scene. \n“She exudes as much fun as feeling in concert treating the people to a rare performance that was musically rewarding and refreshingly intimate.” – Calgary Herald
URL:https://uptownsj.com/event/holly-cole-a-swinging-christmas/
LOCATION:Imperial Theatre\, 12 King Square S.\, Saint John
CATEGORIES:Community,Theatre
END:VEVENT
END:VCALENDAR