BEGIN:VCALENDAR
VERSION:2.0
PRODID:-//Uptown Saint John - ECPv6.15.20//NONSGML v1.0//EN
CALSCALE:GREGORIAN
METHOD:PUBLISH
X-WR-CALNAME:Uptown Saint John
X-ORIGINAL-URL:https://uptownsj.com
X-WR-CALDESC:Events for Uptown Saint John
REFRESH-INTERVAL;VALUE=DURATION:PT1H
X-Robots-Tag:noindex
X-PUBLISHED-TTL:PT1H
BEGIN:VTIMEZONE
TZID:America/Halifax
BEGIN:DAYLIGHT
TZOFFSETFROM:-0400
TZOFFSETTO:-0300
TZNAME:ADT
DTSTART:20230312T060000
END:DAYLIGHT
BEGIN:STANDARD
TZOFFSETFROM:-0300
TZOFFSETTO:-0400
TZNAME:AST
DTSTART:20231105T050000
END:STANDARD
BEGIN:DAYLIGHT
TZOFFSETFROM:-0400
TZOFFSETTO:-0300
TZNAME:ADT
DTSTART:20240310T060000
END:DAYLIGHT
BEGIN:STANDARD
TZOFFSETFROM:-0300
TZOFFSETTO:-0400
TZNAME:AST
DTSTART:20241103T050000
END:STANDARD
BEGIN:DAYLIGHT
TZOFFSETFROM:-0400
TZOFFSETTO:-0300
TZNAME:ADT
DTSTART:20250309T060000
END:DAYLIGHT
BEGIN:STANDARD
TZOFFSETFROM:-0300
TZOFFSETTO:-0400
TZNAME:AST
DTSTART:20251102T050000
END:STANDARD
END:VTIMEZONE
BEGIN:VEVENT
DTSTART;TZID=America/Halifax:20241101T170000
DTEND;TZID=America/Halifax:20241101T190000
DTSTAMP:20260420T194558
CREATED:20241011T135048Z
LAST-MODIFIED:20241011T135048Z
UID:10010000-1730480400-1730487600@uptownsj.com
SUMMARY:Opening for New Exhibitions
DESCRIPTION:Opening reception for new exhibitions at the Saint John Arts Centre on Friday\, November 1\, 5pm-7pm. \nJoin us with the artists for the opening reception of our last exhibitions of 2024! Light refreshments will be served and wine will be available for purchase. \nFeatured artists November 1 – December 20\, 2024: \n\nHallie Watson – Farm Walk\nErica Stanley – Brink of Extinction\nNatalie Légère – The Owls of Turtle Island\nAlicia Robichaud – Journey Through Darkness
URL:https://uptownsj.com/event/opening-for-new-exhibitions-2/
LOCATION:Saint John Arts Centre
CATEGORIES:Art
END:VEVENT
END:VCALENDAR