BEGIN:VCALENDAR
VERSION:2.0
PRODID:-//Uptown Saint John - ECPv6.15.20//NONSGML v1.0//EN
CALSCALE:GREGORIAN
METHOD:PUBLISH
X-ORIGINAL-URL:https://uptownsj.com
X-WR-CALDESC:Events for Uptown Saint John
REFRESH-INTERVAL;VALUE=DURATION:PT1H
X-Robots-Tag:noindex
X-PUBLISHED-TTL:PT1H
BEGIN:VTIMEZONE
TZID:America/Halifax
BEGIN:DAYLIGHT
TZOFFSETFROM:-0400
TZOFFSETTO:-0300
TZNAME:ADT
DTSTART:20230312T060000
END:DAYLIGHT
BEGIN:STANDARD
TZOFFSETFROM:-0300
TZOFFSETTO:-0400
TZNAME:AST
DTSTART:20231105T050000
END:STANDARD
BEGIN:DAYLIGHT
TZOFFSETFROM:-0400
TZOFFSETTO:-0300
TZNAME:ADT
DTSTART:20240310T060000
END:DAYLIGHT
BEGIN:STANDARD
TZOFFSETFROM:-0300
TZOFFSETTO:-0400
TZNAME:AST
DTSTART:20241103T050000
END:STANDARD
BEGIN:DAYLIGHT
TZOFFSETFROM:-0400
TZOFFSETTO:-0300
TZNAME:ADT
DTSTART:20250309T060000
END:DAYLIGHT
BEGIN:STANDARD
TZOFFSETFROM:-0300
TZOFFSETTO:-0400
TZNAME:AST
DTSTART:20251102T050000
END:STANDARD
END:VTIMEZONE
BEGIN:VEVENT
DTSTART;TZID=America/Halifax:20240609T140000
DTEND;TZID=America/Halifax:20240609T153000
DTSTAMP:20260423T171810
CREATED:20240603T125536Z
LAST-MODIFIED:20240603T125536Z
UID:10007801-1717941600-1717947000@uptownsj.com
SUMMARY:Carleton Chamber Players
DESCRIPTION:Early Music Studio of Saint John Presents: \nPiano Trios by Haydn\, Mozart & Beethoven \nDanielle Sametz\, violin\nDaniel Britt\, violoncello\nTim Blackmore\, square piano
URL:https://uptownsj.com/event/carleton-chamber-players/
LOCATION:Stone Church\, 87 Carleton St.\, Saint John\, NB\, E2L 2Z2\, Canada
CATEGORIES:Cultural Event
ORGANIZER;CN="Stone Church":MAILTO:barbara@givewayvisioneering.global
END:VEVENT
END:VCALENDAR