BEGIN:VCALENDAR
VERSION:2.0
PRODID:-//Uptown Saint John - ECPv6.15.20//NONSGML v1.0//EN
CALSCALE:GREGORIAN
METHOD:PUBLISH
X-WR-CALNAME:Uptown Saint John
X-ORIGINAL-URL:https://uptownsj.com
X-WR-CALDESC:Events for Uptown Saint John
REFRESH-INTERVAL;VALUE=DURATION:PT1H
X-Robots-Tag:noindex
X-PUBLISHED-TTL:PT1H
BEGIN:VTIMEZONE
TZID:America/Halifax
BEGIN:DAYLIGHT
TZOFFSETFROM:-0400
TZOFFSETTO:-0300
TZNAME:ADT
DTSTART:20230312T060000
END:DAYLIGHT
BEGIN:STANDARD
TZOFFSETFROM:-0300
TZOFFSETTO:-0400
TZNAME:AST
DTSTART:20231105T050000
END:STANDARD
BEGIN:DAYLIGHT
TZOFFSETFROM:-0400
TZOFFSETTO:-0300
TZNAME:ADT
DTSTART:20240310T060000
END:DAYLIGHT
BEGIN:STANDARD
TZOFFSETFROM:-0300
TZOFFSETTO:-0400
TZNAME:AST
DTSTART:20241103T050000
END:STANDARD
BEGIN:DAYLIGHT
TZOFFSETFROM:-0400
TZOFFSETTO:-0300
TZNAME:ADT
DTSTART:20250309T060000
END:DAYLIGHT
BEGIN:STANDARD
TZOFFSETFROM:-0300
TZOFFSETTO:-0400
TZNAME:AST
DTSTART:20251102T050000
END:STANDARD
END:VTIMEZONE
BEGIN:VEVENT
DTSTART;TZID=America/Halifax:20240515T121500
DTEND;TZID=America/Halifax:20240515T130000
DTSTAMP:20260425T142606
CREATED:20240513T134648Z
LAST-MODIFIED:20240513T134648Z
UID:10007395-1715775300-1715778000@uptownsj.com
SUMMARY:Lunchtime Concert: 18c
DESCRIPTION:Loyalist Period Flute Trios by Weiss\, Abel\, and Cambini\nFeaturing Ensemble 18c:\nRobert Lewis: Baroque Bassoon\nKatherine Moller: Baroque Violin\nTim Blackmore: Recorder \nSnacks available\nProceeds to the Stone Church Conservation Fund
URL:https://uptownsj.com/event/lunchtime-concert-18c/
LOCATION:Stone Church\, 87 Carleton St.\, Saint John\, NB\, E2L 2Z2\, Canada
CATEGORIES:Cultural Event
ORGANIZER;CN="Stone Church":MAILTO:barbara@givewayvisioneering.global
END:VEVENT
END:VCALENDAR