BEGIN:VCALENDAR
VERSION:2.0
PRODID:-//Uptown Saint John - ECPv6.15.20//NONSGML v1.0//EN
CALSCALE:GREGORIAN
METHOD:PUBLISH
X-ORIGINAL-URL:https://uptownsj.com
X-WR-CALDESC:Events for Uptown Saint John
REFRESH-INTERVAL;VALUE=DURATION:PT1H
X-Robots-Tag:noindex
X-PUBLISHED-TTL:PT1H
BEGIN:VTIMEZONE
TZID:America/Halifax
BEGIN:DAYLIGHT
TZOFFSETFROM:-0400
TZOFFSETTO:-0300
TZNAME:ADT
DTSTART:20290311T060000
END:DAYLIGHT
BEGIN:STANDARD
TZOFFSETFROM:-0300
TZOFFSETTO:-0400
TZNAME:AST
DTSTART:20291104T050000
END:STANDARD
BEGIN:DAYLIGHT
TZOFFSETFROM:-0400
TZOFFSETTO:-0300
TZNAME:ADT
DTSTART:20300310T060000
END:DAYLIGHT
BEGIN:STANDARD
TZOFFSETFROM:-0300
TZOFFSETTO:-0400
TZNAME:AST
DTSTART:20301103T050000
END:STANDARD
BEGIN:DAYLIGHT
TZOFFSETFROM:-0400
TZOFFSETTO:-0300
TZNAME:ADT
DTSTART:20310309T060000
END:DAYLIGHT
BEGIN:STANDARD
TZOFFSETFROM:-0300
TZOFFSETTO:-0400
TZNAME:AST
DTSTART:20311102T050000
END:STANDARD
END:VTIMEZONE
BEGIN:VEVENT
DTSTART;TZID=America/Halifax:20300808T210000
DTEND;TZID=America/Halifax:20300809T000000
DTSTAMP:20260425T195941
CREATED:20250819T121248Z
LAST-MODIFIED:20250819T121248Z
UID:10014368-1912453200-1912464000@uptownsj.com
SUMMARY:Sarahtonein at O’Leary’s Pub
DESCRIPTION:Thursdays just got a whole lot better! Sarahtonein is taking the stage with raw vocals and infectious energy\, serving up a night full of music\, laughs\, and East Coast charm. Come for the tunes\, stay for the good times—and don’t forget your pint! \n19+ | No cover charge
URL:https://uptownsj.com/event/sarahtonein-at-olearys-pub/2030-08-08/
LOCATION:O’Leary’s Pub\, 46 Princess Street\, Saint John\, E2L 1K2
CATEGORIES:Live Music
ATTACH;FMTTYPE=image/png:https://uptownsj.com/wp-content/uploads/2025/08/Thursday-Sarahtonein.png
ORGANIZER;CN="O'Leary's Pub":MAILTO:olearyspub@gmail.com
END:VEVENT
BEGIN:VEVENT
DTSTART;TZID=America/Halifax:20300809T033000
DTEND;TZID=America/Halifax:20300809T170000
DTSTAMP:20260425T195941
CREATED:20260114T171805Z
LAST-MODIFIED:20260114T171805Z
UID:10023590-1912476600-1912525200@uptownsj.com
SUMMARY:Happy Hour @ Britt’s
DESCRIPTION:Join us for Happy Hour Monday to Friday from 3:30-5 for $6 16oz draught\, 9oz wine for the price of a 5oz and $6 select cocktails!
URL:https://uptownsj.com/event/happy-hour-britts/2030-08-09/
CATEGORIES:Restaurant Specials
ATTACH;FMTTYPE=image/png:https://uptownsj.com/wp-content/uploads/2026/01/HAPPY-HOUR-1.png
END:VEVENT
BEGIN:VEVENT
DTSTART;TZID=America/Halifax:20300809T163000
DTEND;TZID=America/Halifax:20300809T183000
DTSTAMP:20260425T195941
CREATED:20260105T130337Z
LAST-MODIFIED:20260105T175603Z
UID:10017004-1912523400-1912530600@uptownsj.com
SUMMARY:MIX Live Music and Cocktails Friday
DESCRIPTION:A vibrant Friday night gathering featuring live performances from talented local musicians paired with an exclusive cocktail and bites menu\, designed to elevate the weekend experience. This event will celebrate community\, music\, and hospitality\, while showcasing Saint John’s best local talent in an upscale yet inviting setting. Located at the Mezzanine level of Delta Hotels by Marriott Saint John.
URL:https://uptownsj.com/event/mix-live-music-and-cocktails-friday/2030-08-09/
LOCATION:MIX Resto | Bar\, 39 King Street\, Saint John\, E2L 4W3\, Canada
CATEGORIES:Live Music
ATTACH;FMTTYPE=image/jpeg:https://uptownsj.com/wp-content/uploads/2026/01/MIX.jpg
END:VEVENT
BEGIN:VEVENT
DTSTART;TZID=America/Halifax:20300814T033000
DTEND;TZID=America/Halifax:20300814T170000
DTSTAMP:20260425T195941
CREATED:20260114T171805Z
LAST-MODIFIED:20260114T171805Z
UID:10023595-1912908600-1912957200@uptownsj.com
SUMMARY:Happy Hour @ Britt’s
DESCRIPTION:Join us for Happy Hour Monday to Friday from 3:30-5 for $6 16oz draught\, 9oz wine for the price of a 5oz and $6 select cocktails!
URL:https://uptownsj.com/event/happy-hour-britts/2030-08-14/
CATEGORIES:Restaurant Specials
ATTACH;FMTTYPE=image/png:https://uptownsj.com/wp-content/uploads/2026/01/HAPPY-HOUR-1.png
END:VEVENT
BEGIN:VEVENT
DTSTART;TZID=America/Halifax:20300814T080000
DTEND;TZID=America/Halifax:20300814T170000
DTSTAMP:20260425T195941
CREATED:20260114T171850Z
LAST-MODIFIED:20260416T182837Z
UID:10019553-1912924800-1912957200@uptownsj.com
SUMMARY:Southern Chicken Wedneday @ Britt's
DESCRIPTION:Buy a three piece Southern Chicken and get a 16oz Moosehead Draught
URL:https://uptownsj.com/event/southern-chicken-wedneday-britts/2030-08-14/
CATEGORIES:Restaurant Specials
ATTACH;FMTTYPE=image/png:https://uptownsj.com/wp-content/uploads/2026/01/SOUTHERN.png
END:VEVENT
BEGIN:VEVENT
DTSTART;TZID=America/Halifax:20300814T200000
DTEND;TZID=America/Halifax:20300815T000000
DTSTAMP:20260425T195941
CREATED:20250819T121317Z
LAST-MODIFIED:20250819T121317Z
UID:10014109-1912968000-1912982400@uptownsj.com
SUMMARY:Open Mic Night at O’Leary’s Pub
DESCRIPTION:Join us at O’Leary’s Pub for Open Mic Night\, hosted by Brent Mason and Aaron Gunn\, at Saint John’s oldest Irish pub! Whether you’re performing or just enjoying the local talent\, spend the evening immersed in music\, stories\, and East Coast charm. \nThis weekly tradition has been bringing local artists together since 1992\, promising surprises\, laughs\, and unforgettable performances. Grab a pint\, soak in the atmosphere\, and celebrate Saint John’s vibrant creative community.
URL:https://uptownsj.com/event/open-mic-night-at-olearys-pub-2/2030-08-14/
LOCATION:O’Leary’s Pub\, 46 Princess Street\, Saint John\, E2L 1K2
CATEGORIES:Live Music
ATTACH;FMTTYPE=image/png:https://uptownsj.com/wp-content/uploads/2025/08/Open-Mic-Night.png
ORGANIZER;CN="O'Leary's Pub":MAILTO:olearyspub@gmail.com
END:VEVENT
BEGIN:VEVENT
DTSTART;TZID=America/Halifax:20300815T210000
DTEND;TZID=America/Halifax:20300816T000000
DTSTAMP:20260425T195941
CREATED:20250819T121248Z
LAST-MODIFIED:20250819T121248Z
UID:10014369-1913058000-1913068800@uptownsj.com
SUMMARY:Sarahtonein at O’Leary’s Pub
DESCRIPTION:Thursdays just got a whole lot better! Sarahtonein is taking the stage with raw vocals and infectious energy\, serving up a night full of music\, laughs\, and East Coast charm. Come for the tunes\, stay for the good times—and don’t forget your pint! \n19+ | No cover charge
URL:https://uptownsj.com/event/sarahtonein-at-olearys-pub/2030-08-15/
LOCATION:O’Leary’s Pub\, 46 Princess Street\, Saint John\, E2L 1K2
CATEGORIES:Live Music
ATTACH;FMTTYPE=image/png:https://uptownsj.com/wp-content/uploads/2025/08/Thursday-Sarahtonein.png
ORGANIZER;CN="O'Leary's Pub":MAILTO:olearyspub@gmail.com
END:VEVENT
BEGIN:VEVENT
DTSTART;TZID=America/Halifax:20300816T163000
DTEND;TZID=America/Halifax:20300816T183000
DTSTAMP:20260425T195941
CREATED:20260105T130337Z
LAST-MODIFIED:20260105T175603Z
UID:10017005-1913128200-1913135400@uptownsj.com
SUMMARY:MIX Live Music and Cocktails Friday
DESCRIPTION:A vibrant Friday night gathering featuring live performances from talented local musicians paired with an exclusive cocktail and bites menu\, designed to elevate the weekend experience. This event will celebrate community\, music\, and hospitality\, while showcasing Saint John’s best local talent in an upscale yet inviting setting. Located at the Mezzanine level of Delta Hotels by Marriott Saint John.
URL:https://uptownsj.com/event/mix-live-music-and-cocktails-friday/2030-08-16/
LOCATION:MIX Resto | Bar\, 39 King Street\, Saint John\, E2L 4W3\, Canada
CATEGORIES:Live Music
ATTACH;FMTTYPE=image/jpeg:https://uptownsj.com/wp-content/uploads/2026/01/MIX.jpg
END:VEVENT
BEGIN:VEVENT
DTSTART;TZID=America/Halifax:20300819T033000
DTEND;TZID=America/Halifax:20300819T170000
DTSTAMP:20260425T195941
CREATED:20260114T171805Z
LAST-MODIFIED:20260114T171805Z
UID:10023600-1913340600-1913389200@uptownsj.com
SUMMARY:Happy Hour @ Britt’s
DESCRIPTION:Join us for Happy Hour Monday to Friday from 3:30-5 for $6 16oz draught\, 9oz wine for the price of a 5oz and $6 select cocktails!
URL:https://uptownsj.com/event/happy-hour-britts/2030-08-19/
CATEGORIES:Restaurant Specials
ATTACH;FMTTYPE=image/png:https://uptownsj.com/wp-content/uploads/2026/01/HAPPY-HOUR-1.png
END:VEVENT
BEGIN:VEVENT
DTSTART;TZID=America/Halifax:20300821T080000
DTEND;TZID=America/Halifax:20300821T170000
DTSTAMP:20260425T195941
CREATED:20260114T171850Z
LAST-MODIFIED:20260416T182837Z
UID:10019554-1913529600-1913562000@uptownsj.com
SUMMARY:Southern Chicken Wedneday @ Britt's
DESCRIPTION:Buy a three piece Southern Chicken and get a 16oz Moosehead Draught
URL:https://uptownsj.com/event/southern-chicken-wedneday-britts/2030-08-21/
CATEGORIES:Restaurant Specials
ATTACH;FMTTYPE=image/png:https://uptownsj.com/wp-content/uploads/2026/01/SOUTHERN.png
END:VEVENT
BEGIN:VEVENT
DTSTART;TZID=America/Halifax:20300823T163000
DTEND;TZID=America/Halifax:20300823T183000
DTSTAMP:20260425T195941
CREATED:20260105T130337Z
LAST-MODIFIED:20260105T175603Z
UID:10017006-1913733000-1913740200@uptownsj.com
SUMMARY:MIX Live Music and Cocktails Friday
DESCRIPTION:A vibrant Friday night gathering featuring live performances from talented local musicians paired with an exclusive cocktail and bites menu\, designed to elevate the weekend experience. This event will celebrate community\, music\, and hospitality\, while showcasing Saint John’s best local talent in an upscale yet inviting setting. Located at the Mezzanine level of Delta Hotels by Marriott Saint John.
URL:https://uptownsj.com/event/mix-live-music-and-cocktails-friday/2030-08-23/
LOCATION:MIX Resto | Bar\, 39 King Street\, Saint John\, E2L 4W3\, Canada
CATEGORIES:Live Music
ATTACH;FMTTYPE=image/jpeg:https://uptownsj.com/wp-content/uploads/2026/01/MIX.jpg
END:VEVENT
BEGIN:VEVENT
DTSTART;TZID=America/Halifax:20300824T033000
DTEND;TZID=America/Halifax:20300824T170000
DTSTAMP:20260425T195941
CREATED:20260114T171805Z
LAST-MODIFIED:20260114T171805Z
UID:10023605-1913772600-1913821200@uptownsj.com
SUMMARY:Happy Hour @ Britt’s
DESCRIPTION:Join us for Happy Hour Monday to Friday from 3:30-5 for $6 16oz draught\, 9oz wine for the price of a 5oz and $6 select cocktails!
URL:https://uptownsj.com/event/happy-hour-britts/2030-08-24/
CATEGORIES:Restaurant Specials
ATTACH;FMTTYPE=image/png:https://uptownsj.com/wp-content/uploads/2026/01/HAPPY-HOUR-1.png
END:VEVENT
BEGIN:VEVENT
DTSTART;TZID=America/Halifax:20300828T080000
DTEND;TZID=America/Halifax:20300828T170000
DTSTAMP:20260425T195941
CREATED:20260114T171850Z
LAST-MODIFIED:20260416T182837Z
UID:10019555-1914134400-1914166800@uptownsj.com
SUMMARY:Southern Chicken Wedneday @ Britt's
DESCRIPTION:Buy a three piece Southern Chicken and get a 16oz Moosehead Draught
URL:https://uptownsj.com/event/southern-chicken-wedneday-britts/2030-08-28/
CATEGORIES:Restaurant Specials
ATTACH;FMTTYPE=image/png:https://uptownsj.com/wp-content/uploads/2026/01/SOUTHERN.png
END:VEVENT
BEGIN:VEVENT
DTSTART;TZID=America/Halifax:20300829T033000
DTEND;TZID=America/Halifax:20300829T170000
DTSTAMP:20260425T195941
CREATED:20260114T171805Z
LAST-MODIFIED:20260114T171805Z
UID:10023610-1914204600-1914253200@uptownsj.com
SUMMARY:Happy Hour @ Britt’s
DESCRIPTION:Join us for Happy Hour Monday to Friday from 3:30-5 for $6 16oz draught\, 9oz wine for the price of a 5oz and $6 select cocktails!
URL:https://uptownsj.com/event/happy-hour-britts/2030-08-29/
CATEGORIES:Restaurant Specials
ATTACH;FMTTYPE=image/png:https://uptownsj.com/wp-content/uploads/2026/01/HAPPY-HOUR-1.png
END:VEVENT
BEGIN:VEVENT
DTSTART;TZID=America/Halifax:20300830T163000
DTEND;TZID=America/Halifax:20300830T183000
DTSTAMP:20260425T195941
CREATED:20260105T130337Z
LAST-MODIFIED:20260105T175603Z
UID:10017007-1914337800-1914345000@uptownsj.com
SUMMARY:MIX Live Music and Cocktails Friday
DESCRIPTION:A vibrant Friday night gathering featuring live performances from talented local musicians paired with an exclusive cocktail and bites menu\, designed to elevate the weekend experience. This event will celebrate community\, music\, and hospitality\, while showcasing Saint John’s best local talent in an upscale yet inviting setting. Located at the Mezzanine level of Delta Hotels by Marriott Saint John.
URL:https://uptownsj.com/event/mix-live-music-and-cocktails-friday/2030-08-30/
LOCATION:MIX Resto | Bar\, 39 King Street\, Saint John\, E2L 4W3\, Canada
CATEGORIES:Live Music
ATTACH;FMTTYPE=image/jpeg:https://uptownsj.com/wp-content/uploads/2026/01/MIX.jpg
END:VEVENT
BEGIN:VEVENT
DTSTART;TZID=America/Halifax:20300903T033000
DTEND;TZID=America/Halifax:20300903T170000
DTSTAMP:20260425T195941
CREATED:20260114T171805Z
LAST-MODIFIED:20260114T171805Z
UID:10023615-1914636600-1914685200@uptownsj.com
SUMMARY:Happy Hour @ Britt’s
DESCRIPTION:Join us for Happy Hour Monday to Friday from 3:30-5 for $6 16oz draught\, 9oz wine for the price of a 5oz and $6 select cocktails!
URL:https://uptownsj.com/event/happy-hour-britts/2030-09-03/
CATEGORIES:Restaurant Specials
ATTACH;FMTTYPE=image/png:https://uptownsj.com/wp-content/uploads/2026/01/HAPPY-HOUR-1.png
END:VEVENT
BEGIN:VEVENT
DTSTART;TZID=America/Halifax:20300904T080000
DTEND;TZID=America/Halifax:20300904T170000
DTSTAMP:20260425T195941
CREATED:20260114T171850Z
LAST-MODIFIED:20260416T182837Z
UID:10019556-1914739200-1914771600@uptownsj.com
SUMMARY:Southern Chicken Wedneday @ Britt's
DESCRIPTION:Buy a three piece Southern Chicken and get a 16oz Moosehead Draught
URL:https://uptownsj.com/event/southern-chicken-wedneday-britts/2030-09-04/
CATEGORIES:Restaurant Specials
ATTACH;FMTTYPE=image/png:https://uptownsj.com/wp-content/uploads/2026/01/SOUTHERN.png
END:VEVENT
BEGIN:VEVENT
DTSTART;TZID=America/Halifax:20300906T163000
DTEND;TZID=America/Halifax:20300906T183000
DTSTAMP:20260425T195941
CREATED:20260105T130337Z
LAST-MODIFIED:20260105T175603Z
UID:10017008-1914942600-1914949800@uptownsj.com
SUMMARY:MIX Live Music and Cocktails Friday
DESCRIPTION:A vibrant Friday night gathering featuring live performances from talented local musicians paired with an exclusive cocktail and bites menu\, designed to elevate the weekend experience. This event will celebrate community\, music\, and hospitality\, while showcasing Saint John’s best local talent in an upscale yet inviting setting. Located at the Mezzanine level of Delta Hotels by Marriott Saint John.
URL:https://uptownsj.com/event/mix-live-music-and-cocktails-friday/2030-09-06/
LOCATION:MIX Resto | Bar\, 39 King Street\, Saint John\, E2L 4W3\, Canada
CATEGORIES:Live Music
ATTACH;FMTTYPE=image/jpeg:https://uptownsj.com/wp-content/uploads/2026/01/MIX.jpg
END:VEVENT
BEGIN:VEVENT
DTSTART;TZID=America/Halifax:20300908T033000
DTEND;TZID=America/Halifax:20300908T170000
DTSTAMP:20260425T195941
CREATED:20260114T171805Z
LAST-MODIFIED:20260114T171805Z
UID:10023620-1915068600-1915117200@uptownsj.com
SUMMARY:Happy Hour @ Britt’s
DESCRIPTION:Join us for Happy Hour Monday to Friday from 3:30-5 for $6 16oz draught\, 9oz wine for the price of a 5oz and $6 select cocktails!
URL:https://uptownsj.com/event/happy-hour-britts/2030-09-08/
CATEGORIES:Restaurant Specials
ATTACH;FMTTYPE=image/png:https://uptownsj.com/wp-content/uploads/2026/01/HAPPY-HOUR-1.png
END:VEVENT
BEGIN:VEVENT
DTSTART;TZID=America/Halifax:20300911T080000
DTEND;TZID=America/Halifax:20300911T170000
DTSTAMP:20260425T195941
CREATED:20260114T171850Z
LAST-MODIFIED:20260416T182837Z
UID:10019557-1915344000-1915376400@uptownsj.com
SUMMARY:Southern Chicken Wedneday @ Britt's
DESCRIPTION:Buy a three piece Southern Chicken and get a 16oz Moosehead Draught
URL:https://uptownsj.com/event/southern-chicken-wedneday-britts/2030-09-11/
CATEGORIES:Restaurant Specials
ATTACH;FMTTYPE=image/png:https://uptownsj.com/wp-content/uploads/2026/01/SOUTHERN.png
END:VEVENT
BEGIN:VEVENT
DTSTART;TZID=America/Halifax:20300913T033000
DTEND;TZID=America/Halifax:20300913T170000
DTSTAMP:20260425T195941
CREATED:20260114T171805Z
LAST-MODIFIED:20260114T171805Z
UID:10023625-1915500600-1915549200@uptownsj.com
SUMMARY:Happy Hour @ Britt’s
DESCRIPTION:Join us for Happy Hour Monday to Friday from 3:30-5 for $6 16oz draught\, 9oz wine for the price of a 5oz and $6 select cocktails!
URL:https://uptownsj.com/event/happy-hour-britts/2030-09-13/
CATEGORIES:Restaurant Specials
ATTACH;FMTTYPE=image/png:https://uptownsj.com/wp-content/uploads/2026/01/HAPPY-HOUR-1.png
END:VEVENT
BEGIN:VEVENT
DTSTART;TZID=America/Halifax:20300913T163000
DTEND;TZID=America/Halifax:20300913T183000
DTSTAMP:20260425T195941
CREATED:20260105T130337Z
LAST-MODIFIED:20260105T175603Z
UID:10017009-1915547400-1915554600@uptownsj.com
SUMMARY:MIX Live Music and Cocktails Friday
DESCRIPTION:A vibrant Friday night gathering featuring live performances from talented local musicians paired with an exclusive cocktail and bites menu\, designed to elevate the weekend experience. This event will celebrate community\, music\, and hospitality\, while showcasing Saint John’s best local talent in an upscale yet inviting setting. Located at the Mezzanine level of Delta Hotels by Marriott Saint John.
URL:https://uptownsj.com/event/mix-live-music-and-cocktails-friday/2030-09-13/
LOCATION:MIX Resto | Bar\, 39 King Street\, Saint John\, E2L 4W3\, Canada
CATEGORIES:Live Music
ATTACH;FMTTYPE=image/jpeg:https://uptownsj.com/wp-content/uploads/2026/01/MIX.jpg
END:VEVENT
BEGIN:VEVENT
DTSTART;TZID=America/Halifax:20300918T033000
DTEND;TZID=America/Halifax:20300918T170000
DTSTAMP:20260425T195941
CREATED:20260114T171805Z
LAST-MODIFIED:20260114T171805Z
UID:10023630-1915932600-1915981200@uptownsj.com
SUMMARY:Happy Hour @ Britt’s
DESCRIPTION:Join us for Happy Hour Monday to Friday from 3:30-5 for $6 16oz draught\, 9oz wine for the price of a 5oz and $6 select cocktails!
URL:https://uptownsj.com/event/happy-hour-britts/2030-09-18/
CATEGORIES:Restaurant Specials
ATTACH;FMTTYPE=image/png:https://uptownsj.com/wp-content/uploads/2026/01/HAPPY-HOUR-1.png
END:VEVENT
BEGIN:VEVENT
DTSTART;TZID=America/Halifax:20300918T080000
DTEND;TZID=America/Halifax:20300918T170000
DTSTAMP:20260425T195941
CREATED:20260114T171850Z
LAST-MODIFIED:20260416T182837Z
UID:10019558-1915948800-1915981200@uptownsj.com
SUMMARY:Southern Chicken Wedneday @ Britt's
DESCRIPTION:Buy a three piece Southern Chicken and get a 16oz Moosehead Draught
URL:https://uptownsj.com/event/southern-chicken-wedneday-britts/2030-09-18/
CATEGORIES:Restaurant Specials
ATTACH;FMTTYPE=image/png:https://uptownsj.com/wp-content/uploads/2026/01/SOUTHERN.png
END:VEVENT
BEGIN:VEVENT
DTSTART;TZID=America/Halifax:20300920T163000
DTEND;TZID=America/Halifax:20300920T183000
DTSTAMP:20260425T195941
CREATED:20260105T130337Z
LAST-MODIFIED:20260105T175603Z
UID:10017010-1916152200-1916159400@uptownsj.com
SUMMARY:MIX Live Music and Cocktails Friday
DESCRIPTION:A vibrant Friday night gathering featuring live performances from talented local musicians paired with an exclusive cocktail and bites menu\, designed to elevate the weekend experience. This event will celebrate community\, music\, and hospitality\, while showcasing Saint John’s best local talent in an upscale yet inviting setting. Located at the Mezzanine level of Delta Hotels by Marriott Saint John.
URL:https://uptownsj.com/event/mix-live-music-and-cocktails-friday/2030-09-20/
LOCATION:MIX Resto | Bar\, 39 King Street\, Saint John\, E2L 4W3\, Canada
CATEGORIES:Live Music
ATTACH;FMTTYPE=image/jpeg:https://uptownsj.com/wp-content/uploads/2026/01/MIX.jpg
END:VEVENT
BEGIN:VEVENT
DTSTART;TZID=America/Halifax:20300923T033000
DTEND;TZID=America/Halifax:20300923T170000
DTSTAMP:20260425T195941
CREATED:20260114T171805Z
LAST-MODIFIED:20260114T171805Z
UID:10023635-1916364600-1916413200@uptownsj.com
SUMMARY:Happy Hour @ Britt’s
DESCRIPTION:Join us for Happy Hour Monday to Friday from 3:30-5 for $6 16oz draught\, 9oz wine for the price of a 5oz and $6 select cocktails!
URL:https://uptownsj.com/event/happy-hour-britts/2030-09-23/
CATEGORIES:Restaurant Specials
ATTACH;FMTTYPE=image/png:https://uptownsj.com/wp-content/uploads/2026/01/HAPPY-HOUR-1.png
END:VEVENT
BEGIN:VEVENT
DTSTART;TZID=America/Halifax:20300925T080000
DTEND;TZID=America/Halifax:20300925T170000
DTSTAMP:20260425T195941
CREATED:20260114T171850Z
LAST-MODIFIED:20260416T182837Z
UID:10019559-1916553600-1916586000@uptownsj.com
SUMMARY:Southern Chicken Wedneday @ Britt's
DESCRIPTION:Buy a three piece Southern Chicken and get a 16oz Moosehead Draught
URL:https://uptownsj.com/event/southern-chicken-wedneday-britts/2030-09-25/
CATEGORIES:Restaurant Specials
ATTACH;FMTTYPE=image/png:https://uptownsj.com/wp-content/uploads/2026/01/SOUTHERN.png
END:VEVENT
BEGIN:VEVENT
DTSTART;TZID=America/Halifax:20300927T163000
DTEND;TZID=America/Halifax:20300927T183000
DTSTAMP:20260425T195941
CREATED:20260105T130337Z
LAST-MODIFIED:20260105T175603Z
UID:10017011-1916757000-1916764200@uptownsj.com
SUMMARY:MIX Live Music and Cocktails Friday
DESCRIPTION:A vibrant Friday night gathering featuring live performances from talented local musicians paired with an exclusive cocktail and bites menu\, designed to elevate the weekend experience. This event will celebrate community\, music\, and hospitality\, while showcasing Saint John’s best local talent in an upscale yet inviting setting. Located at the Mezzanine level of Delta Hotels by Marriott Saint John.
URL:https://uptownsj.com/event/mix-live-music-and-cocktails-friday/2030-09-27/
LOCATION:MIX Resto | Bar\, 39 King Street\, Saint John\, E2L 4W3\, Canada
CATEGORIES:Live Music
ATTACH;FMTTYPE=image/jpeg:https://uptownsj.com/wp-content/uploads/2026/01/MIX.jpg
END:VEVENT
BEGIN:VEVENT
DTSTART;TZID=America/Halifax:20300928T033000
DTEND;TZID=America/Halifax:20300928T170000
DTSTAMP:20260425T195941
CREATED:20260114T171805Z
LAST-MODIFIED:20260114T171805Z
UID:10023640-1916796600-1916845200@uptownsj.com
SUMMARY:Happy Hour @ Britt’s
DESCRIPTION:Join us for Happy Hour Monday to Friday from 3:30-5 for $6 16oz draught\, 9oz wine for the price of a 5oz and $6 select cocktails!
URL:https://uptownsj.com/event/happy-hour-britts/2030-09-28/
CATEGORIES:Restaurant Specials
ATTACH;FMTTYPE=image/png:https://uptownsj.com/wp-content/uploads/2026/01/HAPPY-HOUR-1.png
END:VEVENT
BEGIN:VEVENT
DTSTART;TZID=America/Halifax:20301002T080000
DTEND;TZID=America/Halifax:20301002T170000
DTSTAMP:20260425T195941
CREATED:20260114T171850Z
LAST-MODIFIED:20260416T182837Z
UID:10019560-1917158400-1917190800@uptownsj.com
SUMMARY:Southern Chicken Wedneday @ Britt's
DESCRIPTION:Buy a three piece Southern Chicken and get a 16oz Moosehead Draught
URL:https://uptownsj.com/event/southern-chicken-wedneday-britts/2030-10-02/
CATEGORIES:Restaurant Specials
ATTACH;FMTTYPE=image/png:https://uptownsj.com/wp-content/uploads/2026/01/SOUTHERN.png
END:VEVENT
END:VCALENDAR