BEGIN:VCALENDAR
VERSION:2.0
PRODID:-//Uptown Saint John - ECPv6.15.20//NONSGML v1.0//EN
CALSCALE:GREGORIAN
METHOD:PUBLISH
X-ORIGINAL-URL:https://uptownsj.com
X-WR-CALDESC:Events for Uptown Saint John
REFRESH-INTERVAL;VALUE=DURATION:PT1H
X-Robots-Tag:noindex
X-PUBLISHED-TTL:PT1H
BEGIN:VTIMEZONE
TZID:America/Halifax
BEGIN:DAYLIGHT
TZOFFSETFROM:-0400
TZOFFSETTO:-0300
TZNAME:ADT
DTSTART:20220313T060000
END:DAYLIGHT
BEGIN:STANDARD
TZOFFSETFROM:-0300
TZOFFSETTO:-0400
TZNAME:AST
DTSTART:20221106T050000
END:STANDARD
BEGIN:DAYLIGHT
TZOFFSETFROM:-0400
TZOFFSETTO:-0300
TZNAME:ADT
DTSTART:20230312T060000
END:DAYLIGHT
BEGIN:STANDARD
TZOFFSETFROM:-0300
TZOFFSETTO:-0400
TZNAME:AST
DTSTART:20231105T050000
END:STANDARD
BEGIN:DAYLIGHT
TZOFFSETFROM:-0400
TZOFFSETTO:-0300
TZNAME:ADT
DTSTART:20240310T060000
END:DAYLIGHT
BEGIN:STANDARD
TZOFFSETFROM:-0300
TZOFFSETTO:-0400
TZNAME:AST
DTSTART:20241103T050000
END:STANDARD
END:VTIMEZONE
BEGIN:VEVENT
DTSTART;VALUE=DATE:20230501
DTEND;VALUE=DATE:20230508
DTSTAMP:20260422T044705
CREATED:20230418T145224Z
LAST-MODIFIED:20230418T150848Z
UID:10002446-1682899200-1683503999@uptownsj.com
SUMMARY:Uptown Burger Week - May 1-7\, 2023
DESCRIPTION:Think Burgers for an entire week!  Our uptown chefs are presenting an inspired menu of incredible and creative burgers for your pleasure!\nCheck out the menus and make some plans all week long!
URL:https://uptownsj.com/event/uptown-burger-week-may-1-7-2023/
CATEGORIES:Food,Uptown Saint John BIA Event
ATTACH;FMTTYPE=image/png:https://uptownsj.com/wp-content/uploads/2023/04/MAY-1-7.png
END:VEVENT
BEGIN:VEVENT
DTSTART;TZID=America/Halifax:20230123T080000
DTEND;TZID=America/Halifax:20230129T230000
DTSTAMP:20260422T044705
CREATED:20230109T153300Z
LAST-MODIFIED:20230109T153300Z
UID:10000220-1674460800-1675033200@uptownsj.com
SUMMARY:Uptown Poutine Fest
DESCRIPTION:As the weather gets colder outside\, everyone heads inside to warm by enjoying delicious hot food & drinks! \nOf course\, the most Canadian way to warm up is with poutine! \nVisit the participating Uptown Saint John BIA restaurants & celebrate a variety of different takes on this classic Canadian dish available for a whole week each January! \nWinter 2023 Uptown Poutine Fest January 23 to 29th\, 2023 (Menus are updated as they come in) \n 
URL:https://uptownsj.com/event/uptown-poutine-fest/
CATEGORIES:Food,Uptown Saint John BIA Event
ATTACH;FMTTYPE=image/png:https://uptownsj.com/wp-content/uploads/2022/12/Uptown-Poutine-Fest-2023-1.png
END:VEVENT
END:VCALENDAR