BEGIN:VCALENDAR
VERSION:2.0
PRODID:-//Uptown Saint John - ECPv6.15.20//NONSGML v1.0//EN
CALSCALE:GREGORIAN
METHOD:PUBLISH
X-WR-CALNAME:Uptown Saint John
X-ORIGINAL-URL:https://uptownsj.com
X-WR-CALDESC:Events for Uptown Saint John
REFRESH-INTERVAL;VALUE=DURATION:PT1H
X-Robots-Tag:noindex
X-PUBLISHED-TTL:PT1H
BEGIN:VTIMEZONE
TZID:America/Halifax
BEGIN:DAYLIGHT
TZOFFSETFROM:-0400
TZOFFSETTO:-0300
TZNAME:ADT
DTSTART:20280312T060000
END:DAYLIGHT
BEGIN:STANDARD
TZOFFSETFROM:-0300
TZOFFSETTO:-0400
TZNAME:AST
DTSTART:20281105T050000
END:STANDARD
BEGIN:DAYLIGHT
TZOFFSETFROM:-0400
TZOFFSETTO:-0300
TZNAME:ADT
DTSTART:20290311T060000
END:DAYLIGHT
BEGIN:STANDARD
TZOFFSETFROM:-0300
TZOFFSETTO:-0400
TZNAME:AST
DTSTART:20291104T050000
END:STANDARD
BEGIN:DAYLIGHT
TZOFFSETFROM:-0400
TZOFFSETTO:-0300
TZNAME:ADT
DTSTART:20300310T060000
END:DAYLIGHT
BEGIN:STANDARD
TZOFFSETFROM:-0300
TZOFFSETTO:-0400
TZNAME:AST
DTSTART:20301103T050000
END:STANDARD
END:VTIMEZONE
BEGIN:VEVENT
DTSTART;TZID=America/Halifax:20290615T033000
DTEND;TZID=America/Halifax:20290615T170000
DTSTAMP:20260422T214034
CREATED:20260114T171805Z
LAST-MODIFIED:20260114T171805Z
UID:10023170-1876188600-1876237200@uptownsj.com
SUMMARY:Happy Hour @ Britt’s
DESCRIPTION:Join us for Happy Hour Monday to Friday from 3:30-5 for $6 16oz draught\, 9oz wine for the price of a 5oz and $6 select cocktails!
URL:https://uptownsj.com/event/happy-hour-britts/2029-06-15/
CATEGORIES:Restaurant Specials
ATTACH;FMTTYPE=image/png:https://uptownsj.com/wp-content/uploads/2026/01/HAPPY-HOUR-1.png
END:VEVENT
BEGIN:VEVENT
DTSTART;TZID=America/Halifax:20290616T100000
DTEND;TZID=America/Halifax:20290616T140000
DTSTAMP:20260422T214034
CREATED:20250728T115843Z
LAST-MODIFIED:20250728T115843Z
UID:10013107-1876298400-1876312800@uptownsj.com
SUMMARY:The Saturday Bakery
DESCRIPTION:The Saturday Bakery is a pop-event that takes place weekly at East Coast Bistro. \nFeaturing a monthly menu of traditional French croissants\, nostalgic sweets\, loaves of sourdough and more\, our items go on sale via our website Fridays at 4pm. Upon loading your cart\, our system will prompt you to schedule a pick up time on Saturday between 10am and 2pm. \nWalk-in orders are welcome for remaining inventory on Saturdays starting at 10am. \nSign up for our newsletter via our website to receive a weekly email reminding you to place your order.
URL:https://uptownsj.com/event/the-saturday-bakery/2029-06-16/
LOCATION:East Coast Bistro\, 60 Prince William Street\, Saint John\, E2L 2B1
CATEGORIES:Restaurant Specials,Specials
ATTACH;FMTTYPE=image/jpeg:https://uptownsj.com/wp-content/uploads/2025/07/IMG_8062.jpg
ORGANIZER;CN="East Coast Bistro":MAILTO:eat@eastcoastbistro.com
END:VEVENT
BEGIN:VEVENT
DTSTART;TZID=America/Halifax:20290620T033000
DTEND;TZID=America/Halifax:20290620T170000
DTSTAMP:20260422T214034
CREATED:20260114T171805Z
LAST-MODIFIED:20260114T171805Z
UID:10023175-1876620600-1876669200@uptownsj.com
SUMMARY:Happy Hour @ Britt’s
DESCRIPTION:Join us for Happy Hour Monday to Friday from 3:30-5 for $6 16oz draught\, 9oz wine for the price of a 5oz and $6 select cocktails!
URL:https://uptownsj.com/event/happy-hour-britts/2029-06-20/
CATEGORIES:Restaurant Specials
ATTACH;FMTTYPE=image/png:https://uptownsj.com/wp-content/uploads/2026/01/HAPPY-HOUR-1.png
END:VEVENT
BEGIN:VEVENT
DTSTART;TZID=America/Halifax:20290620T080000
DTEND;TZID=America/Halifax:20290620T170000
DTSTAMP:20260422T214034
CREATED:20260114T171850Z
LAST-MODIFIED:20260416T182837Z
UID:10019493-1876636800-1876669200@uptownsj.com
SUMMARY:Southern Chicken Wedneday @ Britt's
DESCRIPTION:Buy a three piece Southern Chicken and get a 16oz Moosehead Draught
URL:https://uptownsj.com/event/southern-chicken-wedneday-britts/2029-06-20/
CATEGORIES:Restaurant Specials
ATTACH;FMTTYPE=image/png:https://uptownsj.com/wp-content/uploads/2026/01/SOUTHERN.png
END:VEVENT
BEGIN:VEVENT
DTSTART;VALUE=DATE:20290621
DTEND;VALUE=DATE:20290622
DTSTAMP:20260422T214034
CREATED:20250729T175547Z
LAST-MODIFIED:20250729T175547Z
UID:10013770-1876694400-1876780799@uptownsj.com
SUMMARY:Beer Bread's 5\,6\,7\,10 Thursdays with Live Music
DESCRIPTION:Every Thursday Beer Bread restaurant offers Happy Hour all-day & all-night! \n$5 – 14oz Draught Beers \n$6 – 6oz Wine (Red\, White\, Rosé) \n$7 – BB Old Fashioned Cocktails \n$10 – Small Bites (All our small plate appetizers will be featured for $10) \nWe also will be offering the music stylings of Jamie Wright from 5:30pm-8:30pm.
URL:https://uptownsj.com/event/beer-breads-56710-thursdays-with-live-music/2029-06-21/
LOCATION:Beer Bread\, 7 Market Square\, Saint John\, E2l 1e8
CATEGORIES:Restaurant Specials,Specials
ATTACH;FMTTYPE=image/png:https://uptownsj.com/wp-content/uploads/2025/07/1.png
END:VEVENT
BEGIN:VEVENT
DTSTART;TZID=America/Halifax:20290623T100000
DTEND;TZID=America/Halifax:20290623T140000
DTSTAMP:20260422T214034
CREATED:20250728T115843Z
LAST-MODIFIED:20250728T115843Z
UID:10013108-1876903200-1876917600@uptownsj.com
SUMMARY:The Saturday Bakery
DESCRIPTION:The Saturday Bakery is a pop-event that takes place weekly at East Coast Bistro. \nFeaturing a monthly menu of traditional French croissants\, nostalgic sweets\, loaves of sourdough and more\, our items go on sale via our website Fridays at 4pm. Upon loading your cart\, our system will prompt you to schedule a pick up time on Saturday between 10am and 2pm. \nWalk-in orders are welcome for remaining inventory on Saturdays starting at 10am. \nSign up for our newsletter via our website to receive a weekly email reminding you to place your order.
URL:https://uptownsj.com/event/the-saturday-bakery/2029-06-23/
LOCATION:East Coast Bistro\, 60 Prince William Street\, Saint John\, E2L 2B1
CATEGORIES:Restaurant Specials,Specials
ATTACH;FMTTYPE=image/jpeg:https://uptownsj.com/wp-content/uploads/2025/07/IMG_8062.jpg
ORGANIZER;CN="East Coast Bistro":MAILTO:eat@eastcoastbistro.com
END:VEVENT
BEGIN:VEVENT
DTSTART;TZID=America/Halifax:20290625T033000
DTEND;TZID=America/Halifax:20290625T170000
DTSTAMP:20260422T214034
CREATED:20260114T171805Z
LAST-MODIFIED:20260114T171805Z
UID:10023180-1877052600-1877101200@uptownsj.com
SUMMARY:Happy Hour @ Britt’s
DESCRIPTION:Join us for Happy Hour Monday to Friday from 3:30-5 for $6 16oz draught\, 9oz wine for the price of a 5oz and $6 select cocktails!
URL:https://uptownsj.com/event/happy-hour-britts/2029-06-25/
CATEGORIES:Restaurant Specials
ATTACH;FMTTYPE=image/png:https://uptownsj.com/wp-content/uploads/2026/01/HAPPY-HOUR-1.png
END:VEVENT
BEGIN:VEVENT
DTSTART;TZID=America/Halifax:20290627T080000
DTEND;TZID=America/Halifax:20290627T170000
DTSTAMP:20260422T214034
CREATED:20260114T171850Z
LAST-MODIFIED:20260416T182837Z
UID:10019494-1877241600-1877274000@uptownsj.com
SUMMARY:Southern Chicken Wedneday @ Britt's
DESCRIPTION:Buy a three piece Southern Chicken and get a 16oz Moosehead Draught
URL:https://uptownsj.com/event/southern-chicken-wedneday-britts/2029-06-27/
CATEGORIES:Restaurant Specials
ATTACH;FMTTYPE=image/png:https://uptownsj.com/wp-content/uploads/2026/01/SOUTHERN.png
END:VEVENT
BEGIN:VEVENT
DTSTART;VALUE=DATE:20290628
DTEND;VALUE=DATE:20290629
DTSTAMP:20260422T214034
CREATED:20250729T175547Z
LAST-MODIFIED:20250729T175547Z
UID:10013771-1877299200-1877385599@uptownsj.com
SUMMARY:Beer Bread's 5\,6\,7\,10 Thursdays with Live Music
DESCRIPTION:Every Thursday Beer Bread restaurant offers Happy Hour all-day & all-night! \n$5 – 14oz Draught Beers \n$6 – 6oz Wine (Red\, White\, Rosé) \n$7 – BB Old Fashioned Cocktails \n$10 – Small Bites (All our small plate appetizers will be featured for $10) \nWe also will be offering the music stylings of Jamie Wright from 5:30pm-8:30pm.
URL:https://uptownsj.com/event/beer-breads-56710-thursdays-with-live-music/2029-06-28/
LOCATION:Beer Bread\, 7 Market Square\, Saint John\, E2l 1e8
CATEGORIES:Restaurant Specials,Specials
ATTACH;FMTTYPE=image/png:https://uptownsj.com/wp-content/uploads/2025/07/1.png
END:VEVENT
BEGIN:VEVENT
DTSTART;TZID=America/Halifax:20290630T033000
DTEND;TZID=America/Halifax:20290630T170000
DTSTAMP:20260422T214034
CREATED:20260114T171805Z
LAST-MODIFIED:20260114T171805Z
UID:10023185-1877484600-1877533200@uptownsj.com
SUMMARY:Happy Hour @ Britt’s
DESCRIPTION:Join us for Happy Hour Monday to Friday from 3:30-5 for $6 16oz draught\, 9oz wine for the price of a 5oz and $6 select cocktails!
URL:https://uptownsj.com/event/happy-hour-britts/2029-06-30/
CATEGORIES:Restaurant Specials
ATTACH;FMTTYPE=image/png:https://uptownsj.com/wp-content/uploads/2026/01/HAPPY-HOUR-1.png
END:VEVENT
BEGIN:VEVENT
DTSTART;TZID=America/Halifax:20290630T100000
DTEND;TZID=America/Halifax:20290630T140000
DTSTAMP:20260422T214034
CREATED:20250728T115843Z
LAST-MODIFIED:20250728T115843Z
UID:10013109-1877508000-1877522400@uptownsj.com
SUMMARY:The Saturday Bakery
DESCRIPTION:The Saturday Bakery is a pop-event that takes place weekly at East Coast Bistro. \nFeaturing a monthly menu of traditional French croissants\, nostalgic sweets\, loaves of sourdough and more\, our items go on sale via our website Fridays at 4pm. Upon loading your cart\, our system will prompt you to schedule a pick up time on Saturday between 10am and 2pm. \nWalk-in orders are welcome for remaining inventory on Saturdays starting at 10am. \nSign up for our newsletter via our website to receive a weekly email reminding you to place your order.
URL:https://uptownsj.com/event/the-saturday-bakery/2029-06-30/
LOCATION:East Coast Bistro\, 60 Prince William Street\, Saint John\, E2L 2B1
CATEGORIES:Restaurant Specials,Specials
ATTACH;FMTTYPE=image/jpeg:https://uptownsj.com/wp-content/uploads/2025/07/IMG_8062.jpg
ORGANIZER;CN="East Coast Bistro":MAILTO:eat@eastcoastbistro.com
END:VEVENT
BEGIN:VEVENT
DTSTART;TZID=America/Halifax:20290704T080000
DTEND;TZID=America/Halifax:20290704T170000
DTSTAMP:20260422T214034
CREATED:20260114T171850Z
LAST-MODIFIED:20260416T182837Z
UID:10019495-1877846400-1877878800@uptownsj.com
SUMMARY:Southern Chicken Wedneday @ Britt's
DESCRIPTION:Buy a three piece Southern Chicken and get a 16oz Moosehead Draught
URL:https://uptownsj.com/event/southern-chicken-wedneday-britts/2029-07-04/
CATEGORIES:Restaurant Specials
ATTACH;FMTTYPE=image/png:https://uptownsj.com/wp-content/uploads/2026/01/SOUTHERN.png
END:VEVENT
BEGIN:VEVENT
DTSTART;VALUE=DATE:20290705
DTEND;VALUE=DATE:20290706
DTSTAMP:20260422T214034
CREATED:20250729T175547Z
LAST-MODIFIED:20250729T175547Z
UID:10013772-1877904000-1877990399@uptownsj.com
SUMMARY:Beer Bread's 5\,6\,7\,10 Thursdays with Live Music
DESCRIPTION:Every Thursday Beer Bread restaurant offers Happy Hour all-day & all-night! \n$5 – 14oz Draught Beers \n$6 – 6oz Wine (Red\, White\, Rosé) \n$7 – BB Old Fashioned Cocktails \n$10 – Small Bites (All our small plate appetizers will be featured for $10) \nWe also will be offering the music stylings of Jamie Wright from 5:30pm-8:30pm.
URL:https://uptownsj.com/event/beer-breads-56710-thursdays-with-live-music/2029-07-05/
LOCATION:Beer Bread\, 7 Market Square\, Saint John\, E2l 1e8
CATEGORIES:Restaurant Specials,Specials
ATTACH;FMTTYPE=image/png:https://uptownsj.com/wp-content/uploads/2025/07/1.png
END:VEVENT
BEGIN:VEVENT
DTSTART;TZID=America/Halifax:20290705T033000
DTEND;TZID=America/Halifax:20290705T170000
DTSTAMP:20260422T214034
CREATED:20260114T171805Z
LAST-MODIFIED:20260114T171805Z
UID:10023190-1877916600-1877965200@uptownsj.com
SUMMARY:Happy Hour @ Britt’s
DESCRIPTION:Join us for Happy Hour Monday to Friday from 3:30-5 for $6 16oz draught\, 9oz wine for the price of a 5oz and $6 select cocktails!
URL:https://uptownsj.com/event/happy-hour-britts/2029-07-05/
CATEGORIES:Restaurant Specials
ATTACH;FMTTYPE=image/png:https://uptownsj.com/wp-content/uploads/2026/01/HAPPY-HOUR-1.png
END:VEVENT
BEGIN:VEVENT
DTSTART;TZID=America/Halifax:20290707T100000
DTEND;TZID=America/Halifax:20290707T140000
DTSTAMP:20260422T214034
CREATED:20250728T115843Z
LAST-MODIFIED:20250728T115843Z
UID:10013110-1878112800-1878127200@uptownsj.com
SUMMARY:The Saturday Bakery
DESCRIPTION:The Saturday Bakery is a pop-event that takes place weekly at East Coast Bistro. \nFeaturing a monthly menu of traditional French croissants\, nostalgic sweets\, loaves of sourdough and more\, our items go on sale via our website Fridays at 4pm. Upon loading your cart\, our system will prompt you to schedule a pick up time on Saturday between 10am and 2pm. \nWalk-in orders are welcome for remaining inventory on Saturdays starting at 10am. \nSign up for our newsletter via our website to receive a weekly email reminding you to place your order.
URL:https://uptownsj.com/event/the-saturday-bakery/2029-07-07/
LOCATION:East Coast Bistro\, 60 Prince William Street\, Saint John\, E2L 2B1
CATEGORIES:Restaurant Specials,Specials
ATTACH;FMTTYPE=image/jpeg:https://uptownsj.com/wp-content/uploads/2025/07/IMG_8062.jpg
ORGANIZER;CN="East Coast Bistro":MAILTO:eat@eastcoastbistro.com
END:VEVENT
BEGIN:VEVENT
DTSTART;TZID=America/Halifax:20290710T033000
DTEND;TZID=America/Halifax:20290710T170000
DTSTAMP:20260422T214034
CREATED:20260114T171805Z
LAST-MODIFIED:20260114T171805Z
UID:10023195-1878348600-1878397200@uptownsj.com
SUMMARY:Happy Hour @ Britt’s
DESCRIPTION:Join us for Happy Hour Monday to Friday from 3:30-5 for $6 16oz draught\, 9oz wine for the price of a 5oz and $6 select cocktails!
URL:https://uptownsj.com/event/happy-hour-britts/2029-07-10/
CATEGORIES:Restaurant Specials
ATTACH;FMTTYPE=image/png:https://uptownsj.com/wp-content/uploads/2026/01/HAPPY-HOUR-1.png
END:VEVENT
BEGIN:VEVENT
DTSTART;TZID=America/Halifax:20290711T080000
DTEND;TZID=America/Halifax:20290711T170000
DTSTAMP:20260422T214034
CREATED:20260114T171850Z
LAST-MODIFIED:20260416T182837Z
UID:10019496-1878451200-1878483600@uptownsj.com
SUMMARY:Southern Chicken Wedneday @ Britt's
DESCRIPTION:Buy a three piece Southern Chicken and get a 16oz Moosehead Draught
URL:https://uptownsj.com/event/southern-chicken-wedneday-britts/2029-07-11/
CATEGORIES:Restaurant Specials
ATTACH;FMTTYPE=image/png:https://uptownsj.com/wp-content/uploads/2026/01/SOUTHERN.png
END:VEVENT
BEGIN:VEVENT
DTSTART;VALUE=DATE:20290712
DTEND;VALUE=DATE:20290713
DTSTAMP:20260422T214034
CREATED:20250729T175547Z
LAST-MODIFIED:20250729T175547Z
UID:10013773-1878508800-1878595199@uptownsj.com
SUMMARY:Beer Bread's 5\,6\,7\,10 Thursdays with Live Music
DESCRIPTION:Every Thursday Beer Bread restaurant offers Happy Hour all-day & all-night! \n$5 – 14oz Draught Beers \n$6 – 6oz Wine (Red\, White\, Rosé) \n$7 – BB Old Fashioned Cocktails \n$10 – Small Bites (All our small plate appetizers will be featured for $10) \nWe also will be offering the music stylings of Jamie Wright from 5:30pm-8:30pm.
URL:https://uptownsj.com/event/beer-breads-56710-thursdays-with-live-music/2029-07-12/
LOCATION:Beer Bread\, 7 Market Square\, Saint John\, E2l 1e8
CATEGORIES:Restaurant Specials,Specials
ATTACH;FMTTYPE=image/png:https://uptownsj.com/wp-content/uploads/2025/07/1.png
END:VEVENT
BEGIN:VEVENT
DTSTART;TZID=America/Halifax:20290714T100000
DTEND;TZID=America/Halifax:20290714T140000
DTSTAMP:20260422T214034
CREATED:20250728T115843Z
LAST-MODIFIED:20250728T115843Z
UID:10013111-1878717600-1878732000@uptownsj.com
SUMMARY:The Saturday Bakery
DESCRIPTION:The Saturday Bakery is a pop-event that takes place weekly at East Coast Bistro. \nFeaturing a monthly menu of traditional French croissants\, nostalgic sweets\, loaves of sourdough and more\, our items go on sale via our website Fridays at 4pm. Upon loading your cart\, our system will prompt you to schedule a pick up time on Saturday between 10am and 2pm. \nWalk-in orders are welcome for remaining inventory on Saturdays starting at 10am. \nSign up for our newsletter via our website to receive a weekly email reminding you to place your order.
URL:https://uptownsj.com/event/the-saturday-bakery/2029-07-14/
LOCATION:East Coast Bistro\, 60 Prince William Street\, Saint John\, E2L 2B1
CATEGORIES:Restaurant Specials,Specials
ATTACH;FMTTYPE=image/jpeg:https://uptownsj.com/wp-content/uploads/2025/07/IMG_8062.jpg
ORGANIZER;CN="East Coast Bistro":MAILTO:eat@eastcoastbistro.com
END:VEVENT
BEGIN:VEVENT
DTSTART;TZID=America/Halifax:20290715T033000
DTEND;TZID=America/Halifax:20290715T170000
DTSTAMP:20260422T214034
CREATED:20260114T171805Z
LAST-MODIFIED:20260114T171805Z
UID:10023200-1878780600-1878829200@uptownsj.com
SUMMARY:Happy Hour @ Britt’s
DESCRIPTION:Join us for Happy Hour Monday to Friday from 3:30-5 for $6 16oz draught\, 9oz wine for the price of a 5oz and $6 select cocktails!
URL:https://uptownsj.com/event/happy-hour-britts/2029-07-15/
CATEGORIES:Restaurant Specials
ATTACH;FMTTYPE=image/png:https://uptownsj.com/wp-content/uploads/2026/01/HAPPY-HOUR-1.png
END:VEVENT
BEGIN:VEVENT
DTSTART;TZID=America/Halifax:20290718T080000
DTEND;TZID=America/Halifax:20290718T170000
DTSTAMP:20260422T214034
CREATED:20260114T171850Z
LAST-MODIFIED:20260416T182837Z
UID:10019497-1879056000-1879088400@uptownsj.com
SUMMARY:Southern Chicken Wedneday @ Britt's
DESCRIPTION:Buy a three piece Southern Chicken and get a 16oz Moosehead Draught
URL:https://uptownsj.com/event/southern-chicken-wedneday-britts/2029-07-18/
CATEGORIES:Restaurant Specials
ATTACH;FMTTYPE=image/png:https://uptownsj.com/wp-content/uploads/2026/01/SOUTHERN.png
END:VEVENT
BEGIN:VEVENT
DTSTART;VALUE=DATE:20290719
DTEND;VALUE=DATE:20290720
DTSTAMP:20260422T214034
CREATED:20250729T175547Z
LAST-MODIFIED:20250729T175547Z
UID:10013774-1879113600-1879199999@uptownsj.com
SUMMARY:Beer Bread's 5\,6\,7\,10 Thursdays with Live Music
DESCRIPTION:Every Thursday Beer Bread restaurant offers Happy Hour all-day & all-night! \n$5 – 14oz Draught Beers \n$6 – 6oz Wine (Red\, White\, Rosé) \n$7 – BB Old Fashioned Cocktails \n$10 – Small Bites (All our small plate appetizers will be featured for $10) \nWe also will be offering the music stylings of Jamie Wright from 5:30pm-8:30pm.
URL:https://uptownsj.com/event/beer-breads-56710-thursdays-with-live-music/2029-07-19/
LOCATION:Beer Bread\, 7 Market Square\, Saint John\, E2l 1e8
CATEGORIES:Restaurant Specials,Specials
ATTACH;FMTTYPE=image/png:https://uptownsj.com/wp-content/uploads/2025/07/1.png
END:VEVENT
BEGIN:VEVENT
DTSTART;TZID=America/Halifax:20290720T033000
DTEND;TZID=America/Halifax:20290720T170000
DTSTAMP:20260422T214034
CREATED:20260114T171805Z
LAST-MODIFIED:20260114T171805Z
UID:10023205-1879212600-1879261200@uptownsj.com
SUMMARY:Happy Hour @ Britt’s
DESCRIPTION:Join us for Happy Hour Monday to Friday from 3:30-5 for $6 16oz draught\, 9oz wine for the price of a 5oz and $6 select cocktails!
URL:https://uptownsj.com/event/happy-hour-britts/2029-07-20/
CATEGORIES:Restaurant Specials
ATTACH;FMTTYPE=image/png:https://uptownsj.com/wp-content/uploads/2026/01/HAPPY-HOUR-1.png
END:VEVENT
BEGIN:VEVENT
DTSTART;TZID=America/Halifax:20290721T100000
DTEND;TZID=America/Halifax:20290721T140000
DTSTAMP:20260422T214034
CREATED:20250728T115843Z
LAST-MODIFIED:20250728T115843Z
UID:10013112-1879322400-1879336800@uptownsj.com
SUMMARY:The Saturday Bakery
DESCRIPTION:The Saturday Bakery is a pop-event that takes place weekly at East Coast Bistro. \nFeaturing a monthly menu of traditional French croissants\, nostalgic sweets\, loaves of sourdough and more\, our items go on sale via our website Fridays at 4pm. Upon loading your cart\, our system will prompt you to schedule a pick up time on Saturday between 10am and 2pm. \nWalk-in orders are welcome for remaining inventory on Saturdays starting at 10am. \nSign up for our newsletter via our website to receive a weekly email reminding you to place your order.
URL:https://uptownsj.com/event/the-saturday-bakery/2029-07-21/
LOCATION:East Coast Bistro\, 60 Prince William Street\, Saint John\, E2L 2B1
CATEGORIES:Restaurant Specials,Specials
ATTACH;FMTTYPE=image/jpeg:https://uptownsj.com/wp-content/uploads/2025/07/IMG_8062.jpg
ORGANIZER;CN="East Coast Bistro":MAILTO:eat@eastcoastbistro.com
END:VEVENT
BEGIN:VEVENT
DTSTART;TZID=America/Halifax:20290725T033000
DTEND;TZID=America/Halifax:20290725T170000
DTSTAMP:20260422T214034
CREATED:20260114T171805Z
LAST-MODIFIED:20260114T171805Z
UID:10023210-1879644600-1879693200@uptownsj.com
SUMMARY:Happy Hour @ Britt’s
DESCRIPTION:Join us for Happy Hour Monday to Friday from 3:30-5 for $6 16oz draught\, 9oz wine for the price of a 5oz and $6 select cocktails!
URL:https://uptownsj.com/event/happy-hour-britts/2029-07-25/
CATEGORIES:Restaurant Specials
ATTACH;FMTTYPE=image/png:https://uptownsj.com/wp-content/uploads/2026/01/HAPPY-HOUR-1.png
END:VEVENT
BEGIN:VEVENT
DTSTART;TZID=America/Halifax:20290725T080000
DTEND;TZID=America/Halifax:20290725T170000
DTSTAMP:20260422T214034
CREATED:20260114T171850Z
LAST-MODIFIED:20260416T182837Z
UID:10019498-1879660800-1879693200@uptownsj.com
SUMMARY:Southern Chicken Wedneday @ Britt's
DESCRIPTION:Buy a three piece Southern Chicken and get a 16oz Moosehead Draught
URL:https://uptownsj.com/event/southern-chicken-wedneday-britts/2029-07-25/
CATEGORIES:Restaurant Specials
ATTACH;FMTTYPE=image/png:https://uptownsj.com/wp-content/uploads/2026/01/SOUTHERN.png
END:VEVENT
BEGIN:VEVENT
DTSTART;VALUE=DATE:20290726
DTEND;VALUE=DATE:20290727
DTSTAMP:20260422T214034
CREATED:20250729T175547Z
LAST-MODIFIED:20250729T175547Z
UID:10013775-1879718400-1879804799@uptownsj.com
SUMMARY:Beer Bread's 5\,6\,7\,10 Thursdays with Live Music
DESCRIPTION:Every Thursday Beer Bread restaurant offers Happy Hour all-day & all-night! \n$5 – 14oz Draught Beers \n$6 – 6oz Wine (Red\, White\, Rosé) \n$7 – BB Old Fashioned Cocktails \n$10 – Small Bites (All our small plate appetizers will be featured for $10) \nWe also will be offering the music stylings of Jamie Wright from 5:30pm-8:30pm.
URL:https://uptownsj.com/event/beer-breads-56710-thursdays-with-live-music/2029-07-26/
LOCATION:Beer Bread\, 7 Market Square\, Saint John\, E2l 1e8
CATEGORIES:Restaurant Specials,Specials
ATTACH;FMTTYPE=image/png:https://uptownsj.com/wp-content/uploads/2025/07/1.png
END:VEVENT
BEGIN:VEVENT
DTSTART;TZID=America/Halifax:20290728T100000
DTEND;TZID=America/Halifax:20290728T140000
DTSTAMP:20260422T214034
CREATED:20250728T115843Z
LAST-MODIFIED:20250728T115843Z
UID:10013113-1879927200-1879941600@uptownsj.com
SUMMARY:The Saturday Bakery
DESCRIPTION:The Saturday Bakery is a pop-event that takes place weekly at East Coast Bistro. \nFeaturing a monthly menu of traditional French croissants\, nostalgic sweets\, loaves of sourdough and more\, our items go on sale via our website Fridays at 4pm. Upon loading your cart\, our system will prompt you to schedule a pick up time on Saturday between 10am and 2pm. \nWalk-in orders are welcome for remaining inventory on Saturdays starting at 10am. \nSign up for our newsletter via our website to receive a weekly email reminding you to place your order.
URL:https://uptownsj.com/event/the-saturday-bakery/2029-07-28/
LOCATION:East Coast Bistro\, 60 Prince William Street\, Saint John\, E2L 2B1
CATEGORIES:Restaurant Specials,Specials
ATTACH;FMTTYPE=image/jpeg:https://uptownsj.com/wp-content/uploads/2025/07/IMG_8062.jpg
ORGANIZER;CN="East Coast Bistro":MAILTO:eat@eastcoastbistro.com
END:VEVENT
BEGIN:VEVENT
DTSTART;TZID=America/Halifax:20290730T033000
DTEND;TZID=America/Halifax:20290730T170000
DTSTAMP:20260422T214034
CREATED:20260114T171805Z
LAST-MODIFIED:20260114T171805Z
UID:10023215-1880076600-1880125200@uptownsj.com
SUMMARY:Happy Hour @ Britt’s
DESCRIPTION:Join us for Happy Hour Monday to Friday from 3:30-5 for $6 16oz draught\, 9oz wine for the price of a 5oz and $6 select cocktails!
URL:https://uptownsj.com/event/happy-hour-britts/2029-07-30/
CATEGORIES:Restaurant Specials
ATTACH;FMTTYPE=image/png:https://uptownsj.com/wp-content/uploads/2026/01/HAPPY-HOUR-1.png
END:VEVENT
BEGIN:VEVENT
DTSTART;TZID=America/Halifax:20290801T080000
DTEND;TZID=America/Halifax:20290801T170000
DTSTAMP:20260422T214034
CREATED:20260114T171850Z
LAST-MODIFIED:20260416T182837Z
UID:10019499-1880265600-1880298000@uptownsj.com
SUMMARY:Southern Chicken Wedneday @ Britt's
DESCRIPTION:Buy a three piece Southern Chicken and get a 16oz Moosehead Draught
URL:https://uptownsj.com/event/southern-chicken-wedneday-britts/2029-08-01/
CATEGORIES:Restaurant Specials
ATTACH;FMTTYPE=image/png:https://uptownsj.com/wp-content/uploads/2026/01/SOUTHERN.png
END:VEVENT
END:VCALENDAR