BEGIN:VCALENDAR
VERSION:2.0
PRODID:-//Uptown Saint John - ECPv6.15.20//NONSGML v1.0//EN
CALSCALE:GREGORIAN
METHOD:PUBLISH
X-WR-CALNAME:Uptown Saint John
X-ORIGINAL-URL:https://uptownsj.com
X-WR-CALDESC:Events for Uptown Saint John
REFRESH-INTERVAL;VALUE=DURATION:PT1H
X-Robots-Tag:noindex
X-PUBLISHED-TTL:PT1H
BEGIN:VTIMEZONE
TZID:America/Halifax
BEGIN:DAYLIGHT
TZOFFSETFROM:-0400
TZOFFSETTO:-0300
TZNAME:ADT
DTSTART:20280312T060000
END:DAYLIGHT
BEGIN:STANDARD
TZOFFSETFROM:-0300
TZOFFSETTO:-0400
TZNAME:AST
DTSTART:20281105T050000
END:STANDARD
BEGIN:DAYLIGHT
TZOFFSETFROM:-0400
TZOFFSETTO:-0300
TZNAME:ADT
DTSTART:20290311T060000
END:DAYLIGHT
BEGIN:STANDARD
TZOFFSETFROM:-0300
TZOFFSETTO:-0400
TZNAME:AST
DTSTART:20291104T050000
END:STANDARD
BEGIN:DAYLIGHT
TZOFFSETFROM:-0400
TZOFFSETTO:-0300
TZNAME:ADT
DTSTART:20300310T060000
END:DAYLIGHT
BEGIN:STANDARD
TZOFFSETFROM:-0300
TZOFFSETTO:-0400
TZNAME:AST
DTSTART:20301103T050000
END:STANDARD
END:VTIMEZONE
BEGIN:VEVENT
DTSTART;TZID=America/Halifax:20290214T080000
DTEND;TZID=America/Halifax:20290214T170000
DTSTAMP:20260421T004700
CREATED:20260114T171850Z
LAST-MODIFIED:20260416T182837Z
UID:10019475-1865750400-1865782800@uptownsj.com
SUMMARY:Southern Chicken Wedneday @ Britt's
DESCRIPTION:Buy a three piece Southern Chicken and get a 16oz Moosehead Draught
URL:https://uptownsj.com/event/southern-chicken-wedneday-britts/2029-02-14/
CATEGORIES:Restaurant Specials
ATTACH;FMTTYPE=image/png:https://uptownsj.com/wp-content/uploads/2026/01/SOUTHERN.png
END:VEVENT
BEGIN:VEVENT
DTSTART;VALUE=DATE:20290215
DTEND;VALUE=DATE:20290216
DTSTAMP:20260421T004700
CREATED:20250729T175547Z
LAST-MODIFIED:20250729T175547Z
UID:10013752-1865808000-1865894399@uptownsj.com
SUMMARY:Beer Bread's 5\,6\,7\,10 Thursdays with Live Music
DESCRIPTION:Every Thursday Beer Bread restaurant offers Happy Hour all-day & all-night! \n$5 – 14oz Draught Beers \n$6 – 6oz Wine (Red\, White\, Rosé) \n$7 – BB Old Fashioned Cocktails \n$10 – Small Bites (All our small plate appetizers will be featured for $10) \nWe also will be offering the music stylings of Jamie Wright from 5:30pm-8:30pm.
URL:https://uptownsj.com/event/beer-breads-56710-thursdays-with-live-music/2029-02-15/
LOCATION:Beer Bread\, 7 Market Square\, Saint John\, E2l 1e8
CATEGORIES:Restaurant Specials,Specials
ATTACH;FMTTYPE=image/png:https://uptownsj.com/wp-content/uploads/2025/07/1.png
END:VEVENT
BEGIN:VEVENT
DTSTART;TZID=America/Halifax:20290215T033000
DTEND;TZID=America/Halifax:20290215T170000
DTSTAMP:20260421T004700
CREATED:20260114T171805Z
LAST-MODIFIED:20260114T171805Z
UID:10023050-1865820600-1865869200@uptownsj.com
SUMMARY:Happy Hour @ Britt’s
DESCRIPTION:Join us for Happy Hour Monday to Friday from 3:30-5 for $6 16oz draught\, 9oz wine for the price of a 5oz and $6 select cocktails!
URL:https://uptownsj.com/event/happy-hour-britts/2029-02-15/
CATEGORIES:Restaurant Specials
ATTACH;FMTTYPE=image/png:https://uptownsj.com/wp-content/uploads/2026/01/HAPPY-HOUR-1.png
END:VEVENT
BEGIN:VEVENT
DTSTART;TZID=America/Halifax:20290217T100000
DTEND;TZID=America/Halifax:20290217T140000
DTSTAMP:20260421T004700
CREATED:20250728T115843Z
LAST-MODIFIED:20250728T115843Z
UID:10013090-1866016800-1866031200@uptownsj.com
SUMMARY:The Saturday Bakery
DESCRIPTION:The Saturday Bakery is a pop-event that takes place weekly at East Coast Bistro. \nFeaturing a monthly menu of traditional French croissants\, nostalgic sweets\, loaves of sourdough and more\, our items go on sale via our website Fridays at 4pm. Upon loading your cart\, our system will prompt you to schedule a pick up time on Saturday between 10am and 2pm. \nWalk-in orders are welcome for remaining inventory on Saturdays starting at 10am. \nSign up for our newsletter via our website to receive a weekly email reminding you to place your order.
URL:https://uptownsj.com/event/the-saturday-bakery/2029-02-17/
LOCATION:East Coast Bistro\, 60 Prince William Street\, Saint John\, E2L 2B1
CATEGORIES:Restaurant Specials,Specials
ATTACH;FMTTYPE=image/jpeg:https://uptownsj.com/wp-content/uploads/2025/07/IMG_8062.jpg
ORGANIZER;CN="East Coast Bistro":MAILTO:eat@eastcoastbistro.com
END:VEVENT
BEGIN:VEVENT
DTSTART;TZID=America/Halifax:20290220T033000
DTEND;TZID=America/Halifax:20290220T170000
DTSTAMP:20260421T004700
CREATED:20260114T171805Z
LAST-MODIFIED:20260114T171805Z
UID:10023055-1866252600-1866301200@uptownsj.com
SUMMARY:Happy Hour @ Britt’s
DESCRIPTION:Join us for Happy Hour Monday to Friday from 3:30-5 for $6 16oz draught\, 9oz wine for the price of a 5oz and $6 select cocktails!
URL:https://uptownsj.com/event/happy-hour-britts/2029-02-20/
CATEGORIES:Restaurant Specials
ATTACH;FMTTYPE=image/png:https://uptownsj.com/wp-content/uploads/2026/01/HAPPY-HOUR-1.png
END:VEVENT
BEGIN:VEVENT
DTSTART;TZID=America/Halifax:20290221T080000
DTEND;TZID=America/Halifax:20290221T170000
DTSTAMP:20260421T004700
CREATED:20260114T171850Z
LAST-MODIFIED:20260416T182837Z
UID:10019476-1866355200-1866387600@uptownsj.com
SUMMARY:Southern Chicken Wedneday @ Britt's
DESCRIPTION:Buy a three piece Southern Chicken and get a 16oz Moosehead Draught
URL:https://uptownsj.com/event/southern-chicken-wedneday-britts/2029-02-21/
CATEGORIES:Restaurant Specials
ATTACH;FMTTYPE=image/png:https://uptownsj.com/wp-content/uploads/2026/01/SOUTHERN.png
END:VEVENT
BEGIN:VEVENT
DTSTART;VALUE=DATE:20290222
DTEND;VALUE=DATE:20290223
DTSTAMP:20260421T004700
CREATED:20250729T175547Z
LAST-MODIFIED:20250729T175547Z
UID:10013753-1866412800-1866499199@uptownsj.com
SUMMARY:Beer Bread's 5\,6\,7\,10 Thursdays with Live Music
DESCRIPTION:Every Thursday Beer Bread restaurant offers Happy Hour all-day & all-night! \n$5 – 14oz Draught Beers \n$6 – 6oz Wine (Red\, White\, Rosé) \n$7 – BB Old Fashioned Cocktails \n$10 – Small Bites (All our small plate appetizers will be featured for $10) \nWe also will be offering the music stylings of Jamie Wright from 5:30pm-8:30pm.
URL:https://uptownsj.com/event/beer-breads-56710-thursdays-with-live-music/2029-02-22/
LOCATION:Beer Bread\, 7 Market Square\, Saint John\, E2l 1e8
CATEGORIES:Restaurant Specials,Specials
ATTACH;FMTTYPE=image/png:https://uptownsj.com/wp-content/uploads/2025/07/1.png
END:VEVENT
BEGIN:VEVENT
DTSTART;TZID=America/Halifax:20290224T100000
DTEND;TZID=America/Halifax:20290224T140000
DTSTAMP:20260421T004700
CREATED:20250728T115843Z
LAST-MODIFIED:20250728T115843Z
UID:10013091-1866621600-1866636000@uptownsj.com
SUMMARY:The Saturday Bakery
DESCRIPTION:The Saturday Bakery is a pop-event that takes place weekly at East Coast Bistro. \nFeaturing a monthly menu of traditional French croissants\, nostalgic sweets\, loaves of sourdough and more\, our items go on sale via our website Fridays at 4pm. Upon loading your cart\, our system will prompt you to schedule a pick up time on Saturday between 10am and 2pm. \nWalk-in orders are welcome for remaining inventory on Saturdays starting at 10am. \nSign up for our newsletter via our website to receive a weekly email reminding you to place your order.
URL:https://uptownsj.com/event/the-saturday-bakery/2029-02-24/
LOCATION:East Coast Bistro\, 60 Prince William Street\, Saint John\, E2L 2B1
CATEGORIES:Restaurant Specials,Specials
ATTACH;FMTTYPE=image/jpeg:https://uptownsj.com/wp-content/uploads/2025/07/IMG_8062.jpg
ORGANIZER;CN="East Coast Bistro":MAILTO:eat@eastcoastbistro.com
END:VEVENT
BEGIN:VEVENT
DTSTART;TZID=America/Halifax:20290225T033000
DTEND;TZID=America/Halifax:20290225T170000
DTSTAMP:20260421T004700
CREATED:20260114T171805Z
LAST-MODIFIED:20260114T171805Z
UID:10023060-1866684600-1866733200@uptownsj.com
SUMMARY:Happy Hour @ Britt’s
DESCRIPTION:Join us for Happy Hour Monday to Friday from 3:30-5 for $6 16oz draught\, 9oz wine for the price of a 5oz and $6 select cocktails!
URL:https://uptownsj.com/event/happy-hour-britts/2029-02-25/
CATEGORIES:Restaurant Specials
ATTACH;FMTTYPE=image/png:https://uptownsj.com/wp-content/uploads/2026/01/HAPPY-HOUR-1.png
END:VEVENT
BEGIN:VEVENT
DTSTART;TZID=America/Halifax:20290228T080000
DTEND;TZID=America/Halifax:20290228T170000
DTSTAMP:20260421T004700
CREATED:20260114T171850Z
LAST-MODIFIED:20260416T182837Z
UID:10019477-1866960000-1866992400@uptownsj.com
SUMMARY:Southern Chicken Wedneday @ Britt's
DESCRIPTION:Buy a three piece Southern Chicken and get a 16oz Moosehead Draught
URL:https://uptownsj.com/event/southern-chicken-wedneday-britts/2029-02-28/
CATEGORIES:Restaurant Specials
ATTACH;FMTTYPE=image/png:https://uptownsj.com/wp-content/uploads/2026/01/SOUTHERN.png
END:VEVENT
BEGIN:VEVENT
DTSTART;VALUE=DATE:20290301
DTEND;VALUE=DATE:20290302
DTSTAMP:20260421T004700
CREATED:20250729T175547Z
LAST-MODIFIED:20250729T175547Z
UID:10013754-1867017600-1867103999@uptownsj.com
SUMMARY:Beer Bread's 5\,6\,7\,10 Thursdays with Live Music
DESCRIPTION:Every Thursday Beer Bread restaurant offers Happy Hour all-day & all-night! \n$5 – 14oz Draught Beers \n$6 – 6oz Wine (Red\, White\, Rosé) \n$7 – BB Old Fashioned Cocktails \n$10 – Small Bites (All our small plate appetizers will be featured for $10) \nWe also will be offering the music stylings of Jamie Wright from 5:30pm-8:30pm.
URL:https://uptownsj.com/event/beer-breads-56710-thursdays-with-live-music/2029-03-01/
LOCATION:Beer Bread\, 7 Market Square\, Saint John\, E2l 1e8
CATEGORIES:Restaurant Specials,Specials
ATTACH;FMTTYPE=image/png:https://uptownsj.com/wp-content/uploads/2025/07/1.png
END:VEVENT
BEGIN:VEVENT
DTSTART;TZID=America/Halifax:20290302T033000
DTEND;TZID=America/Halifax:20290302T170000
DTSTAMP:20260421T004700
CREATED:20260114T171805Z
LAST-MODIFIED:20260114T171805Z
UID:10023065-1867116600-1867165200@uptownsj.com
SUMMARY:Happy Hour @ Britt’s
DESCRIPTION:Join us for Happy Hour Monday to Friday from 3:30-5 for $6 16oz draught\, 9oz wine for the price of a 5oz and $6 select cocktails!
URL:https://uptownsj.com/event/happy-hour-britts/2029-03-02/
CATEGORIES:Restaurant Specials
ATTACH;FMTTYPE=image/png:https://uptownsj.com/wp-content/uploads/2026/01/HAPPY-HOUR-1.png
END:VEVENT
BEGIN:VEVENT
DTSTART;TZID=America/Halifax:20290303T100000
DTEND;TZID=America/Halifax:20290303T140000
DTSTAMP:20260421T004700
CREATED:20250728T115843Z
LAST-MODIFIED:20250728T115843Z
UID:10013092-1867226400-1867240800@uptownsj.com
SUMMARY:The Saturday Bakery
DESCRIPTION:The Saturday Bakery is a pop-event that takes place weekly at East Coast Bistro. \nFeaturing a monthly menu of traditional French croissants\, nostalgic sweets\, loaves of sourdough and more\, our items go on sale via our website Fridays at 4pm. Upon loading your cart\, our system will prompt you to schedule a pick up time on Saturday between 10am and 2pm. \nWalk-in orders are welcome for remaining inventory on Saturdays starting at 10am. \nSign up for our newsletter via our website to receive a weekly email reminding you to place your order.
URL:https://uptownsj.com/event/the-saturday-bakery/2029-03-03/
LOCATION:East Coast Bistro\, 60 Prince William Street\, Saint John\, E2L 2B1
CATEGORIES:Restaurant Specials,Specials
ATTACH;FMTTYPE=image/jpeg:https://uptownsj.com/wp-content/uploads/2025/07/IMG_8062.jpg
ORGANIZER;CN="East Coast Bistro":MAILTO:eat@eastcoastbistro.com
END:VEVENT
BEGIN:VEVENT
DTSTART;TZID=America/Halifax:20290307T033000
DTEND;TZID=America/Halifax:20290307T170000
DTSTAMP:20260421T004700
CREATED:20260114T171805Z
LAST-MODIFIED:20260114T171805Z
UID:10023070-1867548600-1867597200@uptownsj.com
SUMMARY:Happy Hour @ Britt’s
DESCRIPTION:Join us for Happy Hour Monday to Friday from 3:30-5 for $6 16oz draught\, 9oz wine for the price of a 5oz and $6 select cocktails!
URL:https://uptownsj.com/event/happy-hour-britts/2029-03-07/
CATEGORIES:Restaurant Specials
ATTACH;FMTTYPE=image/png:https://uptownsj.com/wp-content/uploads/2026/01/HAPPY-HOUR-1.png
END:VEVENT
BEGIN:VEVENT
DTSTART;TZID=America/Halifax:20290307T080000
DTEND;TZID=America/Halifax:20290307T170000
DTSTAMP:20260421T004700
CREATED:20260114T171850Z
LAST-MODIFIED:20260416T182837Z
UID:10019478-1867564800-1867597200@uptownsj.com
SUMMARY:Southern Chicken Wedneday @ Britt's
DESCRIPTION:Buy a three piece Southern Chicken and get a 16oz Moosehead Draught
URL:https://uptownsj.com/event/southern-chicken-wedneday-britts/2029-03-07/
CATEGORIES:Restaurant Specials
ATTACH;FMTTYPE=image/png:https://uptownsj.com/wp-content/uploads/2026/01/SOUTHERN.png
END:VEVENT
BEGIN:VEVENT
DTSTART;VALUE=DATE:20290308
DTEND;VALUE=DATE:20290309
DTSTAMP:20260421T004700
CREATED:20250729T175547Z
LAST-MODIFIED:20250729T175547Z
UID:10013755-1867622400-1867708799@uptownsj.com
SUMMARY:Beer Bread's 5\,6\,7\,10 Thursdays with Live Music
DESCRIPTION:Every Thursday Beer Bread restaurant offers Happy Hour all-day & all-night! \n$5 – 14oz Draught Beers \n$6 – 6oz Wine (Red\, White\, Rosé) \n$7 – BB Old Fashioned Cocktails \n$10 – Small Bites (All our small plate appetizers will be featured for $10) \nWe also will be offering the music stylings of Jamie Wright from 5:30pm-8:30pm.
URL:https://uptownsj.com/event/beer-breads-56710-thursdays-with-live-music/2029-03-08/
LOCATION:Beer Bread\, 7 Market Square\, Saint John\, E2l 1e8
CATEGORIES:Restaurant Specials,Specials
ATTACH;FMTTYPE=image/png:https://uptownsj.com/wp-content/uploads/2025/07/1.png
END:VEVENT
BEGIN:VEVENT
DTSTART;TZID=America/Halifax:20290310T100000
DTEND;TZID=America/Halifax:20290310T140000
DTSTAMP:20260421T004700
CREATED:20250728T115843Z
LAST-MODIFIED:20250728T115843Z
UID:10013093-1867831200-1867845600@uptownsj.com
SUMMARY:The Saturday Bakery
DESCRIPTION:The Saturday Bakery is a pop-event that takes place weekly at East Coast Bistro. \nFeaturing a monthly menu of traditional French croissants\, nostalgic sweets\, loaves of sourdough and more\, our items go on sale via our website Fridays at 4pm. Upon loading your cart\, our system will prompt you to schedule a pick up time on Saturday between 10am and 2pm. \nWalk-in orders are welcome for remaining inventory on Saturdays starting at 10am. \nSign up for our newsletter via our website to receive a weekly email reminding you to place your order.
URL:https://uptownsj.com/event/the-saturday-bakery/2029-03-10/
LOCATION:East Coast Bistro\, 60 Prince William Street\, Saint John\, E2L 2B1
CATEGORIES:Restaurant Specials,Specials
ATTACH;FMTTYPE=image/jpeg:https://uptownsj.com/wp-content/uploads/2025/07/IMG_8062.jpg
ORGANIZER;CN="East Coast Bistro":MAILTO:eat@eastcoastbistro.com
END:VEVENT
BEGIN:VEVENT
DTSTART;TZID=America/Halifax:20290312T033000
DTEND;TZID=America/Halifax:20290312T170000
DTSTAMP:20260421T004700
CREATED:20260114T171805Z
LAST-MODIFIED:20260114T171805Z
UID:10023075-1867980600-1868029200@uptownsj.com
SUMMARY:Happy Hour @ Britt’s
DESCRIPTION:Join us for Happy Hour Monday to Friday from 3:30-5 for $6 16oz draught\, 9oz wine for the price of a 5oz and $6 select cocktails!
URL:https://uptownsj.com/event/happy-hour-britts/2029-03-12/
CATEGORIES:Restaurant Specials
ATTACH;FMTTYPE=image/png:https://uptownsj.com/wp-content/uploads/2026/01/HAPPY-HOUR-1.png
END:VEVENT
BEGIN:VEVENT
DTSTART;TZID=America/Halifax:20290314T080000
DTEND;TZID=America/Halifax:20290314T170000
DTSTAMP:20260421T004700
CREATED:20260114T171850Z
LAST-MODIFIED:20260416T182837Z
UID:10019479-1868169600-1868202000@uptownsj.com
SUMMARY:Southern Chicken Wedneday @ Britt's
DESCRIPTION:Buy a three piece Southern Chicken and get a 16oz Moosehead Draught
URL:https://uptownsj.com/event/southern-chicken-wedneday-britts/2029-03-14/
CATEGORIES:Restaurant Specials
ATTACH;FMTTYPE=image/png:https://uptownsj.com/wp-content/uploads/2026/01/SOUTHERN.png
END:VEVENT
BEGIN:VEVENT
DTSTART;VALUE=DATE:20290315
DTEND;VALUE=DATE:20290316
DTSTAMP:20260421T004700
CREATED:20250729T175547Z
LAST-MODIFIED:20250729T175547Z
UID:10013756-1868227200-1868313599@uptownsj.com
SUMMARY:Beer Bread's 5\,6\,7\,10 Thursdays with Live Music
DESCRIPTION:Every Thursday Beer Bread restaurant offers Happy Hour all-day & all-night! \n$5 – 14oz Draught Beers \n$6 – 6oz Wine (Red\, White\, Rosé) \n$7 – BB Old Fashioned Cocktails \n$10 – Small Bites (All our small plate appetizers will be featured for $10) \nWe also will be offering the music stylings of Jamie Wright from 5:30pm-8:30pm.
URL:https://uptownsj.com/event/beer-breads-56710-thursdays-with-live-music/2029-03-15/
LOCATION:Beer Bread\, 7 Market Square\, Saint John\, E2l 1e8
CATEGORIES:Restaurant Specials,Specials
ATTACH;FMTTYPE=image/png:https://uptownsj.com/wp-content/uploads/2025/07/1.png
END:VEVENT
BEGIN:VEVENT
DTSTART;TZID=America/Halifax:20290317T033000
DTEND;TZID=America/Halifax:20290317T170000
DTSTAMP:20260421T004700
CREATED:20260114T171805Z
LAST-MODIFIED:20260114T171805Z
UID:10023080-1868412600-1868461200@uptownsj.com
SUMMARY:Happy Hour @ Britt’s
DESCRIPTION:Join us for Happy Hour Monday to Friday from 3:30-5 for $6 16oz draught\, 9oz wine for the price of a 5oz and $6 select cocktails!
URL:https://uptownsj.com/event/happy-hour-britts/2029-03-17/
CATEGORIES:Restaurant Specials
ATTACH;FMTTYPE=image/png:https://uptownsj.com/wp-content/uploads/2026/01/HAPPY-HOUR-1.png
END:VEVENT
BEGIN:VEVENT
DTSTART;TZID=America/Halifax:20290317T100000
DTEND;TZID=America/Halifax:20290317T140000
DTSTAMP:20260421T004700
CREATED:20250728T115843Z
LAST-MODIFIED:20250728T115843Z
UID:10013094-1868436000-1868450400@uptownsj.com
SUMMARY:The Saturday Bakery
DESCRIPTION:The Saturday Bakery is a pop-event that takes place weekly at East Coast Bistro. \nFeaturing a monthly menu of traditional French croissants\, nostalgic sweets\, loaves of sourdough and more\, our items go on sale via our website Fridays at 4pm. Upon loading your cart\, our system will prompt you to schedule a pick up time on Saturday between 10am and 2pm. \nWalk-in orders are welcome for remaining inventory on Saturdays starting at 10am. \nSign up for our newsletter via our website to receive a weekly email reminding you to place your order.
URL:https://uptownsj.com/event/the-saturday-bakery/2029-03-17/
LOCATION:East Coast Bistro\, 60 Prince William Street\, Saint John\, E2L 2B1
CATEGORIES:Restaurant Specials,Specials
ATTACH;FMTTYPE=image/jpeg:https://uptownsj.com/wp-content/uploads/2025/07/IMG_8062.jpg
ORGANIZER;CN="East Coast Bistro":MAILTO:eat@eastcoastbistro.com
END:VEVENT
BEGIN:VEVENT
DTSTART;TZID=America/Halifax:20290321T080000
DTEND;TZID=America/Halifax:20290321T170000
DTSTAMP:20260421T004700
CREATED:20260114T171850Z
LAST-MODIFIED:20260416T182837Z
UID:10019480-1868774400-1868806800@uptownsj.com
SUMMARY:Southern Chicken Wedneday @ Britt's
DESCRIPTION:Buy a three piece Southern Chicken and get a 16oz Moosehead Draught
URL:https://uptownsj.com/event/southern-chicken-wedneday-britts/2029-03-21/
CATEGORIES:Restaurant Specials
ATTACH;FMTTYPE=image/png:https://uptownsj.com/wp-content/uploads/2026/01/SOUTHERN.png
END:VEVENT
BEGIN:VEVENT
DTSTART;VALUE=DATE:20290322
DTEND;VALUE=DATE:20290323
DTSTAMP:20260421T004700
CREATED:20250729T175547Z
LAST-MODIFIED:20250729T175547Z
UID:10013757-1868832000-1868918399@uptownsj.com
SUMMARY:Beer Bread's 5\,6\,7\,10 Thursdays with Live Music
DESCRIPTION:Every Thursday Beer Bread restaurant offers Happy Hour all-day & all-night! \n$5 – 14oz Draught Beers \n$6 – 6oz Wine (Red\, White\, Rosé) \n$7 – BB Old Fashioned Cocktails \n$10 – Small Bites (All our small plate appetizers will be featured for $10) \nWe also will be offering the music stylings of Jamie Wright from 5:30pm-8:30pm.
URL:https://uptownsj.com/event/beer-breads-56710-thursdays-with-live-music/2029-03-22/
LOCATION:Beer Bread\, 7 Market Square\, Saint John\, E2l 1e8
CATEGORIES:Restaurant Specials,Specials
ATTACH;FMTTYPE=image/png:https://uptownsj.com/wp-content/uploads/2025/07/1.png
END:VEVENT
BEGIN:VEVENT
DTSTART;TZID=America/Halifax:20290322T033000
DTEND;TZID=America/Halifax:20290322T170000
DTSTAMP:20260421T004700
CREATED:20260114T171805Z
LAST-MODIFIED:20260114T171805Z
UID:10023085-1868844600-1868893200@uptownsj.com
SUMMARY:Happy Hour @ Britt’s
DESCRIPTION:Join us for Happy Hour Monday to Friday from 3:30-5 for $6 16oz draught\, 9oz wine for the price of a 5oz and $6 select cocktails!
URL:https://uptownsj.com/event/happy-hour-britts/2029-03-22/
CATEGORIES:Restaurant Specials
ATTACH;FMTTYPE=image/png:https://uptownsj.com/wp-content/uploads/2026/01/HAPPY-HOUR-1.png
END:VEVENT
BEGIN:VEVENT
DTSTART;TZID=America/Halifax:20290324T100000
DTEND;TZID=America/Halifax:20290324T140000
DTSTAMP:20260421T004700
CREATED:20250728T115843Z
LAST-MODIFIED:20250728T115843Z
UID:10013095-1869040800-1869055200@uptownsj.com
SUMMARY:The Saturday Bakery
DESCRIPTION:The Saturday Bakery is a pop-event that takes place weekly at East Coast Bistro. \nFeaturing a monthly menu of traditional French croissants\, nostalgic sweets\, loaves of sourdough and more\, our items go on sale via our website Fridays at 4pm. Upon loading your cart\, our system will prompt you to schedule a pick up time on Saturday between 10am and 2pm. \nWalk-in orders are welcome for remaining inventory on Saturdays starting at 10am. \nSign up for our newsletter via our website to receive a weekly email reminding you to place your order.
URL:https://uptownsj.com/event/the-saturday-bakery/2029-03-24/
LOCATION:East Coast Bistro\, 60 Prince William Street\, Saint John\, E2L 2B1
CATEGORIES:Restaurant Specials,Specials
ATTACH;FMTTYPE=image/jpeg:https://uptownsj.com/wp-content/uploads/2025/07/IMG_8062.jpg
ORGANIZER;CN="East Coast Bistro":MAILTO:eat@eastcoastbistro.com
END:VEVENT
BEGIN:VEVENT
DTSTART;TZID=America/Halifax:20290327T033000
DTEND;TZID=America/Halifax:20290327T170000
DTSTAMP:20260421T004700
CREATED:20260114T171805Z
LAST-MODIFIED:20260114T171805Z
UID:10023090-1869276600-1869325200@uptownsj.com
SUMMARY:Happy Hour @ Britt’s
DESCRIPTION:Join us for Happy Hour Monday to Friday from 3:30-5 for $6 16oz draught\, 9oz wine for the price of a 5oz and $6 select cocktails!
URL:https://uptownsj.com/event/happy-hour-britts/2029-03-27/
CATEGORIES:Restaurant Specials
ATTACH;FMTTYPE=image/png:https://uptownsj.com/wp-content/uploads/2026/01/HAPPY-HOUR-1.png
END:VEVENT
BEGIN:VEVENT
DTSTART;TZID=America/Halifax:20290328T080000
DTEND;TZID=America/Halifax:20290328T170000
DTSTAMP:20260421T004700
CREATED:20260114T171850Z
LAST-MODIFIED:20260416T182837Z
UID:10019481-1869379200-1869411600@uptownsj.com
SUMMARY:Southern Chicken Wedneday @ Britt's
DESCRIPTION:Buy a three piece Southern Chicken and get a 16oz Moosehead Draught
URL:https://uptownsj.com/event/southern-chicken-wedneday-britts/2029-03-28/
CATEGORIES:Restaurant Specials
ATTACH;FMTTYPE=image/png:https://uptownsj.com/wp-content/uploads/2026/01/SOUTHERN.png
END:VEVENT
BEGIN:VEVENT
DTSTART;VALUE=DATE:20290329
DTEND;VALUE=DATE:20290330
DTSTAMP:20260421T004700
CREATED:20250729T175547Z
LAST-MODIFIED:20250729T175547Z
UID:10013758-1869436800-1869523199@uptownsj.com
SUMMARY:Beer Bread's 5\,6\,7\,10 Thursdays with Live Music
DESCRIPTION:Every Thursday Beer Bread restaurant offers Happy Hour all-day & all-night! \n$5 – 14oz Draught Beers \n$6 – 6oz Wine (Red\, White\, Rosé) \n$7 – BB Old Fashioned Cocktails \n$10 – Small Bites (All our small plate appetizers will be featured for $10) \nWe also will be offering the music stylings of Jamie Wright from 5:30pm-8:30pm.
URL:https://uptownsj.com/event/beer-breads-56710-thursdays-with-live-music/2029-03-29/
LOCATION:Beer Bread\, 7 Market Square\, Saint John\, E2l 1e8
CATEGORIES:Restaurant Specials,Specials
ATTACH;FMTTYPE=image/png:https://uptownsj.com/wp-content/uploads/2025/07/1.png
END:VEVENT
BEGIN:VEVENT
DTSTART;TZID=America/Halifax:20290331T100000
DTEND;TZID=America/Halifax:20290331T140000
DTSTAMP:20260421T004700
CREATED:20250728T115843Z
LAST-MODIFIED:20250728T115843Z
UID:10013096-1869645600-1869660000@uptownsj.com
SUMMARY:The Saturday Bakery
DESCRIPTION:The Saturday Bakery is a pop-event that takes place weekly at East Coast Bistro. \nFeaturing a monthly menu of traditional French croissants\, nostalgic sweets\, loaves of sourdough and more\, our items go on sale via our website Fridays at 4pm. Upon loading your cart\, our system will prompt you to schedule a pick up time on Saturday between 10am and 2pm. \nWalk-in orders are welcome for remaining inventory on Saturdays starting at 10am. \nSign up for our newsletter via our website to receive a weekly email reminding you to place your order.
URL:https://uptownsj.com/event/the-saturday-bakery/2029-03-31/
LOCATION:East Coast Bistro\, 60 Prince William Street\, Saint John\, E2L 2B1
CATEGORIES:Restaurant Specials,Specials
ATTACH;FMTTYPE=image/jpeg:https://uptownsj.com/wp-content/uploads/2025/07/IMG_8062.jpg
ORGANIZER;CN="East Coast Bistro":MAILTO:eat@eastcoastbistro.com
END:VEVENT
END:VCALENDAR