BEGIN:VCALENDAR
VERSION:2.0
PRODID:-//Uptown Saint John - ECPv6.15.20//NONSGML v1.0//EN
CALSCALE:GREGORIAN
METHOD:PUBLISH
X-ORIGINAL-URL:https://uptownsj.com
X-WR-CALDESC:Events for Uptown Saint John
REFRESH-INTERVAL;VALUE=DURATION:PT1H
X-Robots-Tag:noindex
X-PUBLISHED-TTL:PT1H
BEGIN:VTIMEZONE
TZID:America/Halifax
BEGIN:DAYLIGHT
TZOFFSETFROM:-0400
TZOFFSETTO:-0300
TZNAME:ADT
DTSTART:20230312T060000
END:DAYLIGHT
BEGIN:STANDARD
TZOFFSETFROM:-0300
TZOFFSETTO:-0400
TZNAME:AST
DTSTART:20231105T050000
END:STANDARD
BEGIN:DAYLIGHT
TZOFFSETFROM:-0400
TZOFFSETTO:-0300
TZNAME:ADT
DTSTART:20240310T060000
END:DAYLIGHT
BEGIN:STANDARD
TZOFFSETFROM:-0300
TZOFFSETTO:-0400
TZNAME:AST
DTSTART:20241103T050000
END:STANDARD
BEGIN:DAYLIGHT
TZOFFSETFROM:-0400
TZOFFSETTO:-0300
TZNAME:ADT
DTSTART:20250309T060000
END:DAYLIGHT
BEGIN:STANDARD
TZOFFSETFROM:-0300
TZOFFSETTO:-0400
TZNAME:AST
DTSTART:20251102T050000
END:STANDARD
END:VTIMEZONE
BEGIN:VEVENT
DTSTART;TZID=America/Halifax:20240312T180000
DTEND;TZID=America/Halifax:20240312T210000
DTSTAMP:20260421T214113
CREATED:20240306T140255Z
LAST-MODIFIED:20240306T140255Z
UID:10006530-1710266400-1710277200@uptownsj.com
SUMMARY:Business Essentials Workshop: Safeguarding Against Online Threats
DESCRIPTION:Lead by Chris Boudreau – Chief Strategy Officer at Ispire \nIn today’s digital landscape\, where businesses thrive on digital platforms\, protecting your business online is a non-negotiable priority. This workshop is your personalized guide to understanding and implementing practical digital security strategies\, enabling you to shield your business from modern-day threats while maintaining your competitive edge.
URL:https://uptownsj.com/event/business-essentials-workshop-safeguarding-against-online-threats/
LOCATION:ConnexionWorks\, 1 Germain St - Suite 300 (ConnexionWorks)\, Saint John\, New Brunswick\, Canada
CATEGORIES:Workshop
ORGANIZER;CN="ConnexionWorks":MAILTO:info@connexionworks.ca
END:VEVENT
BEGIN:VEVENT
DTSTART;TZID=America/Halifax:20240316T080000
DTEND;TZID=America/Halifax:20240316T160000
DTSTAMP:20260421T214113
CREATED:20240102T133910Z
LAST-MODIFIED:20240102T133910Z
UID:10005742-1710576000-1710604800@uptownsj.com
SUMMARY:Empowering Women in Business 2024
DESCRIPTION:Join us for two days packed with empowerment and enlightenment tailored for women in business! \nThese extraordinary conferences\, usually priced between $500 to $1200 (CAD) in major cities like Toronto\, Montreal\, Vancouver\, and Halifax\, are now making their mark in Saint John\, NB\, thanks to our sponsors’ support in establishing it as a hub for women in business by 2024. \n🎁 It’s Christmas! Secure your seat at EWB2024 for only $150 during this early bird season! (Valid until December 31\, 2023) After that\, individual tickets will cost $175 CAD \nCorporate Packages and Diverse Community Packages (each for ten women) are available at a reduced price (see below). If you are an organization looking to sponsor your employees or your community\, take advantage of the special pricing and save! \n🎤 Inspiring speakers & cutting-edge insights await you! \n📈 10X your targets\, execution\, and success! \n👩‍💼 Learn how to be the protagonist of your success story in 2024! \nHere’s what’s in store at EWB2024: \n🌟 Incredible Speakers: Keynote speakers in the top 100 most powerful women in Canada coming from Toronto and the Atlantic Canada. \n🤝 Networking Opportunities: Connect\, collaborate\, and grow your circle! \n💡 Attend the 2024 Women L.E.A.D. Awards Ceremony! celebrates exceptional accomplishments within the realm of Female Entrepreneurs\, Female Business Owners\, and Corporate Women Leaders in Saint John. \n📚 Topics: Overcoming Economic Recession 2024\, Building Your Symphony in Marketing and Branding\, Creating a Great Workplace Environment\, Pioneering Digital Transformation and AI in Business\, Key Strategies for Entrepreneurs in the Saint John Region\, Building High-Performance Teams\, Financial Literacy in Business\, Women Driving Diversity and Inclusion in the Workplace\, Female Leaders Defining Arts and Culture Business\, Strategies for Female Excellence in Sales\, Women’s Contribution to Sustainability and CSR and Balancing Work and Life! \nThis comprehensive agenda focuses on professional growth\, skill development\, networking\, and empowerment for women in business at EWB2024. \nDon’t miss this pivotal event designed for Female Entrepreneurs\, Business Owners\, and Corporate Women Leaders. Reserve your seat now and empower your business in 2024! 🚀 \nLimited spots are available — act fast before they’re gone! 🎟️✨ \nThis conference is your gateway to new opportunities\, empowering connections\, and expert insights to elevate your business journey. Join us and make your mark in the vibrant landscape of women in business! ✨ \nTake advantage of this opportunity to: \nSecure your spot with an incredible offer tailor-made for women in business. \nSurprise yourself or a fellow entrepreneur with an empowering experience. \nPrepare for a successful 2024 by tackling challenges head-on. \nReserve your seat today! \n🎟️✨This is your ticket to a powerful start in 2024. Act fast! Limited spots available\, and priority access is yours. \nEmpower yourself and your business—grab your seat now! \nIf you represent a Company find our: \n🎟️✨Corporate Packages: \nSaint John Companies\, unlock better pricing! Secure up to 10 tickets now! \n🎟️✨Diverse Community Packages: Support the Community\, and provide Free Access to Women in Saint John. Purchase up to 10 tickets now!
URL:https://uptownsj.com/event/empowering-women-in-business-2024/2024-03-16/
LOCATION:Market Square Atrium\, 1 Market Square\, Saint John\, New Brunswick\, Canada
CATEGORIES:Networking,Workshop
END:VEVENT
BEGIN:VEVENT
DTSTART;TZID=America/Halifax:20240319T180000
DTEND;TZID=America/Halifax:20240319T210000
DTSTAMP:20260421T214113
CREATED:20240315T170118Z
LAST-MODIFIED:20240315T170118Z
UID:10006553-1710871200-1710882000@uptownsj.com
SUMMARY:Business Essentials Workshop: Amplify Customer Engagement with Effective Customer Relationship Strategies
DESCRIPTION:Lead by Matthew Nicolle – CEO of Sales Training Experts Canada Inc.\, this game-changing workshop is for those who are determined to unlock the power of strong customer relationships through strategic Customer Relationship Management (CRM). Join us to uncover the secrets of impactful CRM strategies that boost customer satisfaction\, loyalty\, and the long-term success of your venture.
URL:https://uptownsj.com/event/business-essentials-workshop-amplify-customer-engagement-with-effective-customer-relationship-strategies/
LOCATION:ConnexionWorks\, 1 Germain St - Suite 300 (ConnexionWorks)\, Saint John\, New Brunswick\, Canada
CATEGORIES:Workshop
ORGANIZER;CN="ConnexionWorks":MAILTO:info@connexionworks.ca
END:VEVENT
BEGIN:VEVENT
DTSTART;TZID=America/Halifax:20240323T080000
DTEND;TZID=America/Halifax:20240323T160000
DTSTAMP:20260421T214113
CREATED:20240102T133910Z
LAST-MODIFIED:20240102T133910Z
UID:10005743-1711180800-1711209600@uptownsj.com
SUMMARY:Empowering Women in Business 2024
DESCRIPTION:Join us for two days packed with empowerment and enlightenment tailored for women in business! \nThese extraordinary conferences\, usually priced between $500 to $1200 (CAD) in major cities like Toronto\, Montreal\, Vancouver\, and Halifax\, are now making their mark in Saint John\, NB\, thanks to our sponsors’ support in establishing it as a hub for women in business by 2024. \n🎁 It’s Christmas! Secure your seat at EWB2024 for only $150 during this early bird season! (Valid until December 31\, 2023) After that\, individual tickets will cost $175 CAD \nCorporate Packages and Diverse Community Packages (each for ten women) are available at a reduced price (see below). If you are an organization looking to sponsor your employees or your community\, take advantage of the special pricing and save! \n🎤 Inspiring speakers & cutting-edge insights await you! \n📈 10X your targets\, execution\, and success! \n👩‍💼 Learn how to be the protagonist of your success story in 2024! \nHere’s what’s in store at EWB2024: \n🌟 Incredible Speakers: Keynote speakers in the top 100 most powerful women in Canada coming from Toronto and the Atlantic Canada. \n🤝 Networking Opportunities: Connect\, collaborate\, and grow your circle! \n💡 Attend the 2024 Women L.E.A.D. Awards Ceremony! celebrates exceptional accomplishments within the realm of Female Entrepreneurs\, Female Business Owners\, and Corporate Women Leaders in Saint John. \n📚 Topics: Overcoming Economic Recession 2024\, Building Your Symphony in Marketing and Branding\, Creating a Great Workplace Environment\, Pioneering Digital Transformation and AI in Business\, Key Strategies for Entrepreneurs in the Saint John Region\, Building High-Performance Teams\, Financial Literacy in Business\, Women Driving Diversity and Inclusion in the Workplace\, Female Leaders Defining Arts and Culture Business\, Strategies for Female Excellence in Sales\, Women’s Contribution to Sustainability and CSR and Balancing Work and Life! \nThis comprehensive agenda focuses on professional growth\, skill development\, networking\, and empowerment for women in business at EWB2024. \nDon’t miss this pivotal event designed for Female Entrepreneurs\, Business Owners\, and Corporate Women Leaders. Reserve your seat now and empower your business in 2024! 🚀 \nLimited spots are available — act fast before they’re gone! 🎟️✨ \nThis conference is your gateway to new opportunities\, empowering connections\, and expert insights to elevate your business journey. Join us and make your mark in the vibrant landscape of women in business! ✨ \nTake advantage of this opportunity to: \nSecure your spot with an incredible offer tailor-made for women in business. \nSurprise yourself or a fellow entrepreneur with an empowering experience. \nPrepare for a successful 2024 by tackling challenges head-on. \nReserve your seat today! \n🎟️✨This is your ticket to a powerful start in 2024. Act fast! Limited spots available\, and priority access is yours. \nEmpower yourself and your business—grab your seat now! \nIf you represent a Company find our: \n🎟️✨Corporate Packages: \nSaint John Companies\, unlock better pricing! Secure up to 10 tickets now! \n🎟️✨Diverse Community Packages: Support the Community\, and provide Free Access to Women in Saint John. Purchase up to 10 tickets now!
URL:https://uptownsj.com/event/empowering-women-in-business-2024/2024-03-23/
LOCATION:Market Square Atrium\, 1 Market Square\, Saint John\, New Brunswick\, Canada
CATEGORIES:Networking,Workshop
END:VEVENT
BEGIN:VEVENT
DTSTART;TZID=America/Halifax:20240326T180000
DTEND;TZID=America/Halifax:20240326T210000
DTSTAMP:20260421T214113
CREATED:20240315T170052Z
LAST-MODIFIED:20240315T170052Z
UID:10006554-1711476000-1711486800@uptownsj.com
SUMMARY:Business Essentials Workshop: It’s not all Business - Crafting your Professional Persona
DESCRIPTION:Lead by Elanor Austin – Founder of New Marketing Today \nEnhance your professional presence on LinkedIn and other major social media platforms with this amazing workshop. Dig deeper into the art of using LinkedIn effectively and discover strategies for creating engaging\, thought-provoking content that resonates with your audience.
URL:https://uptownsj.com/event/business-essentials-workshop-its-not-all-business-crafting-your-professional-persona/
LOCATION:ConnexionWorks\, 1 Germain St - Suite 300 (ConnexionWorks)\, Saint John\, New Brunswick\, Canada
CATEGORIES:Workshop
ORGANIZER;CN="ConnexionWorks":MAILTO:info@connexionworks.ca
END:VEVENT
END:VCALENDAR