BEGIN:VCALENDAR
VERSION:2.0
PRODID:-//Uptown Saint John - ECPv6.15.20//NONSGML v1.0//EN
CALSCALE:GREGORIAN
METHOD:PUBLISH
X-WR-CALNAME:Uptown Saint John
X-ORIGINAL-URL:https://uptownsj.com
X-WR-CALDESC:Events for Uptown Saint John
REFRESH-INTERVAL;VALUE=DURATION:PT1H
X-Robots-Tag:noindex
X-PUBLISHED-TTL:PT1H
BEGIN:VTIMEZONE
TZID:America/Halifax
BEGIN:DAYLIGHT
TZOFFSETFROM:-0400
TZOFFSETTO:-0300
TZNAME:ADT
DTSTART:20240310T060000
END:DAYLIGHT
BEGIN:STANDARD
TZOFFSETFROM:-0300
TZOFFSETTO:-0400
TZNAME:AST
DTSTART:20241103T050000
END:STANDARD
BEGIN:DAYLIGHT
TZOFFSETFROM:-0400
TZOFFSETTO:-0300
TZNAME:ADT
DTSTART:20250309T060000
END:DAYLIGHT
BEGIN:STANDARD
TZOFFSETFROM:-0300
TZOFFSETTO:-0400
TZNAME:AST
DTSTART:20251102T050000
END:STANDARD
BEGIN:DAYLIGHT
TZOFFSETFROM:-0400
TZOFFSETTO:-0300
TZNAME:ADT
DTSTART:20260308T060000
END:DAYLIGHT
BEGIN:STANDARD
TZOFFSETFROM:-0300
TZOFFSETTO:-0400
TZNAME:AST
DTSTART:20261101T050000
END:STANDARD
END:VTIMEZONE
BEGIN:VEVENT
DTSTART;TZID=America/Halifax:20250714T190000
DTEND;TZID=America/Halifax:20250714T210000
DTSTAMP:20260420T221348
CREATED:20250617T140459Z
LAST-MODIFIED:20250617T140459Z
UID:10012604-1752519600-1752526800@uptownsj.com
SUMMARY:Studio Ghibli Summer- My Neighbour Totoro
DESCRIPTION:This acclaimed animated tale by director Hayao Miyazaki follows schoolgirl Satsuke and her younger sister\, Mei\, as they settle into an old country house with their father and wait for their mother to recover from an illness in an area hospital. As the sisters explore their new home\, they encounter and befriend playful spirits in their house and the nearby forest\, most notably the massive cuddly creature known as Totoro.
URL:https://uptownsj.com/event/studio-ghibli-summer-my-neighbour-totoro/
LOCATION:Imperial Theatre\, 12 King Square S.\, Saint John
CATEGORIES:Community
ATTACH;FMTTYPE=image/png:https://uptownsj.com/wp-content/uploads/2025/06/Ghibli-Totoro.png
END:VEVENT
BEGIN:VEVENT
DTSTART;TZID=America/Halifax:20250716T190000
DTEND;TZID=America/Halifax:20250716T210000
DTSTAMP:20260420T221348
CREATED:20250617T140448Z
LAST-MODIFIED:20250617T140448Z
UID:10012605-1752692400-1752699600@uptownsj.com
SUMMARY:Line Dancing Workshop
DESCRIPTION:On-stage at Imperial Theatre 30 spots available.
URL:https://uptownsj.com/event/line-dancing-workshop/
LOCATION:Imperial Theatre\, 12 King Square S.\, Saint John
CATEGORIES:Community
ATTACH;FMTTYPE=image/png:https://uptownsj.com/wp-content/uploads/2025/06/Line-Dancing.png
END:VEVENT
BEGIN:VEVENT
DTSTART;TZID=America/Halifax:20250716T193000
DTEND;TZID=America/Halifax:20250716T220000
DTSTAMP:20260420T221348
CREATED:20250609T193155Z
LAST-MODIFIED:20250609T193226Z
UID:10011843-1752694200-1752703200@uptownsj.com
SUMMARY:The Tempest
DESCRIPTION:The Tempest\nJuly 16-26\, 2025 | Place Fort La Tour\nGet ready for an unforgettable journey into the mystical world of ‘The Tempest’ this summer at Place Fort La Tour! Join us July 16-26\, 2025\, as director Sandra Bell brings Shakespeare’s tale of magic\, revenge\, and redemption to life on the stunning Saint John Harbourfront.\nTo purchase tickets please visit www.saintjohntheatrecompany.com or call 506-652-7582.
URL:https://uptownsj.com/event/the-tempest/2025-07-16/
LOCATION:Place Fort La Tour\, Fort Latour Drive\, Saint John\, NB\, E2K 5L6\, Canada
CATEGORIES:Theatre
ATTACH;FMTTYPE=image/jpeg:https://uptownsj.com/wp-content/uploads/2025/05/TempestSocial.jpg
ORGANIZER;CN="Saint John Theatre Company":MAILTO:lise.driscoll@saintjohntheatrecompany.com
END:VEVENT
BEGIN:VEVENT
DTSTART;TZID=America/Halifax:20250717T193000
DTEND;TZID=America/Halifax:20250717T220000
DTSTAMP:20260420T221348
CREATED:20250609T193155Z
LAST-MODIFIED:20250609T193226Z
UID:10011844-1752780600-1752789600@uptownsj.com
SUMMARY:The Tempest
DESCRIPTION:The Tempest\nJuly 16-26\, 2025 | Place Fort La Tour\nGet ready for an unforgettable journey into the mystical world of ‘The Tempest’ this summer at Place Fort La Tour! Join us July 16-26\, 2025\, as director Sandra Bell brings Shakespeare’s tale of magic\, revenge\, and redemption to life on the stunning Saint John Harbourfront.\nTo purchase tickets please visit www.saintjohntheatrecompany.com or call 506-652-7582.
URL:https://uptownsj.com/event/the-tempest/2025-07-17/
LOCATION:Place Fort La Tour\, Fort Latour Drive\, Saint John\, NB\, E2K 5L6\, Canada
CATEGORIES:Theatre
ATTACH;FMTTYPE=image/jpeg:https://uptownsj.com/wp-content/uploads/2025/05/TempestSocial.jpg
ORGANIZER;CN="Saint John Theatre Company":MAILTO:lise.driscoll@saintjohntheatrecompany.com
END:VEVENT
BEGIN:VEVENT
DTSTART;TZID=America/Halifax:20250718T190000
DTEND;TZID=America/Halifax:20250718T210000
DTSTAMP:20260420T221348
CREATED:20250213T150005Z
LAST-MODIFIED:20250213T150005Z
UID:10011066-1752865200-1752872400@uptownsj.com
SUMMARY:Live JAZZ at the Gallery
DESCRIPTION:Every Friday\, from 7 – 9\, join us for an amazing evening of Jazz music and feel like you are in NYC ! Trinity Galleries brings you the best in visual and musical arts in Atlantic Canada.
URL:https://uptownsj.com/event/live-jazz-at-the-gallery/2025-07-18/
LOCATION:Trinity Galleries\, 128 GERMAIN ST.\, SAINT JOHN\, New Brunswick\, E2L 2E7\, Canada
CATEGORIES:Art,Cultural Event,Live Music
ATTACH;FMTTYPE=image/jpeg:https://uptownsj.com/wp-content/uploads/2025/02/IMG_2367-3.jpg
ORGANIZER;CN="Trinity Galleries":MAILTO:art@trintygalleries.ca
END:VEVENT
BEGIN:VEVENT
DTSTART;TZID=America/Halifax:20250718T193000
DTEND;TZID=America/Halifax:20250718T220000
DTSTAMP:20260420T221348
CREATED:20250609T193155Z
LAST-MODIFIED:20250609T193226Z
UID:10011845-1752867000-1752876000@uptownsj.com
SUMMARY:The Tempest
DESCRIPTION:The Tempest\nJuly 16-26\, 2025 | Place Fort La Tour\nGet ready for an unforgettable journey into the mystical world of ‘The Tempest’ this summer at Place Fort La Tour! Join us July 16-26\, 2025\, as director Sandra Bell brings Shakespeare’s tale of magic\, revenge\, and redemption to life on the stunning Saint John Harbourfront.\nTo purchase tickets please visit www.saintjohntheatrecompany.com or call 506-652-7582.
URL:https://uptownsj.com/event/the-tempest/2025-07-18/
LOCATION:Place Fort La Tour\, Fort Latour Drive\, Saint John\, NB\, E2K 5L6\, Canada
CATEGORIES:Theatre
ATTACH;FMTTYPE=image/jpeg:https://uptownsj.com/wp-content/uploads/2025/05/TempestSocial.jpg
ORGANIZER;CN="Saint John Theatre Company":MAILTO:lise.driscoll@saintjohntheatrecompany.com
END:VEVENT
BEGIN:VEVENT
DTSTART;TZID=America/Halifax:20250719T193000
DTEND;TZID=America/Halifax:20250719T220000
DTSTAMP:20260420T221348
CREATED:20250609T193155Z
LAST-MODIFIED:20250609T193226Z
UID:10011846-1752953400-1752962400@uptownsj.com
SUMMARY:The Tempest
DESCRIPTION:The Tempest\nJuly 16-26\, 2025 | Place Fort La Tour\nGet ready for an unforgettable journey into the mystical world of ‘The Tempest’ this summer at Place Fort La Tour! Join us July 16-26\, 2025\, as director Sandra Bell brings Shakespeare’s tale of magic\, revenge\, and redemption to life on the stunning Saint John Harbourfront.\nTo purchase tickets please visit www.saintjohntheatrecompany.com or call 506-652-7582.
URL:https://uptownsj.com/event/the-tempest/2025-07-19/
LOCATION:Place Fort La Tour\, Fort Latour Drive\, Saint John\, NB\, E2K 5L6\, Canada
CATEGORIES:Theatre
ATTACH;FMTTYPE=image/jpeg:https://uptownsj.com/wp-content/uploads/2025/05/TempestSocial.jpg
ORGANIZER;CN="Saint John Theatre Company":MAILTO:lise.driscoll@saintjohntheatrecompany.com
END:VEVENT
END:VCALENDAR