BEGIN:VCALENDAR
VERSION:2.0
PRODID:-//Uptown Saint John - ECPv6.15.20//NONSGML v1.0//EN
CALSCALE:GREGORIAN
METHOD:PUBLISH
X-WR-CALNAME:Uptown Saint John
X-ORIGINAL-URL:https://uptownsj.com
X-WR-CALDESC:Events for Uptown Saint John
REFRESH-INTERVAL;VALUE=DURATION:PT1H
X-Robots-Tag:noindex
X-PUBLISHED-TTL:PT1H
BEGIN:VTIMEZONE
TZID:America/Halifax
BEGIN:DAYLIGHT
TZOFFSETFROM:-0400
TZOFFSETTO:-0300
TZNAME:ADT
DTSTART:20240310T060000
END:DAYLIGHT
BEGIN:STANDARD
TZOFFSETFROM:-0300
TZOFFSETTO:-0400
TZNAME:AST
DTSTART:20241103T050000
END:STANDARD
BEGIN:DAYLIGHT
TZOFFSETFROM:-0400
TZOFFSETTO:-0300
TZNAME:ADT
DTSTART:20250309T060000
END:DAYLIGHT
BEGIN:STANDARD
TZOFFSETFROM:-0300
TZOFFSETTO:-0400
TZNAME:AST
DTSTART:20251102T050000
END:STANDARD
BEGIN:DAYLIGHT
TZOFFSETFROM:-0400
TZOFFSETTO:-0300
TZNAME:ADT
DTSTART:20260308T060000
END:DAYLIGHT
BEGIN:STANDARD
TZOFFSETFROM:-0300
TZOFFSETTO:-0400
TZNAME:AST
DTSTART:20261101T050000
END:STANDARD
END:VTIMEZONE
BEGIN:VEVENT
DTSTART;TZID=America/Halifax:20250512T190000
DTEND;TZID=America/Halifax:20250512T210000
DTSTAMP:20260421T210946
CREATED:20240610T194232Z
LAST-MODIFIED:20240610T194232Z
UID:10007815-1747076400-1747083600@uptownsj.com
SUMMARY:Retro Film: National Lampoon’s Vacation (1983)
DESCRIPTION:The Griswold family’s cross-country drive to the Walley World theme park proves to be much more arduous than they ever anticipated.
URL:https://uptownsj.com/event/retro-film-national-lampoons-vacation-1983/
LOCATION:Imperial Theatre\, 12 King Square S.\, Saint John
CATEGORIES:Theatre
END:VEVENT
BEGIN:VEVENT
DTSTART;TZID=America/Halifax:20250514T173000
DTEND;TZID=America/Halifax:20250514T193000
DTSTAMP:20260421T210946
CREATED:20250506T121114Z
LAST-MODIFIED:20250506T121114Z
UID:10011837-1747243800-1747251000@uptownsj.com
SUMMARY:Rainbow Entrepreneurship Workshop Series: The Confidence Lab with CJ Norris
DESCRIPTION:Are you a member of the 2SLGBTQI+ business and/or creative communities in the greater Saint John area? Please join us for the third installment of our Rainbow Entrepreneurship Workshop Series: The Confidence Lab with CJ Norris\, a multi-disciplinary performing artist\, theatre creator\, arts facilitator\, and event host based in Moncton\, NB. \nCreatives and entrepreneurs share a common need for self-representation in both public and intimate settings. From exhibitions\, to conferences\, and even coffee meetings\, carrying yourself with clarity and confidence can fully shift how you feel about yourself\, and how you’re perceived. “The Confidence Lab” is a workshop for 2SLGBTQI+ entrepreneurs to level-up their public speaking and conversational abilities. \nParticipants will use what makes them unique and interesting\, and pair it with standard confidence practices like audience engagement and verbal pacing. In the end\, they’ll have a new-found confidence in sharing their authentic selves and work with the world. If you have any questions about this workshop\, please email our program manager at sam.delduca@chromanb.ca. \nBe sure to register on Eventbrite: https://bit.ly/4m2zELQ \nThis event is hosted by Chroma NB and our partners Envision Saint John and Fusion Saint John. We would like to thank Canada’s 2SLGBTQI+ Chamber of Commerce and the Government of Canada for supporting this impactful work through the 2SLGBTQI+ Entrepreneurship Ecosystem Fund.
URL:https://uptownsj.com/event/rainbow-entrepreneurship-workshop-series-the-confidence-lab-with-cj-norris/
LOCATION:Envision Saint John\, 1 Germain Street\, Saint John\, E2L 2G9
CATEGORIES:Community,Food,Free,Networking
ATTACH;FMTTYPE=image/png:https://uptownsj.com/wp-content/uploads/2025/05/REP-CJ-Norris-May-2025-FB-Event.png
ORGANIZER;CN="Chroma NB":MAILTO:query@chroma.ca
END:VEVENT
BEGIN:VEVENT
DTSTART;TZID=America/Halifax:20250516T123000
DTEND;TZID=America/Halifax:20250516T133000
DTSTAMP:20260421T210946
CREATED:20250506T121027Z
LAST-MODIFIED:20250506T121027Z
UID:10011838-1747398600-1747402200@uptownsj.com
SUMMARY:Pride Flag Raising for International Day Against Homophobia\, Biphobia & Transphobia
DESCRIPTION:2SLGBTQIA+ folks and allies are invited to join Chroma NB for our annual flag raising in celebration of International Day Against Homophobia\, Transphobia\, and Biphobia. \nWe will be gathering in front of Saint John City Hall on Friday\, May 16th (one day early due to the weekend) at 12:30pm for speeches\, a reading by a local poet\, and of course raising the Progress Pride flag. \nIDAHOBIT was established to commemorate the 1990 decision of the World Health Organization to remove homosexuality from its International Classification of Diseases. We will gather to celebrate and reaffirm progress made by the 2SLGBTQIA+ community\, and also acknowledge the work left to do to obtain true equality.
URL:https://uptownsj.com/event/pride-flag-raising-for-international-day-against-homophobia-biphobia-transphobia/
LOCATION:Saint John City Hall\, 15 Market Square\, Saint John\, New Brunswick\, E2L 4L1\, Canada
CATEGORIES:Cultural Event,Free
ATTACH;FMTTYPE=image/png:https://uptownsj.com/wp-content/uploads/2025/05/Flag-Raising-FB-Event.png
ORGANIZER;CN="Chroma NB":MAILTO:query@chroma.ca
END:VEVENT
BEGIN:VEVENT
DTSTART;TZID=America/Halifax:20250516T190000
DTEND;TZID=America/Halifax:20250516T210000
DTSTAMP:20260421T210946
CREATED:20250213T150005Z
LAST-MODIFIED:20250213T150005Z
UID:10011057-1747422000-1747429200@uptownsj.com
SUMMARY:Live JAZZ at the Gallery
DESCRIPTION:Every Friday\, from 7 – 9\, join us for an amazing evening of Jazz music and feel like you are in NYC ! Trinity Galleries brings you the best in visual and musical arts in Atlantic Canada.
URL:https://uptownsj.com/event/live-jazz-at-the-gallery/2025-05-16/
LOCATION:Trinity Galleries\, 128 GERMAIN ST.\, SAINT JOHN\, New Brunswick\, E2L 2E7\, Canada
CATEGORIES:Art,Cultural Event,Live Music
ATTACH;FMTTYPE=image/jpeg:https://uptownsj.com/wp-content/uploads/2025/02/IMG_2367-3.jpg
ORGANIZER;CN="Trinity Galleries":MAILTO:art@trintygalleries.ca
END:VEVENT
BEGIN:VEVENT
DTSTART;TZID=America/Halifax:20250516T190000
DTEND;TZID=America/Halifax:20250516T210000
DTSTAMP:20260421T210946
CREATED:20250512T123049Z
LAST-MODIFIED:20250512T123049Z
UID:10011842-1747422000-1747429200@uptownsj.com
SUMMARY:Portrait in Jazz - Celebrating the Music of Bill Evans
DESCRIPTION:Trinity Galleries Friday jazz series presents a celebration of the iconic jazz pianist Bill Evans. This show will feature music spanning Evans’ career from the early Village Vanguard recordings to his later\, more introspective work. Admission is $20 and seating will be limited so reservations are recommended. Call the gallery at 506-634-1611 to book your space.
URL:https://uptownsj.com/event/portrait-in-jazz-celebrating-the-music-of-bill-evans/
LOCATION:Trinity Galleries\, 128 GERMAIN ST.\, SAINT JOHN\, New Brunswick\, E2L 2E7\, Canada
CATEGORIES:Live Music
ATTACH;FMTTYPE=image/png:https://uptownsj.com/wp-content/uploads/2025/05/Add-a-subheading.png
END:VEVENT
END:VCALENDAR