BEGIN:VCALENDAR
VERSION:2.0
PRODID:-//Uptown Saint John - ECPv6.15.20//NONSGML v1.0//EN
CALSCALE:GREGORIAN
METHOD:PUBLISH
X-WR-CALNAME:Uptown Saint John
X-ORIGINAL-URL:https://uptownsj.com
X-WR-CALDESC:Events for Uptown Saint John
REFRESH-INTERVAL;VALUE=DURATION:PT1H
X-Robots-Tag:noindex
X-PUBLISHED-TTL:PT1H
BEGIN:VTIMEZONE
TZID:America/Halifax
BEGIN:DAYLIGHT
TZOFFSETFROM:-0400
TZOFFSETTO:-0300
TZNAME:ADT
DTSTART:20250309T060000
END:DAYLIGHT
BEGIN:STANDARD
TZOFFSETFROM:-0300
TZOFFSETTO:-0400
TZNAME:AST
DTSTART:20251102T050000
END:STANDARD
BEGIN:DAYLIGHT
TZOFFSETFROM:-0400
TZOFFSETTO:-0300
TZNAME:ADT
DTSTART:20260308T060000
END:DAYLIGHT
BEGIN:STANDARD
TZOFFSETFROM:-0300
TZOFFSETTO:-0400
TZNAME:AST
DTSTART:20261101T050000
END:STANDARD
BEGIN:DAYLIGHT
TZOFFSETFROM:-0400
TZOFFSETTO:-0300
TZNAME:ADT
DTSTART:20270314T060000
END:DAYLIGHT
BEGIN:STANDARD
TZOFFSETFROM:-0300
TZOFFSETTO:-0400
TZNAME:AST
DTSTART:20271107T050000
END:STANDARD
END:VTIMEZONE
BEGIN:VEVENT
DTSTART;TZID=America/Halifax:20260520T193000
DTEND;TZID=America/Halifax:20260520T213000
DTSTAMP:20260420T114516
CREATED:20260324T121834Z
LAST-MODIFIED:20260324T121834Z
UID:10029059-1779305400-1779312600@uptownsj.com
SUMMARY:Mamma Mia!
DESCRIPTION:Join us for a celebration of our 100th show at Imperial Theatre featuring an encore performance of one of our most beloved shows! Mamma Mia! has captured the hearts of audiences around the world for over two decades. This phenomenal musical\, featuring the timeless songs of ABBA\, has become a global sensation\, enjoyed by millions of people across continents.
URL:https://uptownsj.com/event/mamma-mia/2026-05-20/
LOCATION:Imperial Theatre\, 12 King Square S.\, Saint John
CATEGORIES:Theatre
ATTACH;FMTTYPE=image/jpeg:https://uptownsj.com/wp-content/uploads/2026/03/MammaMia_square.jpg
ORGANIZER;CN="Saint John Theatre Company":MAILTO:lise.driscoll@saintjohntheatrecompany.com
END:VEVENT
BEGIN:VEVENT
DTSTART;TZID=America/Halifax:20260521T193000
DTEND;TZID=America/Halifax:20260521T213000
DTSTAMP:20260420T114516
CREATED:20260324T121834Z
LAST-MODIFIED:20260324T121834Z
UID:10029060-1779391800-1779399000@uptownsj.com
SUMMARY:Mamma Mia!
DESCRIPTION:Join us for a celebration of our 100th show at Imperial Theatre featuring an encore performance of one of our most beloved shows! Mamma Mia! has captured the hearts of audiences around the world for over two decades. This phenomenal musical\, featuring the timeless songs of ABBA\, has become a global sensation\, enjoyed by millions of people across continents.
URL:https://uptownsj.com/event/mamma-mia/2026-05-21/
LOCATION:Imperial Theatre\, 12 King Square S.\, Saint John
CATEGORIES:Theatre
ATTACH;FMTTYPE=image/jpeg:https://uptownsj.com/wp-content/uploads/2026/03/MammaMia_square.jpg
ORGANIZER;CN="Saint John Theatre Company":MAILTO:lise.driscoll@saintjohntheatrecompany.com
END:VEVENT
BEGIN:VEVENT
DTSTART;TZID=America/Halifax:20260522T193000
DTEND;TZID=America/Halifax:20260522T213000
DTSTAMP:20260420T114516
CREATED:20260324T121834Z
LAST-MODIFIED:20260324T121834Z
UID:10029061-1779478200-1779485400@uptownsj.com
SUMMARY:Mamma Mia!
DESCRIPTION:Join us for a celebration of our 100th show at Imperial Theatre featuring an encore performance of one of our most beloved shows! Mamma Mia! has captured the hearts of audiences around the world for over two decades. This phenomenal musical\, featuring the timeless songs of ABBA\, has become a global sensation\, enjoyed by millions of people across continents.
URL:https://uptownsj.com/event/mamma-mia/2026-05-22/
LOCATION:Imperial Theatre\, 12 King Square S.\, Saint John
CATEGORIES:Theatre
ATTACH;FMTTYPE=image/jpeg:https://uptownsj.com/wp-content/uploads/2026/03/MammaMia_square.jpg
ORGANIZER;CN="Saint John Theatre Company":MAILTO:lise.driscoll@saintjohntheatrecompany.com
END:VEVENT
BEGIN:VEVENT
DTSTART;TZID=America/Halifax:20260523T193000
DTEND;TZID=America/Halifax:20260523T213000
DTSTAMP:20260420T114516
CREATED:20260324T121834Z
LAST-MODIFIED:20260324T121834Z
UID:10029062-1779564600-1779571800@uptownsj.com
SUMMARY:Mamma Mia!
DESCRIPTION:Join us for a celebration of our 100th show at Imperial Theatre featuring an encore performance of one of our most beloved shows! Mamma Mia! has captured the hearts of audiences around the world for over two decades. This phenomenal musical\, featuring the timeless songs of ABBA\, has become a global sensation\, enjoyed by millions of people across continents.
URL:https://uptownsj.com/event/mamma-mia/2026-05-23/
LOCATION:Imperial Theatre\, 12 King Square S.\, Saint John
CATEGORIES:Theatre
ATTACH;FMTTYPE=image/jpeg:https://uptownsj.com/wp-content/uploads/2026/03/MammaMia_square.jpg
ORGANIZER;CN="Saint John Theatre Company":MAILTO:lise.driscoll@saintjohntheatrecompany.com
END:VEVENT
BEGIN:VEVENT
DTSTART;TZID=America/Halifax:20260524T193000
DTEND;TZID=America/Halifax:20260524T213000
DTSTAMP:20260420T114516
CREATED:20260324T121834Z
LAST-MODIFIED:20260324T121834Z
UID:10029063-1779651000-1779658200@uptownsj.com
SUMMARY:Mamma Mia!
DESCRIPTION:Join us for a celebration of our 100th show at Imperial Theatre featuring an encore performance of one of our most beloved shows! Mamma Mia! has captured the hearts of audiences around the world for over two decades. This phenomenal musical\, featuring the timeless songs of ABBA\, has become a global sensation\, enjoyed by millions of people across continents.
URL:https://uptownsj.com/event/mamma-mia/2026-05-24/
LOCATION:Imperial Theatre\, 12 King Square S.\, Saint John
CATEGORIES:Theatre
ATTACH;FMTTYPE=image/jpeg:https://uptownsj.com/wp-content/uploads/2026/03/MammaMia_square.jpg
ORGANIZER;CN="Saint John Theatre Company":MAILTO:lise.driscoll@saintjohntheatrecompany.com
END:VEVENT
END:VCALENDAR