BEGIN:VCALENDAR
VERSION:2.0
PRODID:-//Uptown Saint John - ECPv6.15.20//NONSGML v1.0//EN
CALSCALE:GREGORIAN
METHOD:PUBLISH
X-ORIGINAL-URL:https://uptownsj.com
X-WR-CALDESC:Events for Uptown Saint John
REFRESH-INTERVAL;VALUE=DURATION:PT1H
X-Robots-Tag:noindex
X-PUBLISHED-TTL:PT1H
BEGIN:VTIMEZONE
TZID:America/Halifax
BEGIN:DAYLIGHT
TZOFFSETFROM:-0400
TZOFFSETTO:-0300
TZNAME:ADT
DTSTART:20250309T060000
END:DAYLIGHT
BEGIN:STANDARD
TZOFFSETFROM:-0300
TZOFFSETTO:-0400
TZNAME:AST
DTSTART:20251102T050000
END:STANDARD
BEGIN:DAYLIGHT
TZOFFSETFROM:-0400
TZOFFSETTO:-0300
TZNAME:ADT
DTSTART:20260308T060000
END:DAYLIGHT
BEGIN:STANDARD
TZOFFSETFROM:-0300
TZOFFSETTO:-0400
TZNAME:AST
DTSTART:20261101T050000
END:STANDARD
BEGIN:DAYLIGHT
TZOFFSETFROM:-0400
TZOFFSETTO:-0300
TZNAME:ADT
DTSTART:20270314T060000
END:DAYLIGHT
BEGIN:STANDARD
TZOFFSETFROM:-0300
TZOFFSETTO:-0400
TZNAME:AST
DTSTART:20271107T050000
END:STANDARD
END:VTIMEZONE
BEGIN:VEVENT
DTSTART;TZID=America/Halifax:20260507T193000
DTEND;TZID=America/Halifax:20260507T213000
DTSTAMP:20260420T115332
CREATED:20250617T133250Z
LAST-MODIFIED:20250617T133250Z
UID:10012661-1778182200-1778189400@uptownsj.com
SUMMARY:Kalabanté Afrique en Cirque
DESCRIPTION:Kalabanté Productions was created by Yamoussa Bangoura\, a multidisciplinary artist of Guinean origin.  Yamoussa’s long term dream was the founding of a school of circus arts\, and direct his own multidisciplinary company specializing in the African arts.  As the company director he develops his own shows which over the past several years have been increasingly gathering attention and recognition in the Quebec circus arts community and worldwide.  Kô Ryass\, and other shows such as Kumbaya\, Uno\, Kira Nene and Afrique en Cirque have been created and performed worldwide.  Several new projects are in development for the coming years\, which will continue to disseminate and promote the values of the company. \nYamoussa first became interested in the Circus Arts as a young man growing up in Conakry Guinea in the 1990’s.   He studied the circus performers he saw on European TV and practiced on the beach and dirt around his home. He also studied the Nyamakala tradition of circus\, practiced by the Fula people of West Africa. He eventually joined Guinea’s original circus company\, Circus Baobob. with whom he toured Africa and Europe.  With this company he was able to spend time in Spain and France where he honed many of the European style circus skills. \nIn the early 2000’s\, he was recruited to come to Canada with Cirque Eloize\, a Montreal based Canadian cirque company. \n 
URL:https://uptownsj.com/event/kalabante-afrique-en-cirque/
LOCATION:Imperial Theatre\, 12 King Square S.\, Saint John
CATEGORIES:Theatre
ATTACH;FMTTYPE=image/png:https://uptownsj.com/wp-content/uploads/2025/06/Kalabante.png
END:VEVENT
END:VCALENDAR